Workbook

Sheet Alternative 1
A1: Cement and Asphalt Quantities Reporting Sheet | D1: Project Name: | G1: Project Manager: | K1: Phone Number:
A2: CAST-IN-PLACE CEMENT CONCRETE | B2: Use (Roadway, Sidewalk, Curb, Structural, etc.) | C2: CY | D2: Lbs cement/CY | E2: % of fly ash or Slag IN CEMENT MIX | F2: % Recycled Materials | G2: Supplier | H2: Notes | L2: Emissions (MTCO2e) | O2: Total Lbs Cement
A3: Concrete Mix 1 | L3: =(C3*D3*(1-E3)*0.9)/2204.62 -> 0 | O3: =D3*C3 -> 0
A4: Concrete Mix 2 | L4: =(C4*D4*(1-E4)*0.9)/2204.62 -> 0 | O4: =D4*C4 -> 0
A5: Concrete Mix 3 | L5: =(C5*D5*(1-E5)*0.9)/2204.62 -> 0 | O5: =D5*C5 -> 0
A6: Concrete Mix 4 | L6: =(C6*D6*(1-E6)*0.9)/2204.62 -> 0 | O6: =D6*C6 -> 0
A7: Concrete Mix 5 | L7: =(C7*D7*(1-E7)*0.9)/2204.62 -> 0 | O7: =D7*C7 -> 0
A8: Concrete Mix 6 | L8: =(C8*D8*(1-E8)*0.9)/2204.62 -> 0 | O8: =D8*C8 -> 0
A9: Concrete Mix 7 | L9: =(C9*D9*(1-E9)*0.9)/2204.62 -> 0 | O9: =D9*C9 -> 0
O10: =D10*C10 -> 0
A11: PRECAST CEMENT CONCRETE | B11: Item name | C11: CY concrete/item | D11: # of items | E11: Lbs cement/CY | F11: % of Fly ash or Slag IN CEMENT MIX | G11: % Recycled Materials | H11: Supplier | I11: Notes | L11: Emissions (MTCO2e) | N11: Total CY | O11: Total Lbs Cement
A12: Item 1 | L12: =(C12*D12*E12*(1-F12)*0.9)/2204.62 -> 0 | N12: =C12*D12 -> 0 | O12: =E12*D12*C12 -> 0
A13: Item 2 | L13: =(C13*D13*E13*(1-F13)*0.9)/2204.62 -> 0 | N13: =C13*D13 -> 0 | O13: =E13*D13*C13 -> 0
A14: Item 3 | L14: =(C14*D14*E14*(1-F14)*0.9)/2204.62 -> 0 | N14: =C14*D14 -> 0 | O14: =E14*D14*C14 -> 0
A15: Item 4 | L15: =(C15*D15*E15*(1-F15)*0.9)/2204.62 -> 0 | N15: =C15*D15 -> 0 | O15: =E15*D15*C15 -> 0
A16: Item 5 | L16: =(C16*D16*E16*(1-F16)*0.9)/2204.62 -> 0 | N16: =C16*D16 -> 0 | O16: =E16*D16*C16 -> 0
A18: ASPHALT CONCRETE | B18: Use (Roadway, Pavement Patch etc.) | C18: Weight (Tons) | D18: Hot Mix/Warm Mix? | E18: Temperature | F18: Warm Mix Method (if applicable) | G18: % Recycled Asphalt Pavement | H18: % Recycled Asphalt Shingles | I18: Supplier | J18: Notes | L18: Emissions (MTCO2e)
A19: Asphalt Mix 1 | L19: =C19*((E19*0.0003)-(0.08*G19+0.08*H19)) -> 0
A20: Asphalt Mix 2 | L20: =C20*((E20*0.0003)-(0.08*G20+0.08*H20)) -> 0
A21: Asphalt Mix 3 | L21: =C21*((E21*0.0003)-(0.08*G21+0.08*H21)) -> 0
A23: Please write any additional comments, questions or concerns here: | L23: Total Emissions
L24: =SUM(L3:L9)+SUM(L12:L16)+SUM(L19:L21) -> 0
A31: Jake Tracy -- Master of Urban Planning Program -- University of Washington -- 2015
A32: Questions? Email jake.tracy88@gmail.com

Sheet Alternative 2
A1: Cement and Asphalt Quantities Reporting Sheet | D1: Project Name: | G1: Project Manager: | J1: Phone Number:
A2: CAST-IN-PLACE CEMENT CONCRETE | B2: Use (Roadway, Sidewalk, Curb, Structural, etc.) | C2: CY | D2: Lbs cement/CY | E2: % of fly ash or Slag IN CEMENT MIX | F2: % Recycled Materials | G2: Supplier | H2: Notes | L2: Emissions (MTCO2e) | O2: Total Lbs Cement
A3: Concrete Mix 1 | L3: =(C3*D3*(1-E3)*0.9)/2204.62 -> 0 | O3: =D3*C3 -> 0
A4: Concrete Mix 2 | L4: =(C4*D4*(1-E4)*0.9)/2204.62 -> 0 | O4: =D4*C4 -> 0
A5: Concrete Mix 3 | L5: =(C5*D5*(1-E5)*0.9)/2204.62 -> 0 | O5: =D5*C5 -> 0
A6: Concrete Mix 4 | L6: =(C6*D6*(1-E6)*0.9)/2204.62 -> 0 | O6: =D6*C6 -> 0
A7: Concrete Mix 5 | L7: =(C7*D7*(1-E7)*0.9)/2204.62 -> 0 | O7: =D7*C7 -> 0
A8: Concrete Mix 6 | L8: =(C8*D8*(1-E8)*0.9)/2204.62 -> 0 | O8: =D8*C8 -> 0
A9: Concrete Mix 7 | L9: =(C9*D9*(1-E9)*0.9)/2204.62 -> 0 | O9: =D9*C9 -> 0
A11: PRECAST CEMENT CONCRETE | B11: Item name | C11: CY concrete/item | D11: # of items | E11: Lbs cement/CY | F11: % of fly ash or Slag IN CEMENT MIX | G11: % Recycled Materials | H11: Supplier | I11: Notes | L11: Emissions (MTCO2e) | N11: Total CY | O11: Total Lbs Cement
A12: Item 1 | L12: =(C12*D12*E12*(1-F12)*0.9)/2204.62 -> 0 | N12: =C12*D12 -> 0 | O12: =E12*D12*C12 -> 0
A13: Item 2 | L13: =(C13*D13*E13*(1-F13)*0.9)/2204.62 -> 0 | N13: =C13*D13 -> 0 | O13: =E13*D13*C13 -> 0
A14: Item 3 | L14: =(C14*D14*E14*(1-F14)*0.9)/2204.62 -> 0 | N14: =C14*D14 -> 0 | O14: =E14*D14*C14 -> 0
A15: Item 4 | L15: =(C15*D15*E15*(1-F15)*0.9)/2204.62 -> 0 | N15: =C15*D15 -> 0 | O15: =E15*D15*C15 -> 0
A16: Item 5 | L16: =(C16*D16*E16*(1-F16)*0.9)/2204.62 -> 0 | N16: =C16*D16 -> 0 | O16: =E16*D16*C16 -> 0
A18: ASPHALT CONCRETE | B18: Use (Roadway, Pavement Patch etc.) | C18: Weight (Tons) | D18: Hot Mix/Warm Mix? | E18: Temperature | F18: Warm Mix Method (if applicable) | G18: % Recycled Asphalt Pavement | H18: % Recycled Asphalt Shingles | I18: Supplier | J18: Notes | L18: Emissions (MTCO2e)
A19: Asphalt Mix 1 | L19: =C19*((E19*0.0003)-(0.08*G19+0.08*H19)) -> 0
A20: Asphalt Mix 2 | L20: =C20*((E20*0.0003)-(0.08*G20+0.08*H20)) -> 0
A21: Asphalt Mix 3 | L21: =C21*((E21*0.0003)-(0.08*G21+0.08*H21)) -> 0
A23: Please write any additional comments, questions or concerns here: | L23: Total Emissions
L24: =SUM(L3:L9)+SUM(L12:L16)+SUM(L19:L21) -> 0

Sheet Alternative 3
A1: Cement and Asphalt Quantities Reporting Sheet | D1: Project Name: | G1: Project Manager: | K1: Phone Number:
A2: CAST-IN-PLACE CEMENT CONCRETE | B2: Use (Roadway, Sidewalk, Curb, Structural, etc.) | C2: CY | D2: Lbs cement/CY | E2: % of fly ash or Slag IN CEMENT MIX | F2: % Recycled Materials | G2: Supplier | H2: Notes | L2: Emissions (MTCO2e) | O2: Total Lbs Cement
A3: Concrete Mix 1 | L3: =(C3*D3*(1-E3)*0.9)/2204.62 -> 0 | O3: =D3*C3 -> 0
A4: Concrete Mix 2 | L4: =(C4*D4*(1-E4)*0.9)/2204.62 -> 0 | O4: =D4*C4 -> 0
A5: Concrete Mix 3 | L5: =(C5*D5*(1-E5)*0.9)/2204.62 -> 0 | O5: =D5*C5 -> 0
A6: Concrete Mix 4 | L6: =(C6*D6*(1-E6)*0.9)/2204.62 -> 0 | O6: =D6*C6 -> 0
A7: Concrete Mix 5 | L7: =(C7*D7*(1-E7)*0.9)/2204.62 -> 0 | O7: =D7*C7 -> 0
A8: Concrete Mix 6 | L8: =(C8*D8*(1-E8)*0.9)/2204.62 -> 0 | O8: =D8*C8 -> 0
A9: Concrete Mix 7 | L9: =(C9*D9*(1-E9)*0.9)/2204.62 -> 0 | O9: =D9*C9 -> 0
O10: =D10*C10 -> 0
A11: PRECAST CEMENT CONCRETE | B11: Item name | C11: CY concrete/item | D11: # of items | E11: Lbs cement/CY | F11: % of Fly Ash or Slag IN CEMENT MIX | G11: % Recycled Materials | H11: Supplier | I11: Notes | L11: Emissions (MTCO2e) | N11: Total CY | O11: Total Lbs Cement
A12: Item 1 | L12: =(C12*D12*E12*(1-F12)*0.9)/2204.62 -> 0 | N12: 0 | O12: 0
A13: Item 2 | L13: =(C13*D13*E13*(1-F13)*0.9)/2204.62 -> 0 | N13: 0 | O13: 0
A14: Item 3 | L14: =(C14*D14*E14*(1-F14)*0.9)/2204.62 -> 0 | N14: 0 | O14: 0
A15: Item 4 | L15: =(C15*D15*E15*(1-F15)*0.9)/2204.62 -> 0 | N15: 0 | O15: 0
A16: Item 5 | L16: =(C16*D16*E16*(1-F16)*0.9)/2204.62 -> 0 | N16: 0 | O16: 0
A18: ASPHALT CONCRETE | B18: Use (Roadway, Pavement Patch etc.) | C18: Weight (Tons) | D18: Hot Mix/Warm Mix? | E18: Temperature | F18: Warm Mix Method (if applicable) | G18: % Recycled Asphalt Pavement | H18: % Recycled Asphalt Shingles | I18: Supplier | J18: Notes | L18: Emissions (MTCO2e)
A19: Asphalt Mix 1 | L19: =C19*((E19*0.0003)-(0.08*G19+0.08*H19)) -> 0
A20: Asphalt Mix 2 | L20: =C20*((E20*0.0003)-(0.08*G20+0.08*H20)) -> 0
A21: Asphalt Mix 3 | L21: =C21*((E21*0.0003)-(0.08*G21+0.08*H21)) -> 0
A23: Please write any additional comments, questions or concerns here: | L23: Total Emissions
L24: =SUM(L3:L9)+SUM(L12:L16)+SUM(L19:L21) -> 0

Sheet AltEval
A1: CSO Basin #1
A2: Criteria | B2: Units | C2: Alternative 1 | D2: Alternative 2 | E2: Alternative 3
A3: Scale | B3: Total Cast-in-Place Cement Concrete (CY) | C3: =SUM('Alternative 1'!C3:C9) -> 0 | D3: =SUM('Alternative 2'!C3:C9) -> 0 | E3: =SUM('Alternative 3'!C3:C9) -> 0
B4: Total Precast Cement Concrete (CY) | C4: ='Alternative 1'!C12*'Alternative 1'!D12+'Alternative 1'!C13*'Alternative 1'!D13+'Alternative 1'!C14*'Alternative 1'!D14+'Alternative 1'!C15*'Alternative 1'!D15+'Alternative 1'!C16*'Alternative 1'!D16 -> 0 | D4: ='Alternative 2'!C12*'Alternative 2'!D12+'Alternative 2'!C13*'Alternative 2'!D13+'Alternative 2'!C14*'Alternative 2'!D14+'Alternative 2'!C15*'Alternative 2'!D15+'Alternative 2'!C16*'Alternative 2'!D16 -> 0 | E4: ='Alternative 3'!C12*'Alternative 3'!D12+'Alternative 3'!C13*'Alternative 3'!D13+'Alternative 3'!C14*'Alternative 3'!D14+'Alternative 3'!C15*'Alternative 3'!D15+'Alternative 3'!C16*'Alternative 3'!D16 -> 0
B5: Total Asphalt (tons) | C5: =SUM('Alternative 1'!C19:C21) -> 0 | D5: =SUM('Alternative 2'!C19:C21) -> 0 | E5: =SUM('Alternative 3'!C19:C21) -> 0
B6: Design Descriptor
A7: GHG-Reducing Technologies - Cement Concrete | B7: Cement/CY | C7: =(SUM('Alternative 1'!O3:'Alternative 1'!O16))/(SUM('Alternative 1'!C3:'Alternative 1'!C9,'Alternative 1'!N12:N16)) -> #DIV/0! | D7: =(SUM('Alternative 2'!O3:O16))/(SUM('Alternative 2'!C3:C9,'Alternative 2'!N12:N16)) -> #DIV/0! | E7: =(SUM('Alternative 3'!O3:O16))/(SUM('Alternative 3'!C3:C9,'Alternative 3'!N12:N16)) -> #DIV/0!
B8: MTCO2e/CY | C8: =(SUM('Alternative 1'!L3:L9,'Alternative 1'!L12:L16))/(SUM('Alternative 1'!C3:C9,'Alternative 1'!N12:N16)) -> #DIV/0! | D8: =(SUM('Alternative 2'!L3:L9,'Alternative 2'!L12:L16))/(SUM('Alternative 2'!C3:C9,'Alternative 2'!N12:N16)) -> #DIV/0! | E8: =(SUM('Alternative 3'!L3:L9,'Alternative 3'!L12:L16))/(SUM('Alternative 3'!C3:C9,'Alternative 3'!N12:N16)) -> #DIV/0!
A10: GHG-Reducing Technologies - Asphalt Concrete | B10: Percentage HMA
B11: Percentage Virgin Materials | C11: =((('Alternative 1'!G19+'Alternative 1'!H19)*'Alternative 1'!C19)+(('Alternative 1'!H20+'Alternative 1'!G20)*'Alternative 1'!C20)+(('Alternative 1'!G21+'Alternative 1'!H21)*'Alternative 1'!C21))/SUM('Alternative 1'!C19:C21) -> #DIV/0! | D11: =((('Alternative 2'!G19+'Alternative 2'!H19)*'Alternative 2'!C19)+(('Alternative 2'!H20+'Alternative 2'!G20)*'Alternative 2'!C20)+(('Alternative 2'!G21+'Alternative 2'!H21)*'Alternative 2'!C21))/SUM('Alternative 2'!C19:C21) -> #DIV/0! | E11: =((('Alternative 3'!G19+'Alternative 3'!H19)*'Alternative 3'!C19)+(('Alternative 3'!H20+'Alternative 3'!G20)*'Alternative 3'!C20)+(('Alternative 3'!G21+'Alternative 3'!H21)*'Alternative 3'!C21))/SUM('Alternative 3'!C19:C21) -> #DIV/0!
B12: MTCO2e/ton | C12: =(SUM('Alternative 1'!L19:L21))/(SUM('Alternative 1'!C19:C21)) -> #DIV/0! | D12: =(SUM('Alternative 2'!L19:'Alternative 2'!L21))/(SUM('Alternative 2'!C19:C21)) -> #DIV/0! | E12: =(SUM('Alternative 3'!L19:L21))/(SUM('Alternative 3'!C19:C21)) -> #DIV/0!
A13: Total GHG Emissions | B13: %MTCO2 Compared to Alt One | C13: =C14/C14 -> #DIV/0! | D13: =D14/C14 -> #DIV/0! | E13: =E14/C14 -> #DIV/0!
B14: MTCO2e | C14: ='Alternative 1'!L24 -> 0 | D14: ='Alternative 2'!L24 -> 0 | E14: ='Alternative 3'!L24 -> 0
A15: Cost of Materials | B15: Percent compared to Alt One | C15: =C16/C16 -> #DIV/0! | D15: =D16/C16 -> #DIV/0! | E15: =E16/C16 -> #DIV/0!
B16: Cost
