Workbook

Sheet Jul-Sep 2013
A1: Unit | B1: Initial Circ | C1: Renewals | D1: Reserves | E1: In Library use | F1: Total This Quarter | G1: Change from. 12/13
A2: Suzzallo/Allen Units
A3: Suzzallo Allen In-Lib Use | E3: 26266
A4: Circulation | B4: 38902 | C4: 70103 | D4: 0 | E4: 11661 | F4: =SUM(B4:E4) -> 120666
A5: Government Publications | B5: 1003 | C5: 657 | D5: 0 | E5: 1230 | F5: =SUM(B5:E5) -> 2890
A6: Maps | B6: 347 | C6: 1207 | D6: 0 | E6: 21 | F6: =SUM(B6:E6) -> 1575
A7: Media Center | B7: 6371 | C7: 7725 | D7: 339 | E7: 0 | F7: =SUM(B7:E7) -> 14435
A8: Microforms-Newspapers | B8: 621 | C8: 0 | D8: 562 | E8: 3888 | F8: =SUM(B8:E8) -> 5071
A9: Special Collections | B9: 12 | C9: 0 | D9: 0 | E9: 5757 | F9: =SUM(B9:E9) -> 5769
A10: SUZZALLO/ALLEN TOTAL | B10: =SUM(B4:B9) -> 47256 | C10: =SUM(C4:C9) -> 79692 | D10: =SUM(D4:D9) -> 901 | E10: =SUM(E3:E9) -> 48823 | F10: =SUM(B10:E10) -> 176672 | G10: =F10/247612-1 -> -0.28649662
A12: Branch Units
A13: Art | B13: 1980 | C13: 3054 | D13: 104 | E13: 1999 | F13: =SUM(B13:E13) -> 7137 | G13: =F13/9801-1 -> -0.271809
A14: Built Environments | B14: 1525 | C14: 1705 | D14: 21 | E14: 1398 | F14: =SUM(B14:E14) -> 4649 | G14: =F14/6651-1 -> -0.30100737
A15: Drama | B15: 789 | C15: 871 | D15: 5 | E15: 737 | F15: =SUM(B15:E15) -> 2402 | G15: =F15/4321-1 -> -0.44411016
A16: Engineering | B16: 2254 | C16: 2621 | D16: 249 | E16: 4001 | F16: =SUM(B16:E16) -> 9125 | G16: =F16/9931-1 -> -0.081160004
A17: Foster Business | B17: 1091 | C17: 853 | D17: 542 | E17: 2068 | F17: =SUM(B17:E17) -> 4554 | G17: =F17/3841-1 -> 0.18562874
A18: Friday Harbor | B18: 177 | C18: 0 | D18: 0 | E18: 129 | F18: =SUM(B18:E18) -> 306 | G18: =F18/487-1 -> -0.37166324
A19: Math. Research | B19: 1681 | C19: 2112 | D19: 69 | E19: 1136 | F19: =SUM(B19:E19) -> 4998 | G19: =F19/6984-1 -> -0.28436426
A20: Music | B20: 1797 | C20: 2047 | D20: 12 | E20: 1612 | F20: =SUM(B20:E20) -> 5468 | G20: =F20/8374-1 -> -0.34702651
A21: Music Listening Center | B21: 249 | C21: 23 | D21: 37 | E21: 0 | F21: =SUM(B21:E21) -> 309 | G21: =F21/368-1 -> -0.16032609
A22: Physics-Astronomy | B22: 729 | C22: 1178 | D22: 125 | E22: 646 | F22: =SUM(B22:E22) -> 2678 | G22: =F22/3753-1 -> -0.28643752
A23: BRANCH TOTAL | B23: =SUM(B13:B22) -> 12272 | C23: =SUM(C13:C22) -> 14464 | D23: =SUM(D13:D22) -> 1164 | E23: =SUM(E13:E22) -> 13726 | F23: =SUM(B23:E23) -> 41626 | G23: =F23/54511-1 -> -0.23637431
A25: Other Units
A26: East Asia | B26: 3912 | C26: 6426 | D26: 56 | E26: 3908 | F26: =SUM(B26:E26) -> 14302 | G26: =F26/20304-1 -> -0.29560678
A27: Health Sciences | B27: 1517 | C27: 2135 | D27: 30 | E27: 7463 | F27: =SUM(B27:E27) -> 11145 | G27: =F27/11638-1 -> -0.04236123
A28: Odegaard Undergraduate | B28: 7916 | C28: 11745 | D28: 3484 | E28: 7823 | F28: =SUM(B28:E28) -> 30968 | G28: =F28/30266-1 -> 0.023194343
A30: SEATTLE TOTAL | B30: =B10+B23+B27+B28+B7+B26 -> 79244 | C30: =C10+C23+C27+C28+C7+C26 -> 122187 | D30: =D10+D23+D27+D28+D7+D26 -> 5974 | E30: =E10+E23+E27+E28+E7+E26 -> 81743 | F30: =F10+F23+F27+F28+F7+F26 -> 289148 | G30: =F30/364331-1 -> -0.20635905
A32: Seattle Electronic Reserves | D32: 17455 | F32: =SUM(B32:E32) -> 17455 | G32: =F32/24977-1 -> -0.30115706
A34: Bothell/CCC | B34: 6502 | C34: 13039 | D34: 1192 | E34: 13397 | F34: =SUM(B34:E34) -> 34130 | G34: =F34/27848-1 -> 0.22558173
A35: Bothell Electronic Reserves | D35: 24654 | F35: =SUM(B35:E35) -> 24654 | G35: =F35/27916-1 -> -0.11685055
A37: Tacoma | B37: 5626 | C37: 10962 | D37: 125 | E37: 4538 | F37: =SUM(B37:E37) -> 21251 | G37: =F37/23763-1 -> -0.10571056
A38: Tacoma Electronic Reserves | D38: 8589 | F38: =SUM(B38:E38) -> 8589 | G38: =F38/10697-1 -> -0.1970646

Sheet Oct-Dec 2013
A1: Unit | B1: Initial Circ | C1: Renewals | D1: Reserves | E1: In Library use | F1: Total This Quarter | G1: Change from 12/13
A2: Suzzallo/Allen Units
A3: Suzzallo-Allen In-Lib Use | E3: 28425 | F3: 28425
A4: Circulation | B4: 56201 | C4: 97937 | D4: 0 | E4: 9354 | F4: =SUM(B4:E4) -> 163492
A5: Government Publications | B5: 572 | C5: 796 | D5: 0 | E5: 2330 | F5: =SUM(B5:E5) -> 3698
A6: Maps | B6: 167 | C6: 176 | D6: 0 | E6: 41 | F6: =SUM(B6:E6) -> 384
A7: Media Center | B7: 7812 | C7: 16557 | D7: 747 | E7: 6 | F7: =SUM(B7:E7) -> 25122
A8: Microforms-Newspapers | B8: 439 | C8: 0 | D8: 86 | E8: 5081 | F8: =SUM(B8:E8) -> 5606
A9: Special Collections | B9: 18 | C9: 0 | D9: 0 | E9: 6235 | F9: =SUM(B9:E9) -> 6253
A10: SUZZALLO/ALLEN TOTAL | B10: =SUM(B4:B9) -> 65209 | C10: =SUM(C4:C9) -> 115466 | D10: =SUM(D4:D9) -> 833 | E10: =SUM(E4:E9) -> 23047 | F10: =SUM(B10:E10) -> 204555 | G10: =F10/276272-1 -> -0.25958838
A12: Branch Units
A13: Art | B13: 3501 | C13: 6759 | D13: 416 | E13: 2490 | F13: =SUM(B13:E13) -> 13166 | G13: =F13/15334-1 -> -0.14138516
A14: Built Environments | B14: 3182 | C14: 2785 | D14: 197 | E14: 2442 | F14: =SUM(B14:E14) -> 8606 | G14: =F14/10797-1 -> -0.20292674
A15: Drama | B15: 1803 | C15: 2505 | D15: 49 | E15: 1101 | F15: =SUM(B15:E15) -> 5458 | G15: =F15/5627-1 -> -0.030033766
A16: Engineering | B16: 3002 | C16: 3170 | D16: 506 | E16: 2341 | F16: =SUM(B16:E16) -> 9019 | G16: =F16/11466-1 -> -0.21341357
A17: Foster Business | B17: 4796 | C17: 1096 | D17: 2282 | E17: 2368 | F17: =SUM(B17:E17) -> 10542 | G17: =F17/9852-1 -> 0.070036541
A18: Friday Harbor | B18: 65 | C18: 0 | D18: 0 | E18: 78 | F18: =SUM(B18:E18) -> 143 | G18: =F18/107-1 -> 0.3364486
A19: Math. Research | B19: 1767 | C19: 2392 | D19: 132 | E19: 1460 | F19: =SUM(B19:E19) -> 5751 | G19: =F19/7331-1 -> -0.21552312
A20: Music | B20: 2844 | C20: 4278 | D20: 64 | E20: 3067 | F20: =SUM(B20:E20) -> 10253 | G20: =F20/10907-1 -> -0.059961493
A21: Music Listening Center | B21: 304 | C21: 8 | D21: 241 | E21: 0 | F21: =SUM(B21:E21) -> 553 | G21: =F21/991-1 -> -0.4419778
A22: Physics-Astronomy | B22: 976 | C22: 1726 | D22: 131 | E22: 486 | F22: =SUM(B22:E22) -> 3319 | G22: =F22/3741-1 -> -0.11280406
A23: BRANCH TOTAL | B23: =SUM(B13:B22) -> 22240 | C23: =SUM(C13:C22) -> 24719 | D23: =SUM(D13:D22) -> 4018 | E23: =SUM(E13:E22) -> 15833 | F23: =SUM(B23:E23) -> 66810 | G23: =F23/76153-1 -> -0.12268722
A25: Other Units
A26: East Asia | B26: 4660 | C26: 12941 | D26: 506 | E26: 4164 | F26: =SUM(B26:E26) -> 22271 | G26: =F26/23702-1 -> -0.060374652
A27: Health Sciences | B27: 1926 | C27: 2805 | D27: 56 | E27: 7612 | F27: =SUM(B27:E27) -> 12399 | G27: =F27/12527-1 -> -0.010217929
A28: Odegaard Undergraduate | B28: 13588 | C28: 14654 | D28: 9616 | E28: 11811 | F28: =SUM(B28:E28) -> 49669 | G28: =F28/58729-1 -> -0.15426791
A30: SEATTLE TOTAL | B30: =SUM(B10+B23+B26+B27+B28) -> 107623 | C30: =SUM(C10+C23+C26+C27+C28) -> 170585 | D30: =SUM(D10+D23+D26+D27+D28) -> 15029 | E30: =SUM(E10+E23+E26+E27+E28) -> 62467 | F30: =SUM(F10+F23+F26+F27+F28) -> 355704 | G30: =F30/447393-1 -> -0.20494062
A32: Seattle Electronic Reserves | D32: 65086 | F32: =D32 -> 65086 | G32: =F32/98463-1 -> -0.33898012
A34: Bothell/CCC | B34: 9364 | C34: 14205 | D34: 1969 | E34: 15183 | F34: =SUM(B34:E34) -> 40721 | G34: =F34/36080-1 -> 0.12863082
A35: Bothell Electronic Reserves | D35: 54339 | F35: =D35 -> 54339 | G35: =F35/36080-1 -> 0.50606984
A37: Tacoma | B37: 7379 | C37: 11168 | D37: 400 | E37: 3703 | F37: =SUM(B37:E37) -> 22650 | G37: =F37/29162-1 -> -0.2233043
A38: Tacoma Electronic Reserves | D38: 18101 | F38: =D38 -> 18101 | G38: =F38/20213-1 -> -0.10448721

Sheet Jan-Mar 2014
A1: Unit | B1: Initial Circ | C1: Renewals | D1: Reserves | E1: In Library use | F1: Total This Quarter | G1: Change from 12/13
A2: Suzzallo/Allen Units
A3: Suzzallo Allen in-Lib Use | E3: 28241 | F3: 28241
A4: Circulation | B4: 38895 | C4: 41800 | D4: 0 | E4: 29937 | F4: =SUM(B4:E4) -> 110632
A5: Government Publications | B5: 348 | C5: 389 | D5: 0 | E5: 0 | F5: =SUM(B5:E5) -> 737
A6: Maps | B6: 109 | C6: 247 | D6: 0 | E6: 7 | F6: =SUM(B6:E6) -> 363
A7: Media Center | B7: 6831 | C7: 9999 | D7: 408 | E7: 0 | F7: =SUM(B7:E7) -> 17238
A8: Microforms-Newspapers | B8: 319 | C8: 0 | D8: 951 | E8: 3888 | F8: =SUM(B8:E8) -> 5158
A9: Special Collections | B9: 3 | C9: 0 | D9: 0 | E9: 7343 | F9: =SUM(B9:E9) -> 7346
A10: SUZZALLO/ALLEN TOTAL | B10: =SUM(B4:B9) -> 46505 | C10: =SUM(C4:C9) -> 52435 | D10: =SUM(D4:D9) -> 1359 | E10: =SUM(E3:E9) -> 69416 | F10: =SUM(F3:F9) -> 169715 | G10: =F10/249534-1 -> -0.31987224
A12: Branch Units
A13: Art | B13: 3119 | C13: 2964 | D13: 304 | E13: 2800 | F13: =SUM(B13:E13) -> 9187 | G13: =F13/15369-1 -> -0.40223827
A14: Built Environments | B14: 2803 | C14: 1417 | D14: 163 | E14: 2097 | F14: =SUM(B14:E14) -> 6480 | G14: =F14/9717-1 -> -0.33312751
A15: Drama | B15: 1552 | C15: 910 | D15: 57 | E15: 644 | F15: =SUM(B15:E15) -> 3163 | G15: =F15/5808-1 -> -0.45540634
A16: Engineering | B16: 2097 | C16: 1468 | D16: 286 | E16: 2770 | F16: =SUM(B16:E16) -> 6621 | G16: =F16/11146-1 -> -0.40597524
A17: Foster Business | B17: 4295 | C17: 417 | D17: 2723 | E17: 2643 | F17: =SUM(B17:E17) -> 10078 | G17: =F17/10612-1 -> -0.050320392
A18: Friday Harbor | B18: 101 | C18: 0 | D18: 0 | E18: 20 | F18: =SUM(B18:E18) -> 121 | G18: =F18/160-1 -> -0.24375
A19: Math. Research | B19: 1459 | C19: 1640 | D19: 134 | E19: 1017 | F19: =SUM(B19:E19) -> 4250 | G19: =F19/7895-1 -> -0.46168461
A20: Music | B20: 2371 | C20: 1550 | D20: 59 | E20: 899 | F20: =SUM(B20:E20) -> 4879 | G20: =F20/11462-1 -> -0.57433258
A21: Music Listening Center | B21: 389 | C21: 1 | D21: 273 | E21: 1027 | F21: =SUM(B21:E21) -> 1690 | G21: =F21/917-1 -> 0.84296619
A22: Physics-Astronomy | B22: 462 | C22: 545 | D22: 40 | E22: 456 | F22: =SUM(B22:E22) -> 1503 | G22: =F22/3786-1 -> -0.60301109
A23: BRANCH TOTAL | B23: =SUM(B13:B22) -> 18648 | C23: =SUM(C13:C22) -> 10912 | D23: =SUM(D13:D22) -> 4039 | E23: =SUM(E13:E22) -> 14373 | F23: =SUM(B23:E23) -> 47972 | G23: =F23/76872-1 -> -0.37594963
A25: Other Units
A26: East Asia | B26: 3658 | C26: 8307 | D26: 208 | E26: 3879 | F26: =SUM(B26:E26) -> 16052 | G26: =F26/22463-1 -> -0.28540266
A27: Health Sciences | B27: 1407 | C27: 1076 | D27: 43 | E27: 7625 | F27: =SUM(B27:E27) -> 10151 | G27: =F27/12143-1 -> -0.16404513
A28: Odegaard Undergraduate | B28: 12659 | C28: 7427 | D28: 12121 | E28: 11718 | F28: =SUM(B28:E28) -> 43925 | G28: =F28/50138-1 -> -0.12391799
A30: SEATTLE TOTAL | B30: =B10+B23+B26+B27+B28 -> 82877 | C30: =C10+C23+C26+C27+C28 -> 80157 | D30: =D10+D23+D26+D27+D28 -> 17770 | E30: =E10+E23+E26+E27+E28 -> 107011 | F30: =F10+F23+F26+F27+F28 -> 287815 | G30: =F30/449182-1 -> -0.35924636
A32: Seattle Electronic Reserves | D32: 51532 | F32: 51532 | G32: =F32/108677-1 -> -0.52582423
A34: Bothell/CCC | B34: 7849 | C34: 6843 | D34: 1776 | E34: 15704 | F34: =SUM(B34:E34) -> 32172 | G34: =F34/38559-1 -> -0.16564226
A35: Bothell Electronic Reserves | D35: 59846 | F35: 59846 | G35: =F35/64227-1 -> -0.068211188
A37: Tacoma | B37: 6640 | C37: 6217 | D37: 428 | E37: 4427 | F37: =SUM(B37:E37) -> 17712 | G37: =F37/29559-1 -> -0.40079164
A38: Tacoma Electronic Reserves | D38: 23294 | F38: 23294 | G38: =F38/20927-1 -> 0.11310747

Sheet Apr-Jun 2014
A1: Unit | B1: Initial Circ | C1: Renewals | D1: Reserves | E1: In Library use | F1: Total This Quarter | G1: Change from 12/13
A2: Suzzallo/Allen Units
A3: Suzz Allen In-lib Use | E3: 23685 | F3: =SUM(B3:E3) -> 23685
A4: Circulation | B4: 32244 | C4: 20449 | D4: 0 | E4: 9082 | F4: =SUM(B4:E4) -> 61775
A5: Government Publications | B5: 389 | C5: 158 | D5: 0 | E5: 1970 | F5: =SUM(B5:E5) -> 2517
A6: Maps | B6: 82 | C6: 19 | D6: 0 | E6: 12 | F6: =SUM(B6:E6) -> 113
A7: Media Center | B7: 6665 | C7: 8272 | D7: 357 | E7: 0 | F7: =SUM(B7:E7) -> 15294
A8: Microforms-Newspapers | B8: 131 | C8: 0 | D8: 942 | E8: 5040 | F8: =SUM(B8:E8) -> 6113
A9: Special Collections | B9: 2 | E9: 5319 | F9: =SUM(B9:E9) -> 5321
A10: SUZZALLO/ALLEN TOTAL | B10: =SUM(B3:B9) -> 39513 | C10: =SUM(C3:C9) -> 28898 | D10: =SUM(D3:D9) -> 1299 | E10: =SUM(E3:E9) -> 45108 | F10: =SUM(F3:F9) -> 114818 | G10: =F10/260227-1 -> -0.55877753
A12: Branch Units
A13: Art | B13: 2365 | C13: 1781 | D13: 260 | E13: 3072 | F13: =SUM(B13:E13) -> 7478 | G13: =F13/12676-1 -> -0.41006627
A14: Built Environments | B14: 2527 | C14: 884 | D14: 142 | E14: 2324 | F14: =SUM(B14:E14) -> 5877 | G14: =F14/9063-1 -> -0.35153923
A15: Drama | B15: 1227 | C15: 550 | D15: 42 | E15: 951 | F15: =SUM(B15:E15) -> 2770 | G15: =F15/4542-1 -> -0.3901365
A16: Engineering | B16: 1821 | C16: 865 | D16: 573 | E16: 2448 | F16: =SUM(B16:E16) -> 5707 | G16: =F16/10220-1 -> -0.44158513
A17: Foster Business | B17: 3858 | C17: 291 | D17: 3001 | E17: 2662 | F17: =SUM(B17:E17) -> 9812 | G17: =F17/9896-1 -> -0.0084882781
A18: Friday Harbor | B18: 544 | C18: 0 | D18: 0 | E18: 255 | F18: =SUM(B18:E18) -> 799 | G18: =F18/311-1 -> 1.5691318
A19: Math. Research | B19: 1200 | C19: 684 | D19: 80 | E19: 1065 | F19: =SUM(B19:E19) -> 3029 | G19: =F19/8509-1 -> -0.64402397
A20: Music | B20: 1922 | C20: 899 | D20: 35 | E20: 873 | F20: =SUM(B20:E20) -> 3729 | G20: =F20/9364-1 -> -0.60177275
A21: Music Listening Center | B21: 376 | C21: 0 | D21: 123 | E21: 956 | F21: =SUM(B21:E21) -> 1455 | G21: =F21/674-1 -> 1.1587537
A22: Physics-Astronomy | B22: 313 | C22: 248 | D22: 46 | E22: 191 | F22: =SUM(B22:E22) -> 798 | G22: =F22/3520-1 -> -0.77329545
A23: BRANCH TOTAL | B23: =SUM(B13:B22) -> 16153 | C23: =SUM(C13:C22) -> 6202 | D23: =SUM(D13:D22) -> 4302 | E23: =SUM(E13:E22) -> 14797 | F23: =SUM(F13:F22) -> 41454 | G23: =F23/68775-1 -> -0.39725191
A25: Other Units
A26: East Asia | B26: 3169 | C26: 4159 | D26: 338 | E26: 3830 | F26: =SUM(B26:E26) -> 11496 | G26: =F26/23553-1 -> -0.51190931
A27: Health Sciences | B27: 1147 | C27: 942 | D27: 33 | E27: 7277 | F27: =SUM(B27:E27) -> 9399 | G27: =F27/11558-1 -> -0.18679702
A28: Odegaard Undergraduate | B28: 11419 | C28: 5013 | D28: 11663 | E28: 11914 | F28: =SUM(B28:E28) -> 40009 | G28: =F28/46537-1 -> -0.14027548
A30: SEATTLE TOTAL | B30: =SUM(B10+B23+B26+B27+B28) -> 71401 | C30: =SUM(C10+C23+C26+C27+C28) -> 45214 | D30: =SUM(D10+D23+D26+D27+D28) -> 17635 | E30: =SUM(E10+E23+E26+E27+E28) -> 82926 | F30: =SUM(F10+F23+F26+F27+F28) -> 217176 | G30: =F30/410650-1 -> -0.47114087
A32: Seattle Electronic Reserves | D32: 50111 | F32: =SUM(B32:E32) -> 50111 | G32: =F32/80643-1 -> -0.37860695
A34: Bothell/CCC | B34: 7032 | C34: 4728 | D34: 1695 | E34: 14480 | F34: =SUM(B34:E34) -> 27935 | G34: =F34/37462-1 -> -0.25431104
A35: Bothell Electronic Reserves | D35: 48089 | F35: =SUM(B35:E35) -> 48089 | G35: =F35/66440-1 -> -0.27620409
A37: Tacoma | B37: 6066 | C37: 4428 | D37: 341 | E37: 4637 | F37: =SUM(B37:E37) -> 15472 | G37: =F37/19214-1 -> -0.19475383
A38: Tacoma Electronic Reserves | D38: 16868 | F38: =SUM(B38:E38) -> 16868 | G38: =F38/16511-1 -> 0.021621949

Sheet Annual 2014
A1: Unit | B1: Initial Circ | C1: Renewals | D1: Reserves | E1: In Library use | F1: Total This Year | G1: Change from 12/13 | H1: Initial Circ. Change from 12/13
A2: Suzzallo/Allen Units
A3: Suzz Allen In-Lib Use | E3: =SUM('Jul-Sep 2013'!E3+'Oct-Dec 2013'!E3+'Jan-Mar 2014'!E3+'Apr-Jun 2014'!E3) -> 106617
A4: Circulation | B4: ='Jul-Sep 2013'!B4+'Jan-Mar 2014'!B4+'Oct-Dec 2013'!B4+'Apr-Jun 2014'!B4 -> 166242 | C4: ='Jul-Sep 2013'!C4+'Jan-Mar 2014'!C4+'Oct-Dec 2013'!C4+'Apr-Jun 2014'!C4 -> 230289 | D4: ='Jul-Sep 2013'!D4+'Jan-Mar 2014'!D4+'Oct-Dec 2013'!D4+'Apr-Jun 2014'!D4 -> 0 | E4: ='Jul-Sep 2013'!E4+'Jan-Mar 2014'!E4+'Oct-Dec 2013'!E4+'Apr-Jun 2014'!E4 -> 60034 | F4: ='Jul-Sep 2013'!F4+'Jan-Mar 2014'!F4+'Oct-Dec 2013'!F4+'Apr-Jun 2014'!F4 -> 456565 | H4: =B4/175472-1 -> -0.052600985
A5: Government Publications | B5: ='Jul-Sep 2013'!B5+'Jan-Mar 2014'!B5+'Oct-Dec 2013'!B5+'Apr-Jun 2014'!B5 -> 2312 | C5: ='Jul-Sep 2013'!C5+'Jan-Mar 2014'!C5+'Oct-Dec 2013'!C5+'Apr-Jun 2014'!C5 -> 2000 | D5: ='Jul-Sep 2013'!D5+'Jan-Mar 2014'!D5+'Oct-Dec 2013'!D5+'Apr-Jun 2014'!D5 -> 0 | E5: ='Jul-Sep 2013'!E5+'Jan-Mar 2014'!E5+'Oct-Dec 2013'!E5+'Apr-Jun 2014'!E5 -> 5530 | F5: ='Jul-Sep 2013'!F5+'Jan-Mar 2014'!F5+'Oct-Dec 2013'!F5+'Apr-Jun 2014'!F5 -> 9842 | H5: =B5/3579-1 -> -0.3540095
A6: Maps | B6: ='Jul-Sep 2013'!B6+'Jan-Mar 2014'!B6+'Oct-Dec 2013'!B6+'Apr-Jun 2014'!B6 -> 705 | C6: ='Jul-Sep 2013'!C6+'Jan-Mar 2014'!C6+'Oct-Dec 2013'!C6+'Apr-Jun 2014'!C6 -> 1649 | D6: ='Jul-Sep 2013'!D6+'Jan-Mar 2014'!D6+'Oct-Dec 2013'!D6+'Apr-Jun 2014'!D6 -> 0 | E6: ='Jul-Sep 2013'!E6+'Jan-Mar 2014'!E6+'Oct-Dec 2013'!E6+'Apr-Jun 2014'!E6 -> 81 | F6: ='Jul-Sep 2013'!F6+'Jan-Mar 2014'!F6+'Oct-Dec 2013'!F6+'Apr-Jun 2014'!F6 -> 2435 | H6: =B6/538-1 -> 0.31040892
A7: Media Center | B7: ='Jul-Sep 2013'!B7+'Jan-Mar 2014'!B7+'Oct-Dec 2013'!B7+'Apr-Jun 2014'!B7 -> 27679 | C7: ='Jul-Sep 2013'!C7+'Jan-Mar 2014'!C7+'Oct-Dec 2013'!C7+'Apr-Jun 2014'!C7 -> 42553 | D7: ='Jul-Sep 2013'!D7+'Jan-Mar 2014'!D7+'Oct-Dec 2013'!D7+'Apr-Jun 2014'!D7 -> 1851 | E7: ='Jul-Sep 2013'!E7+'Jan-Mar 2014'!E7+'Oct-Dec 2013'!E7+'Apr-Jun 2014'!E7 -> 6 | F7: ='Jul-Sep 2013'!F7+'Jan-Mar 2014'!F7+'Oct-Dec 2013'!F7+'Apr-Jun 2014'!F7 -> 72089 | H7: =B7/39875-1 -> -0.3058558
A8: Microforms-Newspapers | B8: ='Jul-Sep 2013'!B8+'Jan-Mar 2014'!B8+'Oct-Dec 2013'!B8+'Apr-Jun 2014'!B8 -> 1510 | C8: ='Jul-Sep 2013'!C8+'Jan-Mar 2014'!C8+'Oct-Dec 2013'!C8+'Apr-Jun 2014'!C8 -> 0 | D8: ='Jul-Sep 2013'!D8+'Jan-Mar 2014'!D8+'Oct-Dec 2013'!D8+'Apr-Jun 2014'!D8 -> 2541 | E8: ='Jul-Sep 2013'!E8+'Jan-Mar 2014'!E8+'Oct-Dec 2013'!E8+'Apr-Jun 2014'!E8 -> 17897 | F8: ='Jul-Sep 2013'!F8+'Jan-Mar 2014'!F8+'Oct-Dec 2013'!F8+'Apr-Jun 2014'!F8 -> 21948 | H8: =B8/1585-1 -> -0.047318612
A9: Special Collections | B9: ='Jul-Sep 2013'!B9+'Jan-Mar 2014'!B9+'Oct-Dec 2013'!B9+'Apr-Jun 2014'!B9 -> 35 | C9: ='Jul-Sep 2013'!C9+'Jan-Mar 2014'!C9+'Oct-Dec 2013'!C9+'Apr-Jun 2014'!C9 -> 0 | D9: ='Jul-Sep 2013'!D9+'Jan-Mar 2014'!D9+'Oct-Dec 2013'!D9+'Apr-Jun 2014'!D9 -> 0 | E9: ='Jul-Sep 2013'!E9+'Jan-Mar 2014'!E9+'Oct-Dec 2013'!E9+'Apr-Jun 2014'!E9 -> 24654 | F9: ='Jul-Sep 2013'!F9+'Jan-Mar 2014'!F9+'Oct-Dec 2013'!F9+'Apr-Jun 2014'!F9 -> 24689
A10: SUZZALLO/ALLEN TOTAL | B10: ='Jul-Sep 2013'!B10+'Jan-Mar 2014'!B10+'Oct-Dec 2013'!B10+'Apr-Jun 2014'!B10 -> 198483 | C10: ='Jul-Sep 2013'!C10+'Jan-Mar 2014'!C10+'Oct-Dec 2013'!C10+'Apr-Jun 2014'!C10 -> 276491 | D10: ='Jul-Sep 2013'!D10+'Jan-Mar 2014'!D10+'Oct-Dec 2013'!D10+'Apr-Jun 2014'!D10 -> 4392 | E10: ='Jul-Sep 2013'!E10+'Jan-Mar 2014'!E10+'Oct-Dec 2013'!E10+'Apr-Jun 2014'!E10 -> 186394 | F10: ='Jul-Sep 2013'!F10+'Jan-Mar 2014'!F10+'Oct-Dec 2013'!F10+'Apr-Jun 2014'!F10 -> 665760 | G10: =F10/1071677-1 -> -0.37876804 | H10: =B10/221180-1 -> -0.10261778
A12: Branch Units
A13: Art | B13: ='Jul-Sep 2013'!B13+'Jan-Mar 2014'!B13+'Oct-Dec 2013'!B13+'Apr-Jun 2014'!B13 -> 10965 | C13: ='Jul-Sep 2013'!C13+'Jan-Mar 2014'!C13+'Oct-Dec 2013'!C13+'Apr-Jun 2014'!C13 -> 14558 | D13: ='Jul-Sep 2013'!D13+'Jan-Mar 2014'!D13+'Oct-Dec 2013'!D13+'Apr-Jun 2014'!D13 -> 1084 | E13: ='Jul-Sep 2013'!E13+'Jan-Mar 2014'!E13+'Oct-Dec 2013'!E13+'Apr-Jun 2014'!E13 -> 10361 | F13: ='Jul-Sep 2013'!F13+'Jan-Mar 2014'!F13+'Oct-Dec 2013'!F13+'Apr-Jun 2014'!F13 -> 36968 | G13: =F13/53180-1 -> -0.30485145 | H13: =B13/12994-1 -> -0.15614899
A14: Built Environments | B14: ='Jul-Sep 2013'!B14+'Jan-Mar 2014'!B14+'Oct-Dec 2013'!B14+'Apr-Jun 2014'!B14 -> 10037 | C14: ='Jul-Sep 2013'!C14+'Jan-Mar 2014'!C14+'Oct-Dec 2013'!C14+'Apr-Jun 2014'!C14 -> 6791 | D14: ='Jul-Sep 2013'!D14+'Jan-Mar 2014'!D14+'Oct-Dec 2013'!D14+'Apr-Jun 2014'!D14 -> 523 | E14: ='Jul-Sep 2013'!E14+'Jan-Mar 2014'!E14+'Oct-Dec 2013'!E14+'Apr-Jun 2014'!E14 -> 8261 | F14: ='Jul-Sep 2013'!F14+'Jan-Mar 2014'!F14+'Oct-Dec 2013'!F14+'Apr-Jun 2014'!F14 -> 25612 | G14: =F14/36228-1 -> -0.29303301 | H14: =B14/12445-1 -> -0.19349136
A15: Drama | B15: ='Jul-Sep 2013'!B15+'Jan-Mar 2014'!B15+'Oct-Dec 2013'!B15+'Apr-Jun 2014'!B15 -> 5371 | C15: ='Jul-Sep 2013'!C15+'Jan-Mar 2014'!C15+'Oct-Dec 2013'!C15+'Apr-Jun 2014'!C15 -> 4836 | D15: ='Jul-Sep 2013'!D15+'Jan-Mar 2014'!D15+'Oct-Dec 2013'!D15+'Apr-Jun 2014'!D15 -> 153 | E15: ='Jul-Sep 2013'!E15+'Jan-Mar 2014'!E15+'Oct-Dec 2013'!E15+'Apr-Jun 2014'!E15 -> 3433 | F15: ='Jul-Sep 2013'!F15+'Jan-Mar 2014'!F15+'Oct-Dec 2013'!F15+'Apr-Jun 2014'!F15 -> 13793 | G15: =F15/20298-1 -> -0.32047492 | H15: =B15/7384-1 -> -0.27261647
A16: Engineering | B16: ='Jul-Sep 2013'!B16+'Jan-Mar 2014'!B16+'Oct-Dec 2013'!B16+'Apr-Jun 2014'!B16 -> 9174 | C16: ='Jul-Sep 2013'!C16+'Jan-Mar 2014'!C16+'Oct-Dec 2013'!C16+'Apr-Jun 2014'!C16 -> 8124 | D16: ='Jul-Sep 2013'!D16+'Jan-Mar 2014'!D16+'Oct-Dec 2013'!D16+'Apr-Jun 2014'!D16 -> 1614 | E16: ='Jul-Sep 2013'!E16+'Jan-Mar 2014'!E16+'Oct-Dec 2013'!E16+'Apr-Jun 2014'!E16 -> 11560 | F16: ='Jul-Sep 2013'!F16+'Jan-Mar 2014'!F16+'Oct-Dec 2013'!F16+'Apr-Jun 2014'!F16 -> 30472 | G16: =F16/42763-1 -> -0.28742137 | H16: =B16/12960-1 -> -0.29212963
A17: Foster Business | B17: ='Jul-Sep 2013'!B17+'Jan-Mar 2014'!B17+'Oct-Dec 2013'!B17+'Apr-Jun 2014'!B17 -> 14040 | C17: ='Jul-Sep 2013'!C17+'Jan-Mar 2014'!C17+'Oct-Dec 2013'!C17+'Apr-Jun 2014'!C17 -> 2657 | D17: ='Jul-Sep 2013'!D17+'Jan-Mar 2014'!D17+'Oct-Dec 2013'!D17+'Apr-Jun 2014'!D17 -> 8548 | E17: ='Jul-Sep 2013'!E17+'Jan-Mar 2014'!E17+'Oct-Dec 2013'!E17+'Apr-Jun 2014'!E17 -> 9741 | F17: ='Jul-Sep 2013'!F17+'Jan-Mar 2014'!F17+'Oct-Dec 2013'!F17+'Apr-Jun 2014'!F17 -> 34986 | G17: =F17/34201-1 -> 0.022952545 | H17: =B17/16088-1 -> -0.12729985
A18: Friday Harbor | B18: ='Jul-Sep 2013'!B18+'Jan-Mar 2014'!B18+'Oct-Dec 2013'!B18+'Apr-Jun 2014'!B18 -> 887 | C18: ='Jul-Sep 2013'!C18+'Jan-Mar 2014'!C18+'Oct-Dec 2013'!C18+'Apr-Jun 2014'!C18 -> 0 | D18: ='Jul-Sep 2013'!D18+'Jan-Mar 2014'!D18+'Oct-Dec 2013'!D18+'Apr-Jun 2014'!D18 -> 0 | E18: ='Jul-Sep 2013'!E18+'Jan-Mar 2014'!E18+'Oct-Dec 2013'!E18+'Apr-Jun 2014'!E18 -> 482 | F18: ='Jul-Sep 2013'!F18+'Jan-Mar 2014'!F18+'Oct-Dec 2013'!F18+'Apr-Jun 2014'!F18 -> 1369 | G18: =F18/1065-1 -> 0.28544601 | H18: =B18/823-1 -> 0.077764277
A19: Math. Research | B19: ='Jul-Sep 2013'!B19+'Jan-Mar 2014'!B19+'Oct-Dec 2013'!B19+'Apr-Jun 2014'!B19 -> 6107 | C19: ='Jul-Sep 2013'!C19+'Jan-Mar 2014'!C19+'Oct-Dec 2013'!C19+'Apr-Jun 2014'!C19 -> 6828 | D19: ='Jul-Sep 2013'!D19+'Jan-Mar 2014'!D19+'Oct-Dec 2013'!D19+'Apr-Jun 2014'!D19 -> 415 | E19: ='Jul-Sep 2013'!E19+'Jan-Mar 2014'!E19+'Oct-Dec 2013'!E19+'Apr-Jun 2014'!E19 -> 4678 | F19: ='Jul-Sep 2013'!F19+'Jan-Mar 2014'!F19+'Oct-Dec 2013'!F19+'Apr-Jun 2014'!F19 -> 18028 | G19: =F19/30719-1 -> -0.41313194 | H19: =B19/6904-1 -> -0.11544032
A20: Music | B20: ='Jul-Sep 2013'!B20+'Jan-Mar 2014'!B20+'Oct-Dec 2013'!B20+'Apr-Jun 2014'!B20 -> 8934 | C20: ='Jul-Sep 2013'!C20+'Jan-Mar 2014'!C20+'Oct-Dec 2013'!C20+'Apr-Jun 2014'!C20 -> 8774 | D20: ='Jul-Sep 2013'!D20+'Jan-Mar 2014'!D20+'Oct-Dec 2013'!D20+'Apr-Jun 2014'!D20 -> 170 | E20: ='Jul-Sep 2013'!E20+'Jan-Mar 2014'!E20+'Oct-Dec 2013'!E20+'Apr-Jun 2014'!E20 -> 6451 | F20: ='Jul-Sep 2013'!F20+'Jan-Mar 2014'!F20+'Oct-Dec 2013'!F20+'Apr-Jun 2014'!F20 -> 24329 | G20: =F20/40107-1 -> -0.39339766 | H20: =B20/13026-1 -> -0.31414095
A21: Music Listening Center | B21: ='Jul-Sep 2013'!B21+'Jan-Mar 2014'!B21+'Oct-Dec 2013'!B21+'Apr-Jun 2014'!B21 -> 1318 | C21: ='Jul-Sep 2013'!C21+'Jan-Mar 2014'!C21+'Oct-Dec 2013'!C21+'Apr-Jun 2014'!C21 -> 32 | D21: ='Jul-Sep 2013'!D21+'Jan-Mar 2014'!D21+'Oct-Dec 2013'!D21+'Apr-Jun 2014'!D21 -> 674 | E21: ='Jul-Sep 2013'!E21+'Jan-Mar 2014'!E21+'Oct-Dec 2013'!E21+'Apr-Jun 2014'!E21 -> 1983 | F21: ='Jul-Sep 2013'!F21+'Jan-Mar 2014'!F21+'Oct-Dec 2013'!F21+'Apr-Jun 2014'!F21 -> 4007 | G21: =F21/2950-1 -> 0.35830508 | H21: =B21/1507-1 -> -0.12541473
A22: Physics-Astronomy | B22: ='Jul-Sep 2013'!B22+'Jan-Mar 2014'!B22+'Oct-Dec 2013'!B22+'Apr-Jun 2014'!B22 -> 2480 | C22: ='Jul-Sep 2013'!C22+'Jan-Mar 2014'!C22+'Oct-Dec 2013'!C22+'Apr-Jun 2014'!C22 -> 3697 | D22: ='Jul-Sep 2013'!D22+'Jan-Mar 2014'!D22+'Oct-Dec 2013'!D22+'Apr-Jun 2014'!D22 -> 342 | E22: ='Jul-Sep 2013'!E22+'Jan-Mar 2014'!E22+'Oct-Dec 2013'!E22+'Apr-Jun 2014'!E22 -> 1779 | F22: ='Jul-Sep 2013'!F22+'Jan-Mar 2014'!F22+'Oct-Dec 2013'!F22+'Apr-Jun 2014'!F22 -> 8298 | G22: =F22/14800-1 -> -0.43932432 | H22: =B22/2195-1 -> 0.12984055
A23: BRANCH TOTAL | B23: ='Jul-Sep 2013'!B23+'Jan-Mar 2014'!B23+'Oct-Dec 2013'!B23+'Apr-Jun 2014'!B23 -> 69313 | C23: ='Jul-Sep 2013'!C23+'Jan-Mar 2014'!C23+'Oct-Dec 2013'!C23+'Apr-Jun 2014'!C23 -> 56297 | D23: ='Jul-Sep 2013'!D23+'Jan-Mar 2014'!D23+'Oct-Dec 2013'!D23+'Apr-Jun 2014'!D23 -> 13523 | E23: ='Jul-Sep 2013'!E23+'Jan-Mar 2014'!E23+'Oct-Dec 2013'!E23+'Apr-Jun 2014'!E23 -> 58729 | F23: ='Jul-Sep 2013'!F23+'Jan-Mar 2014'!F23+'Oct-Dec 2013'!F23+'Apr-Jun 2014'!F23 -> 197862 | G23: =F23/276311-1 -> -0.28391559 | H23: =B23/86326-1 -> -0.19707852
A25: Other Units
A26: East Asia | B26: ='Jul-Sep 2013'!B26+'Jan-Mar 2014'!B26+'Oct-Dec 2013'!B26+'Apr-Jun 2014'!B26 -> 15399 | C26: ='Jul-Sep 2013'!C26+'Jan-Mar 2014'!C26+'Oct-Dec 2013'!C26+'Apr-Jun 2014'!C26 -> 31833 | D26: ='Jul-Sep 2013'!D26+'Jan-Mar 2014'!D26+'Oct-Dec 2013'!D26+'Apr-Jun 2014'!D26 -> 1108 | E26: ='Jul-Sep 2013'!E26+'Jan-Mar 2014'!E26+'Oct-Dec 2013'!E26+'Apr-Jun 2014'!E26 -> 15781 | F26: ='Jul-Sep 2013'!F26+'Jan-Mar 2014'!F26+'Oct-Dec 2013'!F26+'Apr-Jun 2014'!F26 -> 64121 | G26: =F26/90022-1 -> -0.28771856 | H26: =B26/15655-1 -> -0.016352603
A27: Health Sciences | B27: ='Jul-Sep 2013'!B27+'Jan-Mar 2014'!B27+'Oct-Dec 2013'!B27+'Apr-Jun 2014'!B27 -> 5997 | C27: ='Jul-Sep 2013'!C27+'Jan-Mar 2014'!C27+'Oct-Dec 2013'!C27+'Apr-Jun 2014'!C27 -> 6958 | D27: ='Jul-Sep 2013'!D27+'Jan-Mar 2014'!D27+'Oct-Dec 2013'!D27+'Apr-Jun 2014'!D27 -> 162 | E27: ='Jul-Sep 2013'!E27+'Jan-Mar 2014'!E27+'Oct-Dec 2013'!E27+'Apr-Jun 2014'!E27 -> 29977 | F27: ='Jul-Sep 2013'!F27+'Jan-Mar 2014'!F27+'Oct-Dec 2013'!F27+'Apr-Jun 2014'!F27 -> 43094 | G27: =F27/47866-1 -> -0.099694982 | H27: =B27/6830-1 -> -0.12196193
A28: Odegaard Undergraduate | B28: ='Jul-Sep 2013'!B28+'Jan-Mar 2014'!B28+'Oct-Dec 2013'!B28+'Apr-Jun 2014'!B28 -> 45582 | C28: ='Jul-Sep 2013'!C28+'Jan-Mar 2014'!C28+'Oct-Dec 2013'!C28+'Apr-Jun 2014'!C28 -> 38839 | D28: ='Jul-Sep 2013'!D28+'Jan-Mar 2014'!D28+'Oct-Dec 2013'!D28+'Apr-Jun 2014'!D28 -> 36884 | E28: ='Jul-Sep 2013'!E28+'Jan-Mar 2014'!E28+'Oct-Dec 2013'!E28+'Apr-Jun 2014'!E28 -> 43266 | F28: ='Jul-Sep 2013'!F28+'Jan-Mar 2014'!F28+'Oct-Dec 2013'!F28+'Apr-Jun 2014'!F28 -> 164571 | G28: =F28/185680-1 -> -0.11368483 | H28: =B28/43225-1 -> 0.054528629
A30: SEATTLE TOTAL | B30: ='Jul-Sep 2013'!B30+'Jan-Mar 2014'!B30+'Oct-Dec 2013'!B30+'Apr-Jun 2014'!B30 -> 341145 | C30: ='Jul-Sep 2013'!C30+'Jan-Mar 2014'!C30+'Oct-Dec 2013'!C30+'Apr-Jun 2014'!C30 -> 418143 | D30: ='Jul-Sep 2013'!D30+'Jan-Mar 2014'!D30+'Oct-Dec 2013'!D30+'Apr-Jun 2014'!D30 -> 56408 | E30: ='Jul-Sep 2013'!E30+'Jan-Mar 2014'!E30+'Oct-Dec 2013'!E30+'Apr-Jun 2014'!E30 -> 334147 | F30: ='Jul-Sep 2013'!F30+'Jan-Mar 2014'!F30+'Oct-Dec 2013'!F30+'Apr-Jun 2014'!F30 -> 1149843 | G30: =F30/1671556-1 -> -0.31211219 | H30: =B30/373216-1 -> -0.085931471
A32: Seattle Electronic Reserves | D32: ='Jul-Sep 2013'!D32+'Jan-Mar 2014'!D32+'Oct-Dec 2013'!D32+'Apr-Jun 2014'!D32 -> 184184 | F32: ='Jul-Sep 2013'!F32+'Jan-Mar 2014'!F32+'Oct-Dec 2013'!F32+'Apr-Jun 2014'!F32 -> 184184 | G32: =F32/312760-1 -> -0.41110116
A34: Bothell/CCC | B34: ='Jul-Sep 2013'!B34+'Jan-Mar 2014'!B34+'Oct-Dec 2013'!B34+'Apr-Jun 2014'!B34 -> 30747 | C34: ='Jul-Sep 2013'!C34+'Jan-Mar 2014'!C34+'Oct-Dec 2013'!C34+'Apr-Jun 2014'!C34 -> 38815 | D34: ='Jul-Sep 2013'!D34+'Jan-Mar 2014'!D34+'Oct-Dec 2013'!D34+'Apr-Jun 2014'!D34 -> 6632 | E34: ='Jul-Sep 2013'!E34+'Jan-Mar 2014'!E34+'Oct-Dec 2013'!E34+'Apr-Jun 2014'!E34 -> 58764 | F34: ='Jul-Sep 2013'!F34+'Jan-Mar 2014'!F34+'Oct-Dec 2013'!F34+'Apr-Jun 2014'!F34 -> 134958 | G34: =F34/139949-1 -> -0.035662992 | H34: =B34/38590-1 -> -0.20323918
A35: Bothell Electronic Reserves | D35: ='Jul-Sep 2013'!D35+'Jan-Mar 2014'!D35+'Oct-Dec 2013'!D35+'Apr-Jun 2014'!D35 -> 186928 | F35: ='Jul-Sep 2013'!F35+'Jan-Mar 2014'!F35+'Oct-Dec 2013'!F35+'Apr-Jun 2014'!F35 -> 186928 | G35: =F35/224360-1 -> -0.16683901
A37: Tacoma | B37: ='Jul-Sep 2013'!B37+'Jan-Mar 2014'!B37+'Oct-Dec 2013'!B37+'Apr-Jun 2014'!B37 -> 25711 | C37: ='Jul-Sep 2013'!C37+'Jan-Mar 2014'!C37+'Oct-Dec 2013'!C37+'Apr-Jun 2014'!C37 -> 32775 | D37: ='Jul-Sep 2013'!D37+'Jan-Mar 2014'!D37+'Oct-Dec 2013'!D37+'Apr-Jun 2014'!D37 -> 1294 | E37: ='Jul-Sep 2013'!E37+'Jan-Mar 2014'!E37+'Oct-Dec 2013'!E37+'Apr-Jun 2014'!E37 -> 17305 | F37: ='Jul-Sep 2013'!F37+'Jan-Mar 2014'!F37+'Oct-Dec 2013'!F37+'Apr-Jun 2014'!F37 -> 77085 | G37: =F37/101698-1 -> -0.24202049 | H37: =B37/24158-1 -> 0.064285123
A38: Tacoma Electronic Reserves | D38: ='Jul-Sep 2013'!D38+'Jan-Mar 2014'!D38+'Oct-Dec 2013'!D38+'Apr-Jun 2014'!D38 -> 66852 | F38: ='Jul-Sep 2013'!F38+'Jan-Mar 2014'!F38+'Oct-Dec 2013'!F38+'Apr-Jun 2014'!F38 -> 66852 | G38: =F38/68348-1 -> -0.021887985
