Workbook
Name acre_d: 'energy - as parameterized flows'!$I$115
Name acre_d: 'energy - error propagation'!$I$115
Name acre_d_1994: 'energy - as parameterized flows'!$I$43
Name acre_d_1994: 'energy - error propagation'!$I$43
Name acre_d_1994: #REF!
Name acre_d_1998: 'energy - as parameterized flows'!$I$49
Name acre_d_1998: 'energy - error propagation'!$I$49
Name acre_d_1998: #REF!
Name acre_d_2003: 'energy - as parameterized flows'!$I$55
Name acre_d_2003: 'energy - error propagation'!$I$55
Name acre_d_2003: #REF!
Name acre_d_2008: 'energy - as parameterized flows'!$I$61
Name acre_d_2008: 'energy - error propagation'!$I$61
Name acre_d_2008: #REF!
Name acre_e: 'energy - as parameterized flows'!$I$116
Name acre_e: 'energy - error propagation'!$I$116
Name acre_e_1994: 'energy - as parameterized flows'!$I$44
Name acre_e_1994: 'energy - error propagation'!$I$44
Name acre_e_1994: #REF!
Name acre_e_1998: 'energy - as parameterized flows'!$I$50
Name acre_e_1998: 'energy - error propagation'!$I$50
Name acre_e_1998: #REF!
Name acre_e_2003: 'energy - as parameterized flows'!$I$56
Name acre_e_2003: 'energy - error propagation'!$I$56
Name acre_e_2003: #REF!
Name acre_e_2008: 'energy - as parameterized flows'!$I$62
Name acre_e_2008: 'energy - error propagation'!$I$62
Name acre_e_2008: #REF!
Name acre_g: 'energy - as parameterized flows'!$I$117
Name acre_g: 'energy - error propagation'!$I$117
Name acre_g_1994: 'energy - as parameterized flows'!$I$45
Name acre_g_1994: 'energy - error propagation'!$I$45
Name acre_g_1994: #REF!
Name acre_g_1998: 'energy - as parameterized flows'!$I$51
Name acre_g_1998: 'energy - error propagation'!$I$51
Name acre_g_1998: #REF!
Name acre_g_2003: 'energy - as parameterized flows'!$I$57
Name acre_g_2003: 'energy - error propagation'!$I$57
Name acre_g_2003: #REF!
Name acre_g_2008: 'energy - as parameterized flows'!$I$63
Name acre_g_2008: 'energy - error propagation'!$I$63
Name acre_g_2008: #REF!
Name acre_lpg: 'energy - as parameterized flows'!$I$118
Name acre_lpg: 'energy - error propagation'!$I$118
Name acre_lpg_1994: 'energy - as parameterized flows'!$I$46
Name acre_lpg_1994: 'energy - error propagation'!$I$46
Name acre_lpg_1994: #REF!
Name acre_lpg_1998: 'energy - as parameterized flows'!$I$52
Name acre_lpg_1998: 'energy - error propagation'!$I$52
Name acre_lpg_1998: #REF!
Name acre_lpg_2003: 'energy - as parameterized flows'!$I$58
Name acre_lpg_2003: 'energy - error propagation'!$I$58
Name acre_lpg_2003: #REF!
Name acre_lpg_2008: 'energy - as parameterized flows'!$I$64
Name acre_lpg_2008: 'energy - error propagation'!$I$64
Name acre_lpg_2008: #REF!
Name acre_ng: 'energy - as parameterized flows'!$I$119
Name acre_ng: 'energy - error propagation'!$I$119
Name acre_ng_1994: 'energy - as parameterized flows'!$I$47
Name acre_ng_1994: 'energy - error propagation'!$I$47

Sheet notes
A1: Supporting information - 1
A2: Fresh water consumption characterization factor data and results
A3: prepared by Ezra Kahn
A4: for the dissertation: Characterization of Uncertainty and Variability of Freshwater Consumption in Life Cycle Assessment
A6: The following sheets contain results for fresh water consumption characterization factors:
B7: FAO surface averages
B8: PT surface averages
B9: surface sensitivity
B10: surface difference mean
B12: FAO ground averages
B13: PT ground averages
B14: ground sensitivity
B15: ground difference mean
B17: FAO green averages
B18: PT green averages
B19: green sensitivity
B20: green difference mean
A22: Sheets titled <indicator> averages represent the summary statistics of the monte carlo estimation for that characterization factor
A23: Sheets titled <indicator> sensitivity represent the sensitivity of individual parameters on the final estimate
A24: Sheets titled <indicator> difference mean represent the average difference in characterization factors between the FAO56 and Priestley-Taylor methods for estimation crop water deficit
A26: The sheets energy - as parameterizaed flows, and energy - error propgation contain the data and estimates for conveyance and application energy of irrigation water
A28: The sheet titled application data contain the irrigation application data from ARMS

Sheet FAO surface averages
A1: % of applied | B1: 'ALcotton' | C1: 'ALpeanuts' | D1: 'ARcotton' | E1: 'ARrice' | F1: 'ARsoybeans' | G1: 'AZcotton' | H1: 'CAcotton' | I1: 'CArice' | J1: 'CAwheat spring' | K1: 'COcorn' | L1: 'COwheat spring' | M1: 'COwinter wheat' | N1: 'FLpeanuts' | O1: 'GAcorn' | P1: 'GAcotton' | Q1: 'GApeanuts' | R1: 'IDwheat spring' | S1: 'IDwinter wheat' | T1: 'ILcorn' | U1: 'ILsoybeans' | V1: 'KScorn' | W1: 'KSsoybeans' | X1: 'KSwheat spring' | Y1: 'LAcotton' | Z1: 'LArice' | AA1: 'LAsoybeans' | AB1: 'MIcorn' | AC1: 'MIsoybeans' | AD1: 'MNcorn' | AE1: 'MNsoybeans' | AF1: 'MOcorn' | AG1: 'MOcotton' | AH1: 'MOrice' | AI1: 'MOsoybeans' | AJ1: 'MScotton' | AK1: 'MSrice' | AL1: 'MSsoybeans' | AM1: 'MTwinter wheat' | AN1: 'NEcorn' | AO1: 'NEoats' | AP1: 'NEsoybeans' | AQ1: 'NEwheat spring' | AR1: 'ORwheat spring' | AS1: 'ORwinter wheat' | AT1: 'SCcotton' | AU1: 'SDcorn' | AV1: 'TXcorn' | AW1: 'TXcotton' | AX1: 'TXpeanuts' | AY1: 'TXrice' | AZ1: 'TXwheat spring' | BA1: 'WAwheat spring' | BB1: 'WAwinter wheat' | BC1: 'WIcorn'
A2: min | B2: =B77 -> 0.041233028 | C2: =C77 -> 0 | D2: =D77 -> 0.047964577 | E2: =E77 -> 0.037655242 | F2: =F77 -> 0.0026045877 | G2: =G77 -> 0.0053067021 | H2: =H77 -> 0.010450273 | I2: =I77 -> 0.032688849 | ... BC2: =BC77 -> 0
A3: max | B3: =B66 -> 0.84360339 | C3: =C66 -> 0.84277575 | D3: =D66 -> 0.47611175 | E3: =E66 -> 0.28111595 | F3: =F66 -> 0.5301019 | G3: =G66 -> 0.12186111 | H3: =H66 -> 0.22977131 | I3: =I66 -> 0.78137993 | ... BC3: =BC66 -> 0.84218653
A4: median | B4: =B110 -> 0.77919109 | C4: =C110 -> 0.36782816 | D4: =D110 -> 0.20528878 | E4: =E110 -> 0.1282795 | F4: =F110 -> 0.17819961 | G4: =G110 -> 0.032852516 | H4: =H110 -> 0.042501717 | I4: =I110 -> 0.45125111 | ... BC4: =BC110 -> 0.36761667
A5: 2.5th pec | B5: =B99 -> 0.48855269 | C5: =C99 -> 0.018309514 | D5: =D99 -> 0.089297291 | E5: =E99 -> 0.061966946 | F5: =F99 -> 0.050355107 | G5: =G99 -> 0.012586639 | H5: =H99 -> 0.017730079 | I5: =I99 -> 0.13867129 | ... BC5: =BC99 -> 0.055133248
A6: 97.5th pec | B6: =B88 -> 0.84027297 | C6: =C88 -> 0.79211341 | D6: =D88 -> 0.36038783 | E6: =E88 -> 0.22094218 | F6: =F88 -> 0.39816975 | G6: =G88 -> 0.06634378 | H6: =H88 -> 0.1166271 | I6: =I88 -> 0.75904394 | ... BC6: =BC88 -> 0.77541802
A7: mean | B7: =B55 -> 0.75927019 | C7: =C55 -> 0.38351358 | D7: =D55 -> 0.21066362 | E7: =E55 -> 0.1317029 | F7: =F55 -> 0.18939577 | G7: =G55 -> 0.034704582 | H7: =H55 -> 0.049018613 | I7: =I55 -> 0.45812913 | ... BC7: =BC55 -> 0.38204425
A8: std | B8: =B121 -> 0.086560355 | C8: =C121 -> 0.21972552 | D8: =D121 -> 0.0688994 | E8: =E121 -> 0.042220612 | F8: =F121 -> 0.092337189 | G8: =G121 -> 0.014433411 | H8: =H121 -> 0.026490954 | I8: =I121 -> 0.1763816 | ... BC8: =BC121 -> 0.18443046
A9: chi2gof | B9: =B44 -> 1.5153347e-24 | C9: =C44 -> 1.2116639e-11 | D9: =D44 -> 5.1328222e-05 | E9: =E44 -> 2.5788617e-07 | F9: =F44 -> 1.7707944e-18 | G9: =G44 -> 1.0154871e-09 | H9: =H44 -> 1.0017687e-18 | I9: =I44 -> 1.1236848e-11 | ... BC9: =BC44 -> 4.4459884e-06
A10: chi2 val | B10: =B143 -> 0 | C10: =C143 -> 0 | D10: =D143 -> 0 | E10: =E143 -> 0 | F10: =F143 -> 1 | G10: =G143 -> 1 | H10: =H143 -> 1 | I10: =I143 -> 1 | ... BC10: =BC143 -> 0 | BE10: =SUM(B10:BC10) -> 20 | BF10: =COUNT(B10:BC10) -> 54
A12: Sensitivity results
A13: Correlation coefficient | B13: 'ALcotton' | C13: 'ALpeanuts' | D13: 'ARcotton' | E13: 'ARrice' | F13: 'ARsoybeans' | G13: 'AZcotton' | H13: 'CAcotton' | I13: 'CArice' | J13: 'CAwheat spring' | K13: 'COcorn' | L13: 'COwheat spring' | M13: 'COwinter wheat' | N13: 'FLpeanuts' | O13: 'GAcorn' | P13: 'GAcotton' | Q13: 'GApeanuts' | R13: 'IDwheat spring' | S13: 'IDwinter wheat' | T13: 'ILcorn' | U13: 'ILsoybeans' | V13: 'KScorn' | W13: 'KSsoybeans' | X13: 'KSwheat spring' | Y13: 'LAcotton' | Z13: 'LArice' | AA13: 'LAsoybeans' | AB13: 'MIcorn' | AC13: 'MIsoybeans' | AD13: 'MNcorn' | AE13: 'MNsoybeans' | AF13: 'MOcorn' | AG13: 'MOcotton' | AH13: 'MOrice' | AI13: 'MOsoybeans' | AJ13: 'MScotton' | AK13: 'MSrice' | AL13: 'MSsoybeans' | AM13: 'MTwinter wheat' | AN13: 'NEcorn' | AO13: 'NEoats' | AP13: 'NEsoybeans' | AQ13: 'NEwheat spring' | AR13: 'ORwheat spring' | AS13: 'ORwinter wheat' | AT13: 'SCcotton' | AU13: 'SDcorn' | AV13: 'TXcorn' | AW13: 'TXcotton' | AX13: 'TXpeanuts' | AY13: 'TXrice' | AZ13: 'TXwheat spring' | BA13: 'WAwheat spring' | BB13: 'WAwinter wheat' | BC13: 'WIcorn'
A14: ground | B14: 1 | C14: 0.97177916 | D14: 0.92065776 | E14: 0.98250462 | F14: 0.93520542 | G14: 0.9989026 | H14: 0.99913029 | I14: 0.99978335 | J14: 1 | K14: 0.95089668 | L14: 1 | M14: 0.99955826 | N14: 0.81401973 | O14: 1 | P14: 0.93990139 | Q14: 0.91996142 | R14: 0.99999968 | S14: 0.99953467 | T14: 0.99974363 | U14: 1 | V14: 0.98446341 | W14: 0.94252434 | X14: 1 | Y14: 0.95196242 | Z14: 0.99819513 | AA14: 0.9907364 | AB14: 0.90069495 | AC14: 1 | AD14: 1 | AE14: 1 | AF14: 0.99063306 | AG14: 0.95902432 | AH14: 0.96369781 | AI14: 0.99636619 | AJ14: 0.94298682 | AK14: 0.99988081 | AL14: 0.98195287 | AM14: 1 | AN14: 0.9061893 | AO14: 0.99998822 | AP14: 0.9672845 | AQ14: 1 | AR14: 0.9798789 | AS14: 0.99994173 | AT14: 0.99784347 | AU14: 1 | AV14: 0.99120094 | AW14: 0.90169952 | AX14: 0.83502527 | AY14: 0.99999162 | AZ14: 0.98223068 | BA14: 1 | BB14: 0.99970301 | BC14: 0.94392609
A15: net rad | B15: 1 | C15: 0.95496085 | D15: 0.92565865 | E15: 0.964708 | F15: 0.92370333 | G15: 0.99633471 | H15: 0.99852149 | I15: 0.99893193 | J15: 1 | K15: 0.95531106 | L15: 1 | M15: 0.99710624 | N15: 0.89130074 | O15: 1 | P15: 0.92867286 | Q15: 0.92138693 | R15: 0.99567913 | S15: 0.99686405 | T15: 0.9949746 | U15: 1 | V15: 0.97164804 | W15: 0.94289255 | X15: 1 | Y15: 0.89846763 | Z15: 0.98479413 | AA15: 0.98077209 | AB15: 0.83281816 | AC15: 1 | AD15: 1 | AE15: 1 | AF15: 0.98698107 | AG15: 0.95550022 | AH15: 0.95085717 | AI15: 0.99088036 | AJ15: 0.9454225 | AK15: 0.99970708 | AL15: 0.96777512 | AM15: 1 | AN15: 0.92239677 | AO15: 0.99997108 | AP15: 0.94820633 | AQ15: 1 | AR15: 0.92029285 | AS15: 0.99948353 | AT15: 0.94923312 | AU15: 1 | AV15: 0.97318455 | AW15: 0.93087599 | AX15: 0.84046334 | AY15: 0.99996117 | AZ15: 0.93283445 | BA15: 1 | BB15: 0.99799194 | BC15: 0.93998953
A16: temp | B16: 1 | C16: 0.99420088 | D16: 0.96028928 | E16: 0.99271187 | F16: 0.96775943 | G16: 0.99877574 | H16: 0.99927715 | I16: 0.99976797 | J16: 1 | K16: 0.97890678 | L16: 1 | M16: 0.99888991 | N16: 0.91212771 | O16: 1 | P16: 0.9617353 | Q16: 0.96794481 | R16: 0.99997745 | S16: 0.99892451 | T16: 0.99981445 | U16: 1 | V16: 0.9946545 | W16: 0.97747346 | X16: 1 | Y16: 0.96339085 | Z16: 0.99337183 | AA16: 0.99623564 | AB16: 0.91875703 | AC16: 1 | AD16: 1 | AE16: 1 | AF16: 0.99674924 | AG16: 0.9812029 | AH16: 0.99046347 | AI16: 0.99930612 | AJ16: 0.97546508 | AK16: 0.99994354 | AL16: 0.98935494 | AM16: 1 | AN16: 0.9620553 | AO16: 0.99999007 | AP16: 0.99162377 | AQ16: 1 | AR16: 0.97908832 | AS16: 0.99993406 | AT16: 0.99957198 | AU16: 1 | AV16: 0.98773851 | AW16: 0.96017403 | AX16: 0.94171823 | AY16: 0.99998261 | AZ16: 0.98301252 | BA16: 1 | BB16: 0.99943425 | BC16: 0.97334472
A17: wind | B17: 1 | C17: 0.97020016 | D17: 0.86608221 | E17: 0.96686884 | F17: 0.93582753 | G17: 0.99749773 | H17: 0.99879154 | I17: 0.99972635 | J17: 1 | K17: 0.96334834 | L17: 1 | M17: 0.99751938 | N17: 0.73677906 | O17: 1 | P17: 0.93338823 | Q17: 0.9467397 | R17: 1 | S17: 0.99741652 | T17: 1 | U17: 1 | V17: 0.97466241 | W17: 0.95326849 | X17: 1 | Y17: 0.99999928 | Z17: 0.98161308 | AA17: 0.98449987 | AB17: 1 | AC17: 1 | AD17: 1 | AE17: 1 | AF17: 0.98908581 | AG17: 0.94868814 | AH17: 0.9448683 | AI17: 1 | AJ17: 0.87108562 | AK17: 0.99970832 | AL17: 0.97107114 | AM17: 1 | AN17: 0.87646005 | AO17: 0.99993224 | AP17: 0.94976001 | AQ17: 1 | AR17: 1 | AS17: 0.99976124 | AT17: 1 | AU17: 1 | AV17: 0.96946998 | AW17: 0.84311749 | AX17: 0.8997315 | AY17: 0.99996187 | AZ17: 0.98771249 | BA17: 1 | BB17: 0.99862075 | BC17: 0.95689505
A18: relative | B18: 1 | C18: 0.9278191 | D18: 0.70140228 | E18: 0.89872509 | F18: 0.83757784 | G18: 0.99186413 | H18: 0.99574067 | I18: 0.99942603 | J18: 1 | K18: 0.90786919 | L18: 1 | M18: 0.99031682 | N18: 0.59680817 | O18: 1 | P18: 0.82896049 | Q18: 0.87273716 | R18: 1 | S18: 0.99020523 | T18: 1 | U18: 1 | V18: 0.93206705 | W18: 0.89462701 | X18: 1 | Y18: 0.99928814 | Z18: 0.93571009 | AA18: 0.94991537 | AB18: 1 | AC18: 1 | AD18: 1 | AE18: 1 | AF18: 0.96713312 | AG18: 0.87211352 | AH18: 0.84845252 | AI18: 1 | AJ18: 0.74904083 | AK18: 0.99936675 | AL18: 0.92393935 | AM18: 1 | AN18: 0.74048018 | AO18: 0.99977406 | AP18: 0.8719846 | AQ18: 1 | AR18: 1 | AS18: 0.99904753 | AT18: 1 | AU18: 1 | AV18: 0.90378967 | AW18: 0.67289883 | AX18: 0.78210109 | AY18: 0.99988103 | AZ18: 0.94939018 | BA18: 1 | BB18: 0.99457698 | BC18: 0.89833045
A19: crop k | B19: 1 | C19: 0.92912861 | D19: 0.98933782 | E19: 0.99670676 | F19: 0.99332997 | G19: 0.99722973 | H19: 0.99877103 | I19: 0.99758986 | J19: 1 | K19: 0.98975909 | L19: 0.99998479 | M19: 0.99598807 | N19: 0.98664304 | O19: 1 | P19: 0.95703974 | Q19: 0.98132656 | R19: 0.94686821 | S19: 0.99607689 | T19: 0.76028894 | U19: 1 | V19: 0.99690196 | W19: 0.99476472 | X19: 1 | Y19: 0.87709951 | Z19: 0.97880112 | AA19: 0.97714775 | AB19: 0.64237187 | AC19: 1 | AD19: 0.99699453 | AE19: 1 | AF19: 0.98897166 | AG19: 0.99258582 | AH19: 0.99781507 | AI19: 0.65584448 | AJ19: 0.99402379 | AK19: 0.99945885 | AL19: 0.9930395 | AM19: 1 | AN19: 0.99682855 | AO19: 0.99994597 | AP19: 0.99681814 | AQ19: 1 | AR19: 0.76839409 | AS19: 0.9988531 | AT19: 0.085193051 | AU19: 0.28616778 | AV19: 0.98196436 | AW19: 0.99463448 | AX19: 0.98786249 | AY19: 0.99970956 | AZ19: 0.98595316 | BA19: 1 | BB19: 0.99757739 | BC19: 0.95522028
A20: precip | B20: 0.99963464 | C20: 0.88493086 | D20: 0.96330594 | E20: 0.99475542 | F20: 0.94274876 | G20: 0.993914 | H20: 0.99605105 | I20: 0.99653782 | J20: 1 | K20: 0.95356462 | L20: 0.9993521 | M20: 0.99955903 | N20: 0.94019782 | O20: 1 | P20: 0.9282386 | Q20: 0.95183158 | R20: 0.94867107 | S20: 0.99917993 | T20: 0.77628749 | U20: 0.99493905 | V20: 0.98965111 | W20: 0.95219287 | X20: 1 | Y20: 0.89375238 | Z20: 0.99304485 | AA20: 0.9707834 | AB20: 0.69351662 | AC20: 1 | AD20: 0.95552158 | AE20: 0.9466559 | AF20: 0.98325426 | AG20: 0.97300116 | AH20: 0.98366497 | AI20: 0.77516965 | AJ20: 0.97644897 | AK20: 0.99958714 | AL20: 0.97919953 | AM20: 1 | AN20: 0.9598944 | AO20: 0.99987951 | AP20: 0.97733978 | AQ20: 1 | AR20: 0.83122416 | AS20: 0.9998458 | AT20: 0.59283962 | AU20: 0.47159655 | AV20: 0.98570099 | AW20: 0.95921602 | AX20: 0.92026041 | AY20: 0.99979383 | AZ20: 0.96480548 | BA20: 1 | BB20: 0.99868525 | BC20: 0.91952843
A21: application | B21: 1 | C21: 0.85657236 | D21: 1 | E21: 1 | F21: 1 | G21: 1 | H21: 1 | I21: 0.90931395 | J21: 1 | K21: 1 | L21: 0.99632332 | M21: 0.99968359 | N21: 1 | O21: 1 | P21: 0.99897273 | Q21: 0.99999301 | R21: 0.75662164 | S21: 0.99966983 | T21: 0.96875682 | U21: 1 | V21: 1 | W21: 1 | X21: 1 | Y21: 0.59770666 | Z21: 1 | AA21: 0.93147328 | AB21: 0.15062374 | AC21: 1 | AD21: 0.71903961 | AE21: 1 | AF21: 0.99997502 | AG21: 1 | AH21: 1 | AI21: 0.90515236 | AJ21: 1 | AK21: 0.99546636 | AL21: 1 | AM21: 1 | AN21: 1 | AO21: 0.99721485 | AP21: 1 | AQ21: 1 | AR21: 0.30369924 | AS21: 0.996042 | AT21: 1 | AU21: 1 | AV21: 1 | AW21: 1 | AX21: 1 | AY21: 0.98516598 | AZ21: 0.99989613 | BA21: 0.89631909 | BB21: 0.99799284 | BC21: 0.98484141
A22: all | B22: 0.83984305 | C22: 0.93784983 | D22: 0.95801524 | E22: 0.96895688 | F22: 0.96763725 | G22: 0.97867333 | H22: 0.98659642 | I22: 0.9387615 | J22: 0.88341805 | K22: 0.95014546 | L22: 0.642393 | M22: 0.98502768 | N22: 0.95946607 | O22: 0.90550343 | P22: 0.95668652 | Q22: 0.9500083 | R22: 0.84919983 | S22: 0.98585408 | T22: 0.88705289 | U22: 0.8033967 | V22: 0.96860659 | W22: 0.95866775 | X22: 0.41410796 | Y22: 0.95910053 | Z22: 0.9740028 | AA22: 0.96520078 | AB22: 0.88586597 | AC22: 0.68589096 | AD22: 0.82589183 | AE22: 0.75415476 | AF22: 0.96837006 | AG22: 0.96352436 | AH22: 0.96860889 | AI22: 0.86039692 | AJ22: 0.96795155 | AK22: 0.98439242 | AL22: 0.97052297 | AM22: 0.93929262 | AN22: 0.95655349 | AO22: 0.99289076 | AP22: 0.95832756 | AQ22: 1 | AR22: 0.89468186 | AS22: 0.99242597 | AT22: 0.88772044 | AU22: 0.793314 | AV22: 0.97320409 | AW22: 0.97845428 | AX22: 0.91524993 | AY22: 0.98466546 | AZ22: 0.93317522 | BA22: 0.93538323 | BB22: 0.98649609 | BC22: 0.9432931
A24: Average diff
A25: ground | B25: 0 | C25: 0.19171297 | D25: 0.068815152 | E25: 0.033030543 | F25: 0.085030899 | G25: 0.0064804704 | H25: 0.011155152 | I25: 0.2173255 | J25: 0 | K25: 0.038031238 | L25: 0 | M25: 0.02063495 | N25: 0.1257059 | O25: 0 | P25: 0.18083567 | Q25: 0.15509329 | R25: 1.8072377e-06 | S25: 0.02764666 | T25: 0.00013992104 | U25: 0 | V25: 0.044898072 | W25: 0.052406511 | X25: 0 | Y25: 0.064933885 | Z25: 0.010240795 | AA25: 0.091722407 | AB25: 0.14075439 | AC25: 0 | AD25: 0 | AE25: 0 | AF25: 0.083222247 | AG25: 0.06850958 | AH25: 0.02688726 | AI25: 0.0016748183 | AJ25: 0.068982787 | AK25: 0.020321007 | AL25: 0.064991259 | AM25: 0 | AN25: 0.031441097 | AO25: 0.099690494 | AP25: 0.040037305 | AQ25: 0 | AR25: 0.024226169 | AS25: 0.038503836 | AT25: 1.3784579e-05 | AU25: 0 | AV25: 0.022454177 | AW25: 0.051615963 | AX25: 0.035931317 | AY25: 0.055679261 | AZ25: 0.15928169 | BA25: 0 | BB25: 0.042191184 | BC25: 0.19059924
A26: net rad | B26: 0 | C26: 0.18953072 | D26: 0.068636393 | E26: 0.032907355 | F26: 0.084600282 | G26: 0.0064424366 | H26: 0.01102523 | I26: 0.21653194 | J26: 0 | K26: 0.038007314 | L26: 0 | M26: 0.020190024 | N26: 0.12572809 | O26: 0 | P26: 0.18059938 | Q26: 0.1547509 | R26: 0.001815058 | S26: 0.027657775 | T26: 0.0012564831 | U26: 0 | V26: 0.044641112 | W26: 0.051862068 | X26: 0 | Y26: 0.06297521 | Z26: 0.010089698 | AA26: 0.090948586 | AB26: 0.14438409 | AC26: 0 | AD26: 0 | AE26: 0 | AF26: 0.083122478 | AG26: 0.068146378 | AH26: 0.026940265 | AI26: 0.0033033922 | AJ26: 0.068079799 | AK26: 0.020272904 | AL26: 0.064235827 | AM26: 0 | AN26: 0.030911085 | AO26: 0.094307136 | AP26: 0.03995269 | AQ26: 0 | AR26: 0.028497004 | AS26: 0.038941924 | AT26: 0.0001878619 | AU26: 0 | AV26: 0.022685388 | AW26: 0.051979088 | AX26: 0.036180965 | AY26: 0.057937859 | AZ26: 0.15456387 | BA26: 0 | BB26: 0.040618125 | BC26: 0.19032973
A27: temp | B27: 0 | C27: 0.1949911 | D27: 0.069352753 | E27: 0.033369979 | F27: 0.085510591 | G27: 0.0066606049 | H27: 0.011398076 | I27: 0.21691423 | J27: 0 | K27: 0.038745109 | L27: 0 | M27: 0.02067808 | N27: 0.12766287 | O27: 0 | P27: 0.18124811 | Q27: 0.15593165 | R27: 2.875052e-05 | S27: 0.027760095 | T27: 6.9400847e-05 | U27: 0 | V27: 0.04483143 | W27: 0.052818224 | X27: 0 | Y27: 0.0643413 | Z27: 0.01028649 | AA27: 0.092076848 | AB27: 0.1416555 | AC27: 0 | AD27: 0 | AE27: 0 | AF27: 0.08401188 | AG27: 0.069749723 | AH27: 0.026994729 | AI27: 0.00058852026 | AJ27: 0.070321987 | AK27: 0.02039694 | AL27: 0.066277189 | AM27: 0 | AN27: 0.032176209 | AO27: 0.088319073 | AP27: 0.040622343 | AQ27: 0 | AR27: 0.024963324 | AS27: 0.038794373 | AT27: 8.2638308e-06 | AU27: 0 | AV27: 0.023011502 | AW27: 0.052687356 | AX27: 0.036672648 | AY27: 0.055643448 | AZ27: 0.16256125 | BA27: 0 | BB27: 0.042239255 | BC27: 0.191555
A28: wind | B28: 0 | C28: 0.19116906 | D28: 0.068692027 | E28: 0.033034738 | F28: 0.084870576 | G28: 0.0064832608 | H28: 0.011152315 | I28: 0.21391941 | J28: 0 | K28: 0.038241788 | L28: 0 | M28: 0.020737489 | N28: 0.12534278 | O28: 0 | P28: 0.18029814 | Q28: 0.15426814 | R28: 0 | S28: 0.027296459 | T28: 0 | U28: 0 | V28: 0.044527559 | W28: 0.051858992 | X28: 0 | Y28: 0.06495137 | Z28: 0.010153211 | AA28: 0.091315108 | AB28: 0.14042616 | AC28: 0 | AD28: 0 | AE28: 0 | AF28: 0.083196182 | AG28: 0.068488099 | AH28: 0.026926538 | AI28: 0 | AJ28: 0.068151558 | AK28: 0.019875949 | AL28: 0.064233654 | AM28: 0 | AN28: 0.031787739 | AO28: 0.11169673 | AP28: 0.040289113 | AQ28: 0 | AR28: 0.024619807 | AS28: 0.038384912 | AT28: 0 | AU28: 0 | AV28: 0.023120268 | AW28: 0.051712574 | AX28: 0.036053787 | AY28: 0.057802396 | AZ28: 0.15926862 | BA28: 0 | BB28: 0.041807026 | BC28: 0.19021694
A29: relative | B29: 0 | C29: 0.193755 | D29: 0.068916734 | E29: 0.033221412 | F29: 0.085114859 | G29: 0.0066966254 | H29: 0.011070363 | I29: 0.2098156 | J29: 0 | K29: 0.038465795 | L29: 0 | M29: 0.020863259 | N29: 0.12611255 | O29: 0 | P29: 0.18036344 | Q29: 0.15461601 | R29: 0 | S29: 0.02756635 | T29: 0 | U29: 0 | V29: 0.044536023 | W29: 0.052490959 | X29: 0 | Y29: 0.064516525 | Z29: 0.011196453 | AA29: 0.091843975 | AB29: 0.14042616 | AC29: 0 | AD29: 0 | AE29: 0 | AF29: 0.083724651 | AG29: 0.069147311 | AH29: 0.027045093 | AI29: 0 | AJ29: 0.069577758 | AK29: 0.020332067 | AL29: 0.065510505 | AM29: 0 | AN29: 0.031859171 | AO29: 0.089529659 | AP29: 0.040161691 | AQ29: 0 | AR29: 0.024619807 | AS29: 0.039080232 | AT29: 0 | AU29: 0 | AV29: 0.023037552 | AW29: 0.051902376 | AX29: 0.036187127 | AY29: 0.055835992 | AZ29: 0.15980649 | BA29: 0 | BB29: 0.042467215 | BC29: 0.19137853
A30: crop k | B30: 0 | C30: 0.17981088 | D30: 0.068933871 | E30: 0.032853274 | F30: 0.078081642 | G30: 0.0072159476 | H30: 0.012057157 | I30: 0.18357911 | J30: 0 | K30: 0.037881069 | L30: 1.446133e-05 | M30: 0.025136149 | N30: 0.11238289 | O30: 0 | P30: 0.1540768 | Q30: 0.15497369 | R30: 0.0082556134 | S30: 0.037888128 | T30: 0.037492521 | U30: 0 | V30: 0.044547744 | W30: 0.052492077 | X30: 0 | Y30: 0.060152712 | Z30: 0.019734229 | AA30: 0.079938096 | AB30: 0.10506054 | AC30: 0 | AD30: 0.003334434 | AE30: 0 | AF30: 0.093020809 | AG30: 0.07062962 | AH30: 0.027278779 | AI30: 0.064599192 | AJ30: 0.07101614 | AK30: 0.020026095 | AL30: 0.069426363 | AM30: 0 | AN30: 0.031160697 | AO30: 0.14888448 | AP30: 0.040374138 | AQ30: 0 | AR30: 0.04662568 | AS30: 0.036565438 | AT30: 0.030174663 | AU30: 0.013194669 | AV30: 0.019733426 | AW30: 0.049688733 | AX30: 0.034555245 | AY30: 0.046754969 | AZ30: 0.16019252 | BA30: 0 | BB30: 0.038090926 | BC30: 0.17636689
A31: precip | B31: 0.00015305706 | C31: 0.14831591 | D31: 0.072982504 | E31: 0.0334915 | F31: 0.085813277 | G31: 0.0075293854 | H31: 0.012672783 | I31: 0.17360968 | J31: 0 | K31: 0.041570885 | L31: 0.00026080394 | M31: 0.020679903 | N31: 0.12872505 | O31: 0 | P31: 0.17187049 | Q31: 0.16389788 | R31: 0.0087060954 | S31: 0.028794388 | T31: 0.029683886 | U31: 0.00094432129 | V31: 0.046768374 | W31: 0.058321566 | X31: 0 | Y31: 0.057839123 | Z31: 0.013562263 | AA31: 0.082393409 | AB31: 0.13842051 | AC31: 0 | AD31: 0.018344664 | AE31: 0.00039252136 | AF31: 0.0922153 | AG31: 0.076395625 | AH31: 0.028943656 | AI31: 0.042707142 | AJ31: 0.076810108 | AK31: 0.020215223 | AL31: 0.071932402 | AM31: 0 | AN31: 0.034585368 | AO31: 0.08201525 | AP31: 0.043684313 | AQ31: 0 | AR31: 0.039826202 | AS31: 0.038606484 | AT31: 0.032586289 | AU31: 0.014218946 | AV31: 0.020155244 | AW31: 0.056974057 | AX31: 0.03806624 | AY31: 0.042603501 | AZ31: 0.16325884 | BA31: 0 | BB31: 0.039034281 | BC31: 0.186704
A32: application | B32: 0 | C32: 0.16819232 | D32: 0.068809302 | E32: 0.03303284 | F32: 0.085045526 | G32: 0.0063557055 | H32: 0.010961709 | I32: 0.079745166 | J32: 0 | K32: 0.038138254 | L32: 0.00037992491 | M32: 0.020449046 | N32: 0.12555154 | O32: 0 | P32: 0.18070562 | Q32: 0.1550893 | R32: 0.01136729 | S32: 0.02754575 | T32: 0.0019297242 | U32: 0 | V32: 0.044822581 | W32: 0.052081069 | X32: 0 | Y32: 0.051055352 | Z32: 0.010280049 | AA32: 0.0816993 | AB32: 0.10495426 | AC32: 0 | AD32: 0.01322259 | AE32: 0 | AF32: 0.083340351 | AG32: 0.068255368 | AH32: 0.026962554 | AI32: 0.011297579 | AJ32: 0.067812654 | AK32: 0.019628684 | AL32: 0.064078665 | AM32: 0 | AN32: 0.031527711 | AO32: 0.014641674 | AP32: 0.040149587 | AQ32: 0 | AR32: 0.042829771 | AS32: 0.03150806 | AT32: 0 | AU32: 0 | AV32: 0.023158482 | AW32: 0.051845274 | AX32: 0.03617684 | AY32: 0.023522845 | AZ32: 0.15959758 | BA32: 0.057184675 | BB32: 0.041329001 | BC32: 0.18847663
A33: all | B33: 0.031060799 | C33: 0.12915728 | D33: 0.0516992 | E33: 0.02551645 | F33: 0.054479882 | G33: 0.0052654056 | H33: 0.0090525981 | I33: 0.092586344 | J33: 0.0042905894 | K33: 0.026742448 | L33: 0.085198564 | M33: 0.019526283 | N33: 0.073631313 | O33: 0.021842504 | P33: 0.11358916 | Q33: 0.099872666 | R33: 0.12207608 | S33: 0.028786973 | T33: 0.13213361 | U33: 0.079275667 | V33: 0.032629766 | W33: 0.0366526 | X33: 0.032547907 | Y33: 0.076668876 | Z33: 0.014194302 | AA33: 0.061321862 | AB33: 0.15444771 | AC33: 0.02945086 | AD33: 0.15064451 | AE33: 0.051678144 | AF33: 0.065311481 | AG33: 0.052176682 | AH33: 0.020632751 | AI33: 0.13423932 | AJ33: 0.054156016 | AK33: 0.014776462 | AL33: 0.05112452 | AM33: 0.0074622303 | AN33: 0.021889556 | AO33: 0.021886226 | AP33: 0.027995887 | AQ33: 0 | AR33: 0.13618521 | AS33: 0.025458992 | AT33: 0.12799804 | AU33: 0.14266096 | AV33: 0.013815429 | AW33: 0.036008862 | AX33: 0.02044905 | AY33: 0.033044052 | AZ33: 0.12252413 | BA33: 0.10039115 | BB33: 0.028662419 | BC33: 0.12512268
A35: chi 2
A36: ground | B36: 1.2855054e-26 | C36: 6.7581873e-12 | D36: 0.16169781 | E36: 0.00089175686 | F36: 0.0030209077 | G36: 1.3162855e-36 | H36: 3.4667926e-60 | K36: 0.00010731205 | L36: 0.0015223491 | M36: 5.7710956e-15 | N36: 0.00093639733 | O36: 8.6483407e-30 | P36: 0.077179554 | Q36: 0.00015225908 | R36: 0.43433978 | S36: 5.0473676e-13 | T36: 1.6963565e-05 | U36: 1.6957861e-21 | V36: 5.0242065e-05 | W36: 1.3219196e-05 | X36: 1.5386237e-08 | Y36: 1.9764872e-05 | Z36: 0.00027548741 | AA36: 8.8565085e-06 | AB36: 3.2047436e-11 | AC36: 0.12621398 | AD36: 2.134787e-12 | AE36: 3.9416086e-05 | AF36: 0.022195866 | AG36: 0.012747066 | AH36: 0.00014366968 | AI36: 1.1759136e-11 | AJ36: 0.017081326 | AL36: 0.0024571553 | AM36: 5.0386558e-10 | AN36: 0.052626745 | AP36: 1.4665389e-06 | AQ36: 2.6481347e-05 | AR36: 0.00038010571 | AS36: 4.7625107e-55 | AT36: 0.086616032 | AU36: 0.39360751 | AV36: 0.0046531059 | AW36: 0.040348405 | AX36: 1.2435142e-10 | AZ36: 3.026008e-08 | BA36: 7.6121752e-20 | BB36: 1.1503815e-09 | BC36: 4.3920599e-08
A37: net rad | B37: 1.2855054e-26 | C37: 6.1022229e-18 | D37: 0.12123631 | E37: 5.3615527e-06 | F37: 0.061029261 | G37: 5.2660862e-36 | H37: 2.929957e-63 | K37: 2.0735451e-06 | L37: 0.0015223491 | M37: 3.3895334e-16 | N37: 0.033936319 | O37: 8.6483407e-30 | P37: 0.11411969 | Q37: 5.4259906e-05 | R37: 0.43433978 | S37: 5.8498639e-14 | T37: 1.6963565e-05 | U37: 1.6957861e-21 | V37: 1.3490468e-07 | W37: 0.00024153101 | X37: 1.5386237e-08 | Y37: 1.7098759e-05 | Z37: 0.00037096558 | AA37: 1.2654193e-07 | AB37: 3.2047436e-11 | AC37: 0.12621398 | AD37: 2.134787e-12 | AE37: 3.9416086e-05 | AF37: 0.024927294 | AG37: 0.05105587 | AH37: 0.037466458 | AI37: 1.1759136e-11 | AJ37: 0.081595908 | AL37: 0.042251919 | AM37: 5.0386558e-10 | AN37: 0.00055050998 | AP37: 1.6664067e-06 | AQ37: 2.6481347e-05 | AR37: 0.00038010571 | AS37: 3.4168918e-48 | AT37: 0.086616032 | AU37: 0.39360751 | AV37: 0.15583251 | AW37: 0.060000587 | AX37: 3.9904392e-08 | AZ37: 4.568321e-06 | BA37: 7.6121752e-20 | BB37: 1.4463155e-10 | BC37: 1.3419947e-05
A38: temp | B38: 1.2855054e-26 | C38: 9.7978284e-14 | D38: 0.34319058 | E38: 0.00032235561 | F38: 0.04816146 | G38: 2.1169187e-24 | H38: 1.4503326e-61 | K38: 4.1005132e-06 | L38: 0.0015223491 | M38: 2.1436543e-18 | N38: 0.0037841214 | O38: 8.6483407e-30 | P38: 0.0056501362 | Q38: 7.1433886e-09 | R38: 0.43433978 | S38: 2.9151159e-16 | T38: 1.6963565e-05 | U38: 1.6957861e-21 | V38: 0.0019209966 | W38: 0.00082713739 | X38: 1.5386237e-08 | Y38: 3.5505804e-06 | Z38: 0.0045036332 | AA38: 6.462491e-07 | AB38: 3.2047436e-11 | AC38: 0.12621398 | AD38: 2.134787e-12 | AE38: 3.9416086e-05 | AF38: 0.0056339067 | AG38: 0.00070522871 | AH38: 0.020982054 | AI38: 1.1759136e-11 | AJ38: 0.041779502 | AL38: 0.047271684 | AM38: 5.0386558e-10 | AN38: 0.097186745 | AP38: 0.0086346974 | AQ38: 2.6481347e-05 | AR38: 0.00038010571 | AS38: 1.9233467e-51 | AT38: 0.086616032 | AU38: 0.39360751 | AV38: 0.0027575638 | AW38: 0.50017293 | AX38: 1.7839642e-09 | AZ38: 2.2214623e-09 | BA38: 7.6121752e-20 | BB38: 1.6769489e-10 | BC38: 3.327268e-05
A39: wind | B39: 1.2855054e-26 | C39: 9.8023461e-13 | D39: 0.044880486 | E39: 0.00017695355 | F39: 0.0010652398 | G39: 2.3014061e-30 | H39: 2.394714e-58 | K39: 0.015479004 | L39: 0.0015223491 | M39: 2.0199897e-25 | N39: 0.24928558 | O39: 8.6483407e-30 | P39: 0.038797141 | Q39: 1.2539611e-05 | R39: 0.43433978 | S39: 5.7211353e-15 | T39: 1.6963565e-05 | U39: 1.6957861e-21 | V39: 2.0076478e-09 | W39: 0.00023563921 | X39: 1.5386237e-08 | Y39: 1.9777836e-05 | Z39: 0.0004975309 | AA39: 1.8953032e-06 | AB39: 3.2047436e-11 | AC39: 0.12621398 | AD39: 2.134787e-12 | AE39: 3.9416086e-05 | AF39: 0.025635565 | AG39: 0.00058143826 | AH39: 0.0084490958 | AI39: 1.1759136e-11 | AJ39: 0.041335275 | AL39: 0.0078383765 | AM39: 5.0386558e-10 | AN39: 0.0024652873 | AP39: 0.0057112204 | AQ39: 2.6481347e-05 | AR39: 0.00038010571 | AS39: 4.1550471e-47 | AT39: 0.086616032 | AU39: 0.39360751 | AV39: 0.0088183802 | AW39: 0.025801956 | AX39: 6.9572318e-05 | AZ39: 1.5596217e-10 | BA39: 7.6121752e-20 | BB39: 1.1466483e-10 | BC39: 5.9668344e-09
A40: relative | B40: 1.2855054e-26 | C40: 3.4793554e-14 | D40: 0.28126561 | E40: 0.0001262432 | F40: 0.0029879912 | G40: 9.6861648e-28 | H40: 5.0917756e-59 | K40: 2.0674624e-06 | L40: 0.0015223491 | M40: 2.1446563e-27 | N40: 0.32122143 | O40: 8.6483407e-30 | P40: 0.00384372 | Q40: 4.0543075e-06 | R40: 0.43433978 | S40: 5.2401251e-18 | T40: 1.6963565e-05 | U40: 1.6957861e-21 | V40: 1.085598e-06 | W40: 0.0050424697 | X40: 1.5386237e-08 | Y40: 2.1094197e-07 | Z40: 0.00021032405 | AA40: 1.4274176e-08 | AB40: 3.2047436e-11 | AC40: 0.12621398 | AD40: 2.134787e-12 | AE40: 3.9416086e-05 | AF40: 0.013082218 | AG40: 0.008697402 | AH40: 0.080950249 | AI40: 1.1759136e-11 | AJ40: 0.15141808 | AL40: 0.25332789 | AM40: 5.0386558e-10 | AN40: 0.055633176 | AP40: 0.019630941 | AQ40: 2.6481347e-05 | AR40: 0.00038010571 | AS40: 4.2314294e-48 | AT40: 0.086616032 | AU40: 0.39360751 | AV40: 0.099012486 | AW40: 0.0088715948 | AX40: 5.3326392e-06 | AZ40: 1.3671638e-06 | BA40: 7.6121752e-20 | BB40: 2.2524492e-10 | BC40: 3.8720055e-08
A41: crop k | B41: 1.2855054e-26 | C41: 0.00021732057 | D41: 2.5941247e-13 | E41: 9.3786033e-14 | F41: 2.6167153e-45 | G41: 9.9945085e-12 | H41: 2.6867405e-21 | K41: 6.1553407e-26 | L41: 0.0015223491 | M41: 1.7022506e-11 | N41: 1.164597e-10 | O41: 8.6483407e-30 | P41: 1.5928231e-17 | Q41: 6.1695592e-21 | R41: 0.43433978 | S41: 9.4710158e-14 | T41: 1.6963565e-05 | U41: 1.6957861e-21 | V41: 4.7826378e-06 | W41: 1.3034627e-42 | X41: 1.5386237e-08 | Y41: 0.0012098603 | Z41: 3.5508085e-25 | AA41: 2.0436041e-05 | AB41: 9.5986662e-12 | AC41: 0.12621398 | AD41: 2.134787e-12 | AE41: 3.9416086e-05 | AF41: 7.4037308e-19 | AG41: 1.1801535e-09 | AH41: 8.2439581e-31 | AI41: 5.1715454e-12 | AJ41: 5.332513e-08 | AL41: 5.4871092e-15 | AM41: 5.0386558e-10 | AN41: 3.1034563e-31 | AP41: 7.2183339e-08 | AQ41: 2.6481347e-05 | AR41: 0.00038010571 | AS41: 2.4762973e-59 | AT41: 0.086616032 | AU41: 0.39360751 | AV41: 5.0132196e-23 | AW41: 4.4211486e-11 | AX41: 1.851186e-06 | AZ41: 0.010508768 | BA41: 7.6121752e-20 | BB41: 9.3805998e-12 | BC41: 0.022134538
A42: precip | B42: 1.2855054e-26 | C42: 6.7227205e-07 | D42: 0.20934518 | E42: 0.044992781 | F42: 0.010180064 | G42: 1.599631e-17 | H42: 2.6951421e-37 | K42: 0.021082821 | L42: 0.0015223491 | M42: 3.5623761e-13 | N42: 0.15120013 | O42: 8.6483407e-30 | P42: 0.00047823827 | Q42: 0.00071184077 | R42: 0.43433978 | S42: 9.0684e-16 | T42: 9.2658446e-06 | U42: 1.6957861e-21 | V42: 0.19127705 | W42: 0.009289752 | X42: 1.5386237e-08 | Y42: 0.0030852909 | Z42: 0.097793118 | AA42: 0.39852747 | AB42: 2.440653e-06 | AC42: 0.12621398 | AD42: 1.3624991e-12 | AE42: 3.9416086e-05 | AF42: 7.9446627e-06 | AG42: 0.044636218 | AH42: 0.0051653144 | AI42: 4.830043e-08 | AJ42: 0.08423468 | AL42: 0.0012581362 | AM42: 5.0386558e-10 | AN42: 0.0021606049 | AP42: 0.00039060358 | AQ42: 2.6481347e-05 | AR42: 0.0006383796 | AS42: 1.5204598e-62 | AV42: 0.16924503 | AW42: 0.036787502 | AX42: 2.3421955e-08 | AZ42: 1.6299769e-05 | BA42: 7.6121752e-20 | BB42: 9.6044688e-22 | BC42: 0.2597658
A43: application | B43: 2.877198e-15 | C43: 0.084854453 | D43: 0.031890468 | E43: 8.2263516e-08 | F43: 0.0032058734 | G43: 6.28614e-27 | H43: 3.1336239e-59 | I43: 0.0014197236 | J43: 9.0703217e-12 | K43: 0.0024795971 | L43: 7.4503458e-25 | M43: 4.551887e-30 | N43: 0.0010998206 | O43: 2.8157367e-15 | P43: 0.22759189 | Q43: 4.2133769e-05 | R43: 1.6334344e-05 | S43: 3.245805e-15 | T43: 1.1425686e-12 | U43: 4.4387613e-11 | V43: 2.4087442e-05 | W43: 0.00059934487 | X43: 1.2130416e-14 | Y43: 1.2158815e-05 | Z43: 0.0003471309 | AA43: 0.0074577147 | AB43: 1.8334587e-24 | AC43: 3.8751914e-12 | AD43: 1.048447e-16 | AE43: 9.9176393e-17 | AF43: 0.14609707 | AG43: 0.17583506 | AH43: 0.00011390854 | AI43: 1.1638544e-16 | AJ43: 0.00048124972 | AL43: 0.056575785 | AM43: 4.7292847e-07 | AN43: 0.0025994263 | AO43: 7.7778801e-27 | AP43: 0.00014553628 | AQ43: 6.3505395e-15 | AR43: 1.6288102e-07 | AS43: 8.9615706e-116 | AT43: 2.4095435e-12 | AU43: 1.2789387e-12 | AV43: 4.1663526e-05 | AW43: 0.029004841 | AX43: 1.1542569e-07 | AY43: 1.4760243e-05 | AZ43: 9.6764252e-13 | BA43: 7.5669697e-48 | BB43: 4.0109438e-24 | BC43: 0.00016553319
...

Sheet PT surface averages
A1: % of applied | B1: 'ALcotton' | C1: 'ALpeanuts' | D1: 'ARcotton' | E1: 'ARrice' | F1: 'ARsoybeans' | G1: 'AZcotton' | H1: 'CAcotton' | I1: 'CArice' | J1: 'CAwheat spring' | K1: 'COcorn' | L1: 'COwheat spring' | M1: 'COwinter wheat' | N1: 'FLpeanuts' | O1: 'GAcorn' | P1: 'GAcotton' | Q1: 'GApeanuts' | R1: 'IDwheat spring' | S1: 'IDwinter wheat' | T1: 'ILcorn' | U1: 'ILsoybeans' | V1: 'KScorn' | W1: 'KSsoybeans' | X1: 'KSwheat spring' | Y1: 'LAcotton' | Z1: 'LArice' | AA1: 'LAsoybeans' | AB1: 'MIcorn' | AC1: 'MIsoybeans' | AD1: 'MNcorn' | AE1: 'MNsoybeans' | AF1: 'MOcorn' | AG1: 'MOcotton' | AH1: 'MOrice' | AI1: 'MOsoybeans' | AJ1: 'MScotton' | AK1: 'MSrice' | AL1: 'MSsoybeans' | AM1: 'MTwinter wheat' | AN1: 'NEcorn' | AO1: 'NEoats' | AP1: 'NEsoybeans' | AQ1: 'NEwheat spring' | AR1: 'ORwheat spring' | AS1: 'ORwinter wheat' | AT1: 'SCcotton' | AU1: 'SDcorn' | AV1: 'TXcorn' | AW1: 'TXcotton' | AX1: 'TXpeanuts' | AY1: 'TXrice' | AZ1: 'TXwheat spring' | BA1: 'WAwheat spring' | BB1: 'WAwinter wheat' | BC1: 'WIcorn'
A2: min | B2: =B54 -> 0 | C2: =C54 -> 0 | D2: =D54 -> 0.0048840277 | E2: =E54 -> 0.011431835 | F2: =F54 -> 0 | G2: =G54 -> 0.0031770817 | H2: =H54 -> 0.0025765893 | I2: =I54 -> 0 | ... BC2: =BC54 -> 0
A3: max | B3: =B43 -> 0.84360339 | C3: =C43 -> 0.81665779 | D3: =D43 -> 0.42348798 | E3: =E43 -> 0.25520461 | F3: =F43 -> 0.41077002 | G3: =G43 -> 0.11540921 | H3: =H43 -> 0.19390313 | I3: =I43 -> 0.78137993 | ... BC3: =BC43 -> 0.8304329
A4: median | B4: =B87 -> 0.76776368 | C4: =C87 -> 0.2202767 | D4: =D87 -> 0.15295501 | E4: =E87 -> 0.10190672 | F4: =F87 -> 0.12213529 | G4: =G87 -> 0.027995069 | H4: =H87 -> 0.034663398 | I4: =I87 -> 0.3347517 | ... BC4: =BC87 -> 0.233644
A5: 2.5th pec | B5: =B76 -> 0.31236962 | C5: =C76 -> 0 | D5: =D76 -> 0.052146236 | E5: =E76 -> 0.039873141 | F5: =F76 -> 0.010680043 | G5: =G76 -> 0.0093107621 | H5: =H76 -> 0.012655663 | I5: =I76 -> 0.069149127 | ... BC5: =BC76 -> 0
A6: 97.5th pec | B6: =B65 -> 0.83956948 | C6: =C65 -> 0.72139352 | D6: =D65 -> 0.29993229 | E6: =E65 -> 0.19051655 | F6: =F65 -> 0.3419715 | G6: =G65 -> 0.057787877 | H6: =H65 -> 0.1029326 | I6: =I65 -> 0.74747632 | ... BC6: =BC65 -> 0.63759397
A7: mean | B7: =B32 -> 0.72830133 | C7: =C32 -> 0.25455505 | D7: =D32 -> 0.15901901 | E7: =E32 -> 0.10621645 | F7: =F32 -> 0.13498946 | G7: =G32 -> 0.029460025 | H7: =H32 -> 0.039973826 | I7: =I32 -> 0.36568891 | ... BC7: =BC32 -> 0.25705559
A8: std | B8: =B98 -> 0.13072345 | C8: =C98 -> 0.20129871 | D8: =D98 -> 0.064186791 | E8: =E98 -> 0.040234136 | F8: =F98 -> 0.084014168 | G8: =G98 -> 0.013232571 | H8: =H98 -> 0.022699928 | I8: =I98 -> 0.18459624 | ... BC8: =BC98 -> 0.16746778
A9: chi2gof | B9: =B21 -> 8.9509756e-95 | C9: =C21 -> 8.4646976e-14 | D9: =D21 -> 2.3448464e-07 | E9: =E21 -> 4.4176396e-09 | F9: =F21 -> 5.5121282e-20 | G9: =G21 -> 9.2188906e-10 | H9: =H21 -> 2.531495e-50 | I9: =I21 -> 2.2470768e-16 | ... BC9: =BC21 -> 1.6765483e-08
A10: chi2 val | B10: =B109 -> 0 | C10: =C109 -> 0 | D10: =D109 -> 0 | E10: =E109 -> 0 | F10: =F109 -> 1 | G10: =G109 -> 1 | H10: =H109 -> 1 | I10: =I109 -> 1 | ... BC10: =BC109 -> 0 | BE10: =SUM(B10:BC10) -> 21 | BF10: =COUNT(B10:BC10) -> 54
A12: chi 2 | B12: 'ALcotton' | C12: 'ALpeanuts' | D12: 'ARcotton' | E12: 'ARrice' | F12: 'ARsoybeans' | G12: 'AZcotton' | H12: 'CAcotton' | I12: 'CArice' | J12: 'CAwheat spring' | K12: 'COcorn' | L12: 'COwheat spring' | M12: 'COwinter wheat' | N12: 'FLpeanuts' | O12: 'GAcorn' | P12: 'GAcotton' | Q12: 'GApeanuts' | R12: 'IDwheat spring' | S12: 'IDwinter wheat' | T12: 'ILcorn' | U12: 'ILsoybeans' | V12: 'KScorn' | W12: 'KSsoybeans' | X12: 'KSwheat spring' | Y12: 'LAcotton' | Z12: 'LArice' | AA12: 'LAsoybeans' | AB12: 'MIcorn' | AC12: 'MIsoybeans' | AD12: 'MNcorn' | AE12: 'MNsoybeans' | AF12: 'MOcorn' | AG12: 'MOcotton' | AH12: 'MOrice' | AI12: 'MOsoybeans' | AJ12: 'MScotton' | AK12: 'MSrice' | AL12: 'MSsoybeans' | AM12: 'MTwinter wheat' | AN12: 'NEcorn' | AO12: 'NEoats' | AP12: 'NEsoybeans' | AQ12: 'NEwheat spring' | AR12: 'ORwheat spring' | AS12: 'ORwinter wheat' | AT12: 'SCcotton' | AU12: 'SDcorn' | AV12: 'TXcorn' | AW12: 'TXcotton' | AX12: 'TXpeanuts' | AY12: 'TXrice' | AZ12: 'TXwheat spring' | BA12: 'WAwheat spring' | BB12: 'WAwinter wheat' | BC12: 'WIcorn'
A13: ground | B13: 1.2855054e-26 | C13: 1.0263613e-06 | D13: 0.026412088 | E13: 0.00024161661 | F13: 0.00073386703 | G13: 1.243397e-29 | H13: 2.6734044e-52 | K13: 8.5788894e-06 | L13: 0.0015223491 | M13: 5.2186508e-15 | N13: 0.36479792 | O13: 8.6483407e-30 | P13: 0.19113949 | Q13: 0.0019085616 | R13: 0.43438222 | S13: 4.3142302e-13 | T13: 2.4240605e-05 | U13: 1.6957861e-21 | V13: 0.0012796166 | W13: 9.0889152e-08 | X13: 1.5386237e-08 | Y13: 4.8648022e-07 | Z13: 0.0014714608 | AA13: 7.8460091e-06 | AB13: 4.9510951e-11 | AC13: 0.12621398 | AD13: 2.134787e-12 | AE13: 3.9416086e-05 | AF13: 0.079083973 | AG13: 0.012310471 | AH13: 0.0056846431 | AI13: 1.3031797e-09 | AJ13: 0.12562038 | AL13: 0.0032985412 | AM13: 5.0386558e-10 | AN13: 0.15278613 | AP13: 2.7850994e-08 | AQ13: 2.6481347e-05 | AR13: 5.9557005e-05 | AS13: 1.4341411e-57 | AT13: 0.084353193 | AU13: 0.39360751 | AV13: 0.013478871 | AW13: 0.10089773 | AX13: 0.018377844 | AZ13: 2.134381e-11 | BA13: 7.6121752e-20 | BB13: 1.8668727e-09 | BC13: 2.1809983e-08
A14: net rad | B14: 1.2855054e-26 | C14: 1.0577317e-17 | D14: 0.16957968 | E14: 0.00019662765 | F14: 0.10141113 | G14: 7.8770905e-35 | H14: 1.8380725e-59 | K14: 9.5682988e-06 | L14: 0.0015223491 | M14: 2.1516226e-17 | N14: 0.30718403 | O14: 8.6483407e-30 | P14: 0.17025123 | Q14: 0.00013291257 | R14: 0.19775126 | S14: 2.5985807e-24 | T14: 1.4541506e-05 | U14: 1.6957861e-21 | V14: 3.1504213e-05 | W14: 0.00016569837 | X14: 1.5386237e-08 | Y14: 1.7855018e-07 | Z14: 7.7831132e-05 | AA14: 8.1628294e-08 | AB14: 2.5962099e-08 | AC14: 0.12621398 | AD14: 2.134787e-12 | AE14: 3.9416086e-05 | AF14: 0.0069431739 | AG14: 0.026263149 | AH14: 0.078083218 | AI14: 1.7487567e-12 | AJ14: 0.61602281 | AL14: 0.18589543 | AM14: 5.0386558e-10 | AN14: 0.25301592 | AP14: 0.00013724046 | AQ14: 2.6481347e-05 | AR14: 0.0063115466 | AS14: 2.0631383e-46 | AT14: 0.0012233234 | AU14: 0.39360751 | AV14: 0.047284363 | AW14: 0.60745379 | AX14: 0.013400388 | AZ14: 1.3388603e-07 | BA14: 7.6121752e-20 | BB14: 2.6775656e-11 | BC14: 0.015539517
A15: temp | B15: 1.2855054e-26 | C15: 2.2116252e-14 | D15: 0.074972843 | E15: 3.0283197e-06 | F15: 0.06496578 | G15: 4.836774e-27 | H15: 1.8759969e-66 | K15: 1.6456344e-07 | L15: 0.0015223491 | M15: 5.0169766e-21 | N15: 0.014133838 | O15: 8.6483407e-30 | P15: 0.022336251 | Q15: 2.1836649e-08 | R15: 0.43383305 | S15: 9.7378416e-19 | T15: 1.6946323e-05 | U15: 1.6957861e-21 | V15: 2.0497863e-05 | W15: 0.0065914644 | X15: 1.5386237e-08 | Y15: 3.1237497e-07 | Z15: 0.0041062454 | AA15: 5.9469138e-06 | AB15: 6.2176912e-09 | AC15: 0.12621398 | AD15: 2.134787e-12 | AE15: 3.9416086e-05 | AF15: 0.011378847 | AG15: 0.072670469 | AH15: 0.001232658 | AI15: 4.5322456e-11 | AJ15: 0.014145766 | AL15: 0.063948459 | AM15: 5.0386558e-10 | AN15: 0.38432734 | AP15: 0.063873302 | AQ15: 2.6481347e-05 | AR15: 0.00031250718 | AS15: 5.8198892e-53 | AT15: 0.064823083 | AU15: 0.39360751 | AV15: 0.067555386 | AW15: 0.4966557 | AX15: 0.00011074252 | AZ15: 3.034609e-09 | BA15: 7.6121752e-20 | BB15: 1.2467024e-10 | BC15: 4.5165228e-06
A16: wind | B16: 1.2855054e-26 | C16: 4.928992e-13 | D16: 0.031890468 | E16: 8.2263516e-08 | F16: 0.0032058734 | G16: 6.28614e-27 | H16: 3.1336239e-59 | K16: 0.0024795971 | L16: 0.0015223491 | M16: 1.8850927e-16 | N16: 0.0010998206 | O16: 8.6483407e-30 | P16: 0.079272874 | Q16: 2.9405275e-05 | R16: 0.43433978 | S16: 5.5711072e-12 | T16: 1.6963565e-05 | U16: 1.6957861e-21 | V16: 2.4087442e-05 | W16: 0.00059934487 | X16: 1.5386237e-08 | Y16: 1.9764872e-05 | Z16: 0.0003471309 | AA16: 2.9208685e-07 | AB16: 3.2047436e-11 | AC16: 0.12621398 | AD16: 2.134787e-12 | AE16: 3.9416086e-05 | AF16: 0.14572384 | AG16: 0.17583506 | AH16: 0.00011390854 | AI16: 1.1759136e-11 | AJ16: 0.00048124972 | AL16: 0.056575785 | AM16: 5.0386558e-10 | AN16: 0.0025994263 | AP16: 0.00014553628 | AQ16: 2.6481347e-05 | AR16: 0.00038010571 | AS16: 3.6913622e-54 | AT16: 0.086616032 | AU16: 0.39360751 | AV16: 4.1663526e-05 | AW16: 0.029004841 | AX16: 1.1542569e-07 | AZ16: 1.1677522e-12 | BA16: 7.6121752e-20 | BB16: 3.8783996e-10 | BC16: 3.2514202e-06
A17: relative | B17: 1.2855054e-26 | C17: 4.928992e-13 | D17: 0.031890468 | E17: 8.2263516e-08 | F17: 0.0032058734 | G17: 6.28614e-27 | H17: 3.1336239e-59 | K17: 0.0024795971 | L17: 0.0015223491 | M17: 1.8850927e-16 | N17: 0.0010998206 | O17: 8.6483407e-30 | P17: 0.079272874 | Q17: 2.9405275e-05 | R17: 0.43433978 | S17: 5.5711072e-12 | T17: 1.6963565e-05 | U17: 1.6957861e-21 | V17: 2.4087442e-05 | W17: 0.00059934487 | X17: 1.5386237e-08 | Y17: 1.9764872e-05 | Z17: 0.0003471309 | AA17: 2.9208685e-07 | AB17: 3.2047436e-11 | AC17: 0.12621398 | AD17: 2.134787e-12 | AE17: 3.9416086e-05 | AF17: 0.14572384 | AG17: 0.17583506 | AH17: 0.00011390854 | AI17: 1.1759136e-11 | AJ17: 0.00048124972 | AL17: 0.056575785 | AM17: 5.0386558e-10 | AN17: 0.0025994263 | AP17: 0.00014553628 | AQ17: 2.6481347e-05 | AR17: 0.00038010571 | AS17: 3.6913622e-54 | AT17: 0.086616032 | AU17: 0.39360751 | AV17: 4.1663526e-05 | AW17: 0.029004841 | AX17: 1.1542569e-07 | AZ17: 1.1677522e-12 | BA17: 7.6121752e-20 | BB17: 3.8783996e-10 | BC17: 3.2514202e-06
A18: crop k | B18: 1.2855054e-26 | C18: 4.5853409e-14 | D18: 5.6207768e-09 | E18: 7.1915684e-15 | F18: 8.3131296e-39 | G18: 6.7564382e-14 | H18: 4.8362825e-22 | K18: 1.3931253e-32 | L18: 0.0015250688 | M18: 2.1436054e-12 | N18: 7.2581371e-13 | O18: 8.6483407e-30 | P18: 7.1222213e-32 | Q18: 4.6572022e-15 | R18: 0.47708876 | S18: 2.4320609e-12 | T18: 0.11366328 | U18: 1.6957861e-21 | V18: 7.7195598e-06 | W18: 2.2257369e-36 | X18: 1.5386237e-08 | Y18: 0.18739756 | Z18: 2.1417854e-28 | AA18: 3.5724211e-11 | AB18: 5.13907e-06 | AC18: 0.12621398 | AD18: 9.8260076e-12 | AE18: 3.9416086e-05 | AF18: 1.8916526e-24 | AG18: 1.398255e-08 | AH18: 2.5729059e-24 | AI18: 3.5250476e-05 | AJ18: 0.0004200177 | AL18: 8.4267651e-11 | AM18: 5.0386558e-10 | AN18: 1.8948375e-22 | AP18: 6.0550165e-08 | AQ18: 2.6481347e-05 | AR18: 0.093168818 | AS18: 2.677382e-65 | AT18: 9.4492268e-180 | AU18: 3.2599001e-241 | AV18: 2.9038921e-22 | AW18: 1.1652192e-09 | AX18: 0.00019250929 | AZ18: 0.0374751 | BA18: 7.6121752e-20 | BB18: 5.3305268e-10 | BC18: 1.9003905e-15
A19: precip | B19: 9.1713221e-27 | C19: 0.019055688 | D19: 0.39648702 | E19: 0.020078514 | F19: 0.0664976 | G19: 2.568895e-17 | H19: 3.6095443e-42 | K19: 0.00022792944 | L19: 0.0022027992 | M19: 5.6027725e-14 | N19: 0.030742 | O19: 8.6483407e-30 | P19: 0.020702865 | Q19: 0.0028027809 | R19: 0.27236416 | S19: 6.7912062e-14 | T19: 3.7133479e-12 | U19: 6.5742354e-21 | V19: 0.12432228 | W19: 0.0054919164 | X19: 1.5386237e-08 | Y19: 0.0062025808 | Z19: 0.016053882 | AA19: 0.011054305 | AB19: 3.6205783e-06 | AC19: 0.12621398 | AD19: 4.6659777e-11 | AE19: 3.9909699e-06 | AF19: 1.181726e-06 | AG19: 0.0017084139 | AH19: 0.021916009 | AI19: 2.7784501e-08 | AJ19: 0.47666906 | AL19: 0.011024813 | AM19: 5.0386558e-10 | AN19: 0.00071767821 | AP19: 2.7946435e-05 | AQ19: 2.6481347e-05 | AR19: 0.052112708 | AS19: 9.1678381e-67 | AT19: 1.0343323e-100 | AU19: 5.4595413e-121 | AV19: 0.10053521 | AW19: 0.060663094 | AX19: 2.0528031e-14 | AZ19: 1.883638e-06 | BA19: 7.6121752e-20 | BB19: 5.5334938e-21 | BC19: 0.023569625
A20: application | B20: 2.877198e-15 | C20: 2.715451e-12 | D20: 0.031890468 | E20: 8.2263516e-08 | F20: 0.0032058734 | G20: 6.28614e-27 | H20: 3.1336239e-59 | I20: 9.1189505e-10 | J20: 9.0703217e-12 | K20: 0.0024795971 | L20: 1.2149966e-25 | M20: 4.9069212e-19 | N20: 0.0010998206 | O20: 2.8157367e-15 | P20: 0.079272874 | Q20: 2.9405275e-05 | R20: 0.044204532 | S20: 8.2349538e-20 | T20: 1.5097587e-10 | U20: 4.4387613e-11 | V20: 2.4087442e-05 | W20: 0.00059934487 | X20: 1.2130416e-14 | Y20: 0.23623201 | Z20: 0.0003471309 | AA20: 0.00066502208 | AB20: 0.093958145 | AC20: 3.8751914e-12 | AD20: 1.6537089e-07 | AE20: 9.9176393e-17 | AF20: 0.14572384 | AG20: 0.17583506 | AH20: 0.00011390854 | AI20: 5.6113155e-08 | AJ20: 0.00048124972 | AL20: 0.056575785 | AM20: 4.7292847e-07 | AN20: 0.0025994263 | AO20: 1.8501273e-24 | AP20: 0.00014553628 | AQ20: 6.3505395e-15 | AR20: 0.028663104 | AS20: 3.2522128e-124 | AT20: 2.4095435e-12 | AU20: 1.2789387e-12 | AV20: 4.1663526e-05 | AW20: 0.029004841 | AX20: 1.1542569e-07 | AY20: 0.006462596 | AZ20: 1.1677522e-12 | BA20: 6.0980445e-27 | BB20: 4.41808e-22 | BC20: 3.2514202e-06
A21: all | B21: 8.9509756e-95 | C21: 8.4646976e-14 | D21: 2.3448464e-07 | E21: 4.4176396e-09 | F21: 5.5121282e-20 | G21: 9.2188906e-10 | H21: 2.531495e-50 | I21: 2.2470768e-16 | J21: 5.0448844e-07 | K21: 6.9518916e-06 | L21: 1.9428365e-10 | M21: 6.0481068e-12 | N21: 3.3679104e-09 | O21: 4.5642778e-24 | P21: 6.8582687e-07 | Q21: 8.8435754e-09 | R21: 0.027169283 | S21: 7.9935149e-11 | T21: 4.9508595e-10 | U21: 1.303983e-71 | V21: 4.7781748e-06 | W21: 0.00012630497 | X21: 1.7522693e-24 | Y21: 0.019785681 | Z21: 0.0010259778 | AA21: 3.1241742e-09 | AB21: 1.8273168e-11 | AC21: 1.0863468e-80 | AD21: 2.4603454e-10 | AE21: 1.0367397e-74 | AF21: 9.043118e-13 | AG21: 2.4276561e-07 | AH21: 5.2488727e-14 | AI21: 3.2344583e-18 | AJ21: 0.0017105693 | AL21: 1.6003443e-08 | AM21: 2.1531815e-15 | AN21: 1.3014742e-12 | AO21: 2.6638982e-41 | AP21: 1.1438008e-05 | AQ21: 6.3505395e-15 | AR21: 0.022451626 | AS21: 2.1131299e-70 | AT21: 3.4089624e-08 | AU21: 4.4359918e-53 | AV21: 3.359566e-08 | AW21: 2.0505648e-06 | AX21: 1.1665345e-19 | AY21: 5.1755095e-16 | AZ21: 0.023689181 | BA21: 7.8818133e-17 | BB21: 2.1400554e-14 | BC21: 1.6765483e-08
A23: mean values
A24: ground | B24: 0.82638096 | C24: 0.5357963 | D24: 0.26039855 | E24: 0.17235539 | F24: 0.19666815 | G24: 0.045913912 | H24: 0.06367945 | I24: 0.75315687 | J24: 1.1831072 | K24: 0.097051441 | L24: 0.72337521 | M24: 0.30113027 | N24: 0.19743118 | O24: 0.86080969 | P24: 0.44728817 | Q24: 0.26411125 | R24: 0.75442666 | S24: 0.41126473 | T24: 0.80520675 | U24: 0.81853172 | V24: 0.21603039 | W24: 0.14033304 | X24: 0.7956188 | Y24: 0.68365668 | Z24: 0.2688252 | AA24: 0.52518176 | AB24: 0.68933509 | AC24: 0.80058221 | AD24: 0.78389715 | AE24: 0.80062631 | AF24: 0.34944346 | AG24: 0.28108702 | AH24: 0.11624424 | AI24: 0.71485763 | AJ24: 0.34262522 | AK24: 0.1153837 | AL24: 0.3229137 | AM24: 0.69247885 | AN24: 0.094245652 | AO24: 2.0648326 | AP24: 0.16244907 | AQ24: 0.80533272 | AR24: 0.72046147 | AS24: 0.32018837 | AT24: 0.79984649 | AU24: 0.80020839 | AV24: 0.15443553 | AW24: 0.18473584 | AX24: 0.036357505 | AY24: 0.75312587 | AZ24: 0.3427966 | BA24: 0.57753191 | BB24: 0.38565309 | BC24: 0.4352653
A25: net rad | B25: 0.82638096 | C25: 0.53605967 | D25: 0.26094927 | E25: 0.17266548 | F25: 0.19747818 | G25: 0.046018975 | H25: 0.063681056 | I25: 0.74930693 | J25: 1.1831072 | K25: 0.097467784 | L25: 0.72337521 | M25: 0.30228624 | N25: 0.19770712 | O25: 0.86080969 | P25: 0.44751935 | Q25: 0.26439711 | R25: 0.75261341 | S25: 0.41122557 | T25: 0.80409019 | U25: 0.81853172 | V25: 0.21666003 | W25: 0.14109574 | X25: 0.7956188 | Y25: 0.68555356 | Z25: 0.26930009 | AA25: 0.5271568 | AB25: 0.68570539 | AC25: 0.80058221 | AD25: 0.78389715 | AE25: 0.80062631 | AF25: 0.34956344 | AG25: 0.28087666 | AH25: 0.11612847 | AI25: 0.71322905 | AJ25: 0.34317579 | AK25: 0.11552713 | AL25: 0.3234056 | AM25: 0.69247885 | AN25: 0.094881929 | AO25: 2.0789336 | AP25: 0.16257472 | AQ25: 0.80533272 | AR25: 0.71619064 | AS25: 0.31906348 | AT25: 0.79967241 | AU25: 0.80020839 | AV25: 0.15390339 | AW25: 0.18395917 | AX25: 0.0360159 | AY25: 0.74727726 | AZ25: 0.34786647 | BA25: 0.57753191 | BB25: 0.3877381 | BC25: 0.43627105
A26: temp | B26: 0.82638096 | C26: 0.53470474 | D26: 0.26070951 | E26: 0.17253824 | F26: 0.19696492 | G26: 0.045876049 | H26: 0.063644321 | I26: 0.75111877 | J26: 1.1831072 | K26: 0.097249206 | L26: 0.72337521 | M26: 0.30146395 | N26: 0.19864133 | O26: 0.86080969 | P26: 0.44596827 | Q26: 0.2624929 | R26: 0.75439971 | S26: 0.41104549 | T26: 0.80527727 | U26: 0.81853172 | V26: 0.2158743 | W26: 0.14025626 | X26: 0.7956188 | Y26: 0.68310105 | Z26: 0.26847656 | AA26: 0.52463539 | AB26: 0.68843398 | AC26: 0.80058221 | AD26: 0.78389715 | AE26: 0.80062631 | AF26: 0.34812223 | AG26: 0.28008562 | AH26: 0.11580326 | AI26: 0.71594392 | AJ26: 0.34294804 | AK26: 0.11548469 | AL26: 0.3232004 | AM26: 0.69247885 | AN26: 0.093926683 | AO26: 2.0686999 | AP26: 0.16178887 | AQ26: 0.80533272 | AR26: 0.71972432 | AS26: 0.31967044 | AT26: 0.79985201 | AU26: 0.80020839 | AV26: 0.15391958 | AW26: 0.18427718 | AX26: 0.035980444 | AY26: 0.74961225 | AZ26: 0.34248507 | BA26: 0.57753191 | BB26: 0.38556051 | BC26: 0.43538417
A27: wind | B27: 0.82638096 | C27: 0.53466011 | D27: 0.26038034 | E27: 0.17235047 | F27: 0.19661416 | G27: 0.045973342 | H27: 0.063675864 | I27: 0.75202759 | J27: 1.1831072 | K27: 0.097049994 | L27: 0.72337521 | M27: 0.30145287 | N27: 0.1975259 | O27: 0.86080969 | P27: 0.44702816 | Q27: 0.26382772 | R27: 0.75442846 | S27: 0.41124129 | T27: 0.80534668 | U27: 0.81853172 | V27: 0.21621705 | W27: 0.14061181 | X27: 0.7956188 | Y27: 0.68363603 | Z27: 0.26871997 | AA27: 0.52504769 | AB27: 0.68966332 | AC27: 0.80058221 | AD27: 0.78389715 | AE27: 0.80062631 | AF27: 0.34892344 | AG27: 0.2806468 | AH27: 0.11605445 | AI27: 0.71653244 | AJ27: 0.3432566 | AK27: 0.11546638 | AL27: 0.32353489 | AM27: 0.69247885 | AN27: 0.093975627 | AO27: 2.0805791 | AP27: 0.1620887 | AQ27: 0.80533272 | AR27: 0.72006783 | AS27: 0.31978877 | AT27: 0.79986027 | AU27: 0.80020839 | AV27: 0.15362019 | AW27: 0.18420712 | AX27: 0.035926064 | AY27: 0.75107108 | AZ27: 0.34238901 | BA27: 0.57753191 | BB27: 0.38575453 | BC27: 0.43537381
A28: relative | B28: 0.82638096 | C28: 0.53466011 | D28: 0.26038034 | E28: 0.17235047 | F28: 0.19661416 | G28: 0.045973342 | H28: 0.063675864 | I28: 0.75202759 | J28: 1.1831072 | K28: 0.097049994 | L28: 0.72337521 | M28: 0.30145287 | N28: 0.1975259 | O28: 0.86080969 | P28: 0.44702816 | Q28: 0.26382772 | R28: 0.75442846 | S28: 0.41124129 | T28: 0.80534668 | U28: 0.81853172 | V28: 0.21621705 | W28: 0.14061181 | X28: 0.7956188 | Y28: 0.68363603 | Z28: 0.26871997 | AA28: 0.52504769 | AB28: 0.68966332 | AC28: 0.80058221 | AD28: 0.78389715 | AE28: 0.80062631 | AF28: 0.34892344 | AG28: 0.2806468 | AH28: 0.11605445 | AI28: 0.71653244 | AJ28: 0.3432566 | AK28: 0.11546638 | AL28: 0.32353489 | AM28: 0.69247885 | AN28: 0.093975627 | AO28: 2.0805791 | AP28: 0.1620887 | AQ28: 0.80533272 | AR28: 0.72006783 | AS28: 0.31978877 | AT28: 0.79986027 | AU28: 0.80020839 | AV28: 0.15362019 | AW28: 0.18420712 | AX28: 0.035926064 | AY28: 0.75107108 | AZ28: 0.34238901 | BA28: 0.57753191 | BB28: 0.38575453 | BC28: 0.43537381
A29: crop k | B29: 0.82638096 | C29: 0.46722404 | D29: 0.26452797 | E29: 0.16712382 | F29: 0.22770716 | G29: 0.047641566 | H29: 0.063287674 | I29: 0.76309894 | J29: 1.1831072 | K29: 0.10713328 | L29: 0.72336075 | M29: 0.29547007 | N29: 0.26310812 | O29: 0.86080969 | P29: 0.4887027 | Q29: 0.29908435 | R29: 0.74617285 | S29: 0.40661475 | T29: 0.76785415 | U29: 0.81853172 | V29: 0.21913795 | W29: 0.15002102 | X29: 0.7956188 | Y29: 0.66658492 | Z29: 0.27461642 | AA29: 0.5069846 | AB29: 0.71893841 | AC29: 0.80058221 | AD29: 0.78056272 | AE29: 0.80062631 | AF29: 0.30932212 | AG29: 0.29230464 | AH29: 0.12863117 | AI29: 0.65145798 | AJ29: 0.34619734 | AK29: 0.11776814 | AL29: 0.31032997 | AM29: 0.69247885 | AN29: 0.11052947 | AO29: 2.0990969 | AP29: 0.16504589 | AQ29: 0.80533272 | AR29: 0.69806196 | AS29: 0.30720203 | AT29: 0.76968561 | AU29: 0.78701373 | AV29: 0.15607849 | AW29: 0.22363948 | AX29: 0.037970099 | AY29: 0.74365899 | AZ29: 0.3538014 | BA29: 0.57753191 | BB29: 0.38972612 | BC29: 0.45393804
A30: precip | B30: 0.8262279 | C30: 0.57525418 | D30: 0.26209129 | E30: 0.17302981 | F30: 0.20759889 | G30: 0.047129831 | H30: 0.065697373 | I30: 0.7771297 | J30: 1.1831072 | K30: 0.10210053 | L30: 0.72311441 | M30: 0.30068978 | N30: 0.22611097 | O30: 0.86080969 | P30: 0.47058981 | Q30: 0.2929979 | R30: 0.74572237 | S30: 0.41384789 | T30: 0.77398488 | U30: 0.81758739 | V30: 0.2207326 | W30: 0.15334471 | X30: 0.7956188 | Y30: 0.66736876 | Z30: 0.27270924 | AA30: 0.53024504 | AB30: 0.67150797 | AC30: 0.80058221 | AD30: 0.76501402 | AE30: 0.80023379 | AF30: 0.35496844 | AG30: 0.28481647 | AH30: 0.11802919 | AI30: 0.67007149 | AJ30: 0.34590555 | AK30: 0.11581665 | AL30: 0.32590213 | AM30: 0.69247885 | AN30: 0.099934682 | AO30: 2.1208651 | AP30: 0.16469929 | AQ30: 0.80533272 | AR30: 0.70484938 | AS30: 0.32109099 | AT30: 0.76439647 | AU30: 0.7854196 | AV30: 0.15841061 | AW30: 0.18719086 | AX30: 0.044575451 | AY30: 0.7504156 | AZ30: 0.34541505 | BA30: 0.57753191 | BB30: 0.39362386 | BC30: 0.45769574
A31: application | B31: 0.77934736 | C31: 0.53323883 | D31: 0.26038034 | E31: 0.17235047 | F31: 0.19661416 | G31: 0.045973342 | H31: 0.063675864 | I31: 0.52040246 | J31: 0.68988146 | K31: 0.097049994 | L31: 0.71104391 | M31: 0.30132889 | N31: 0.1975259 | O31: 0.77796743 | P31: 0.44702816 | Q31: 0.26382772 | R31: 0.72883754 | S31: 0.41121807 | T31: 0.77710047 | U31: 0.77762832 | V31: 0.21621705 | W31: 0.14061181 | X31: 0.7637828 | Y31: 0.66666168 | Z31: 0.26871997 | AA31: 0.52396712 | AB31: 0.67800673 | AC31: 0.77904229 | AD31: 0.76473881 | AE31: 0.78003846 | AF31: 0.34892344 | AG31: 0.2806468 | AH31: 0.11605445 | AI31: 0.67535882 | AJ31: 0.3432566 | AK31: 0.11248303 | AL31: 0.32353489 | AM31: 0.73294304 | AN31: 0.093975627 | AO31: 0.63325385 | AP31: 0.1620887 | AQ31: 0.78069721 | AR31: 0.69655798 | AS31: 0.30262946 | AT31: 0.7781913 | AU31: 0.77974093 | AV31: 0.15362019 | AW31: 0.18420712 | AX31: 0.035926064 | AY31: 0.58704818 | AZ31: 0.34238901 | BA31: 0.67509839 | BB31: 0.38469035 | BC31: 0.43537381
A32: all | B32: 0.72830133 | C32: 0.25455505 | D32: 0.15901901 | E32: 0.10621645 | F32: 0.13498946 | G32: 0.029460025 | H32: 0.039973826 | I32: 0.36568891 | J32: 0.68559087 | K32: 0.060014685 | L32: 0.61131022 | M32: 0.19014231 | N32: 0.15847025 | O32: 0.73308012 | P32: 0.28589109 | Q32: 0.1633187 | R32: 0.54614171 | S32: 0.26642612 | T32: 0.50999136 | U32: 0.65511549 | V32: 0.13266726 | W32: 0.086481948 | X32: 0.73062916 | Y32: 0.41523886 | Z32: 0.18400242 | AA32: 0.30760254 | AB32: 0.46530462 | AC32: 0.74151659 | AD32: 0.5192495 | AE32: 0.70798435 | AF32: 0.18518345 | AG32: 0.17426312 | AH32: 0.080195027 | AI32: 0.42412064 | AJ32: 0.20975843 | AK32: 0.072844206 | AL32: 0.18709663 | AM32: 0.71736464 | AN32: 0.062829093 | AO32: 0.48979735 | AP32: 0.093201528 | AQ32: 0.78069721 | AR32: 0.49025779 | AS32: 0.20298179 | AT32: 0.5194691 | AU32: 0.54798789 | AV32: 0.10073867 | AW32: 0.13582446 | AX32: 0.021429078 | AY32: 0.42337303 | AZ32: 0.24473896 | BA32: 0.52749999 | BB32: 0.26377226 | BC32: 0.25705559
A34: max
A35: ground | B35: 1.9997169 | C35: 1.2004708 | D35: 0.31570215 | E35: 0.23438139 | F35: 0.28171298 | G35: 0.13884921 | H35: 0.19023965 | I35: 46.005293 | J35: 57.645064 | K35: 0.14245118 | L35: 1.0503142 | M35: 0.88654861 | N35: 0.2625101 | O35: 2.1256384 | P35: 0.61664398 | Q35: 0.5108274 | R35: 1.0140407 | S35: 0.76885267 | T35: 1.1695858 | U35: 1.7944811 | V35: 0.34243297 | W35: 0.21760725 | X35: 1.1520127 | Y35: 0.94572273 | Z35: 0.36275677 | AA35: 0.85983169 | AB35: 1.1535186 | AC35: 0.8299505 | AD35: 1.4581543 | AE35: 0.90709781 | AF35: 0.57109653 | AG35: 0.36768962 | AH35: 0.15200081 | AI35: 1.2592165 | AJ35: 0.40622427 | AK35: 3.8663999 | AL35: 0.45066345 | AM35: 1.1696327 | AN35: 0.12276817 | AO35: 632.42321 | AP35: 0.22465978 | AQ35: 1.2192499 | AR35: 0.99319909 | AS35: 2.0126997 | AT35: 0.82710956 | AU35: 0.84628652 | AV35: 0.18590574 | AW35: 0.21932727 | AX35: 0.073008201 | AY35: 48.323492 | AZ35: 0.5291247 | BA35: 1.4548744 | BB35: 1.3997895 | BC35: 0.71217453
A36: net rad | B36: 1.9997169 | C36: 1.1596603 | D36: 0.31512081 | E36: 0.24329996 | F36: 0.27621251 | G36: 0.13115648 | H36: 0.20386068 | I36: 43.079861 | J36: 57.645064 | K36: 0.15020988 | L36: 1.0503142 | M36: 0.91630533 | N36: 0.27478001 | O36: 2.1256384 | P36: 0.62433063 | Q36: 0.46158465 | R36: 1.0140407 | S36: 0.77459428 | T36: 1.1695858 | U36: 1.7944811 | V36: 0.32469057 | W36: 0.21514352 | X36: 1.1520127 | Y36: 0.96965674 | Z36: 0.34607038 | AA36: 0.86831684 | AB36: 1.2962481 | AC36: 0.8299505 | AD36: 1.4581543 | AE36: 0.90709781 | AF36: 0.54461328 | AG36: 0.40630664 | AH36: 0.16634297 | AI36: 1.3183256 | AJ36: 0.43139762 | AK36: 3.8350766 | AL36: 0.4566598 | AM36: 1.1696327 | AN36: 0.12515348 | AO36: 639.08107 | AP36: 0.22961478 | AQ36: 1.2192499 | AR36: 1.0104759 | AS36: 1.908107 | AT36: 0.82710956 | AU36: 0.84628652 | AV36: 0.18912009 | AW36: 0.22656004 | AX36: 0.06780658 | AY36: 45.306471 | AZ36: 0.60619442 | BA36: 1.4548744 | BB36: 1.439888 | BC36: 0.75375098
A37: temp | B37: 1.9997169 | C37: 1.0988593 | D37: 0.31255387 | E37: 0.23943358 | F37: 0.26572305 | G37: 0.13734048 | H37: 0.19787504 | I37: 46.916061 | J37: 57.645064 | K37: 0.14958773 | L37: 1.0503142 | M37: 0.86920281 | N37: 0.26460028 | O37: 2.1256384 | P37: 0.5951442 | Q37: 0.49527032 | R37: 1.0140407 | S37: 0.75922325 | T37: 1.1695858 | U37: 1.7944811 | V37: 0.33064041 | W37: 0.2255677 | X37: 1.1520127 | Y37: 0.96437042 | Z37: 0.36890712 | AA37: 0.88747825 | AB37: 1.2380899 | AC37: 0.8299505 | AD37: 1.4581543 | AE37: 0.90709781 | AF37: 0.53469632 | AG37: 0.37762365 | AH37: 0.14755782 | AI37: 1.3183256 | AJ37: 0.41597615 | AK37: 3.8126658 | AL37: 0.43465876 | AM37: 1.1696327 | AN37: 0.12183559 | AO37: 645.03054 | AP37: 0.23277276 | AQ37: 1.2192499 | AR37: 0.9864395 | AS37: 1.9956216 | AT37: 0.82710956 | AU37: 0.84628652 | AV37: 0.18703048 | AW37: 0.21822656 | AX37: 0.06277313 | AY37: 45.714554 | AZ37: 0.5477129 | BA37: 1.4548744 | BB37: 1.3962279 | BC37: 0.75502043
