Workbook
Name acre_d: 'energy - as parameterized flows'!$I$115
Name acre_d: 'energy - error propagation'!$I$115
Name acre_d_1994: 'energy - as parameterized flows'!$I$43
Name acre_d_1994: 'energy - error propagation'!$I$43
Name acre_d_1994: #REF!
Name acre_d_1998: 'energy - as parameterized flows'!$I$49
Name acre_d_1998: 'energy - error propagation'!$I$49
Name acre_d_1998: #REF!
Name acre_d_2003: 'energy - as parameterized flows'!$I$55
Name acre_d_2003: 'energy - error propagation'!$I$55
Name acre_d_2003: #REF!
Name acre_d_2008: 'energy - as parameterized flows'!$I$61
Name acre_d_2008: 'energy - error propagation'!$I$61
Name acre_d_2008: #REF!
Name acre_e: 'energy - as parameterized flows'!$I$116
Name acre_e: 'energy - error propagation'!$I$116
Name acre_e_1994: 'energy - as parameterized flows'!$I$44
Name acre_e_1994: 'energy - error propagation'!$I$44
Name acre_e_1994: #REF!
Name acre_e_1998: 'energy - as parameterized flows'!$I$50
Name acre_e_1998: 'energy - error propagation'!$I$50
Name acre_e_1998: #REF!
Name acre_e_2003: 'energy - as parameterized flows'!$I$56
Name acre_e_2003: 'energy - error propagation'!$I$56
Name acre_e_2003: #REF!
Name acre_e_2008: 'energy - as parameterized flows'!$I$62
Name acre_e_2008: 'energy - error propagation'!$I$62
Name acre_e_2008: #REF!
Name acre_g: 'energy - as parameterized flows'!$I$117
Name acre_g: 'energy - error propagation'!$I$117
Name acre_g_1994: 'energy - as parameterized flows'!$I$45
Name acre_g_1994: 'energy - error propagation'!$I$45
Name acre_g_1994: #REF!
Name acre_g_1998: 'energy - as parameterized flows'!$I$51
Name acre_g_1998: 'energy - error propagation'!$I$51
Name acre_g_1998: #REF!
Name acre_g_2003: 'energy - as parameterized flows'!$I$57
Name acre_g_2003: 'energy - error propagation'!$I$57
Name acre_g_2003: #REF!
Name acre_g_2008: 'energy - as parameterized flows'!$I$63
Name acre_g_2008: 'energy - error propagation'!$I$63
Name acre_g_2008: #REF!
Name acre_lpg: 'energy - as parameterized flows'!$I$118
Name acre_lpg: 'energy - error propagation'!$I$118
Name acre_lpg_1994: 'energy - as parameterized flows'!$I$46
Name acre_lpg_1994: 'energy - error propagation'!$I$46
Name acre_lpg_1994: #REF!
Name acre_lpg_1998: 'energy - as parameterized flows'!$I$52
Name acre_lpg_1998: 'energy - error propagation'!$I$52
Name acre_lpg_1998: #REF!
Name acre_lpg_2003: 'energy - as parameterized flows'!$I$58
Name acre_lpg_2003: 'energy - error propagation'!$I$58
Name acre_lpg_2003: #REF!
Name acre_lpg_2008: 'energy - as parameterized flows'!$I$64
Name acre_lpg_2008: 'energy - error propagation'!$I$64
Name acre_lpg_2008: #REF!
Name acre_ng: 'energy - as parameterized flows'!$I$119
Name acre_ng: 'energy - error propagation'!$I$119
Name acre_ng_1994: 'energy - as parameterized flows'!$I$47
Name acre_ng_1994: 'energy - error propagation'!$I$47

Sheet notes
A1: Supporting information - 1
A2: Fresh water consumption characterization factor data and results
A3: prepared by Ezra Kahn
A4: for the dissertation: Characterization of Uncertainty and Variability of Freshwater Consumption in Life Cycle Assessment
A6: The following sheets contain results for fresh water consumption characterization factors:
B7: FAO surface averages
B8: PT surface averages
B9: surface sensitivity
B10: surface difference mean
B12: FAO ground averages
B13: PT ground averages
B14: ground sensitivity
B15: ground difference mean
B17: FAO green averages
B18: PT green averages
B19: green sensitivity
B20: green difference mean
A22: Sheets titled <indicator> averages represent the summary statistics of the monte carlo estimation for that characterization factor
A23: Sheets titled <indicator> sensitivity represent the sensitivity of individual parameters on the final estimate
A24: Sheets titled <indicator> difference mean represent the average difference in characterization factors between the FAO56 and Priestley-Taylor methods for estimation crop water deficit
A26: The sheets energy - as parameterizaed flows, and energy - error propgation contain the data and estimates for conveyance and application energy of irrigation water
A28: The sheet titled application data contain the irrigation application data from ARMS

Sheet FAO surface averages
A1: % of applied | B1: 'ALcotton' | C1: 'ALpeanuts' | D1: 'ARcotton' | E1: 'ARrice' | F1: 'ARsoybeans' | G1: 'AZcotton' | H1: 'CAcotton' | I1: 'CArice' | J1: 'CAwheat spring' | K1: 'COcorn' | L1: 'COwheat spring' | M1: 'COwinter wheat' | N1: 'FLpeanuts' | O1: 'GAcorn' | P1: 'GAcotton' | Q1: 'GApeanuts' | R1: 'IDwheat spring' | S1: 'IDwinter wheat' | T1: 'ILcorn' | U1: 'ILsoybeans' | V1: 'KScorn' | W1: 'KSsoybeans' | X1: 'KSwheat spring' | Y1: 'LAcotton' | Z1: 'LArice' | AA1: 'LAsoybeans' | AB1: 'MIcorn' | AC1: 'MIsoybeans' | AD1: 'MNcorn' | AE1: 'MNsoybeans' | AF1: 'MOcorn' | AG1: 'MOcotton' | AH1: 'MOrice' | AI1: 'MOsoybeans' | AJ1: 'MScotton' | AK1: 'MSrice' | AL1: 'MSsoybeans' | AM1: 'MTwinter wheat' | AN1: 'NEcorn' | AO1: 'NEoats' | AP1: 'NEsoybeans' | AQ1: 'NEwheat spring' | AR1: 'ORwheat spring' | AS1: 'ORwinter wheat' | AT1: 'SCcotton' | AU1: 'SDcorn' | AV1: 'TXcorn' | AW1: 'TXcotton' | AX1: 'TXpeanuts' | AY1: 'TXrice' | AZ1: 'TXwheat spring' | BA1: 'WAwheat spring' | BB1: 'WAwinter wheat' | BC1: 'WIcorn'
A2: min | B2: =B77 -> 0.041233028 | C2: =C77 -> 0 | D2: =D77 -> 0.047964577 | E2: =E77 -> 0.037655242 | F2: =F77 -> 0.0026045877 | G2: =G77 -> 0.0053067021 | H2: =H77 -> 0.010450273 | I2: =I77 -> 0.032688849 | ... BC2: =BC77 -> 0
A3: max | B3: =B66 -> 0.84360339 | C3: =C66 -> 0.84277575 | D3: =D66 -> 0.47611175 | E3: =E66 -> 0.28111595 | F3: =F66 -> 0.5301019 | G3: =G66 -> 0.12186111 | H3: =H66 -> 0.22977131 | I3: =I66 -> 0.78137993 | ... BC3: =BC66 -> 0.84218653
A4: median | B4: =B110 -> 0.77919109 | C4: =C110 -> 0.36782816 | D4: =D110 -> 0.20528878 | E4: =E110 -> 0.1282795 | F4: =F110 -> 0.17819961 | G4: =G110 -> 0.032852516 | H4: =H110 -> 0.042501717 | I4: =I110 -> 0.45125111 | ... BC4: =BC110 -> 0.36761667
A5: 2.5th pec | B5: =B99 -> 0.48855269 | C5: =C99 -> 0.018309514 | D5: =D99 -> 0.089297291 | E5: =E99 -> 0.061966946 | F5: =F99 -> 0.050355107 | G5: =G99 -> 0.012586639 | H5: =H99 -> 0.017730079 | I5: =I99 -> 0.13867129 | ... BC5: =BC99 -> 0.055133248
A6: 97.5th pec | B6: =B88 -> 0.84027297 | C6: =C88 -> 0.79211341 | D6: =D88 -> 0.36038783 | E6: =E88 -> 0.22094218 | F6: =F88 -> 0.39816975 | G6: =G88 -> 0.06634378 | H6: =H88 -> 0.1166271 | I6: =I88 -> 0.75904394 | ... BC6: =BC88 -> 0.77541802
A7: mean | B7: =B55 -> 0.75927019 | C7: =C55 -> 0.38351358 | D7: =D55 -> 0.21066362 | E7: =E55 -> 0.1317029 | F7: =F55 -> 0.18939577 | G7: =G55 -> 0.034704582 | H7: =H55 -> 0.049018613 | I7: =I55 -> 0.45812913 | ... BC7: =BC55 -> 0.38204425
A8: std | B8: =B121 -> 0.086560355 | C8: =C121 -> 0.21972552 | D8: =D121 -> 0.0688994 | E8: =E121 -> 0.042220612 | F8: =F121 -> 0.092337189 | G8: =G121 -> 0.014433411 | H8: =H121 -> 0.026490954 | I8: =I121 -> 0.1763816 | ... BC8: =BC121 -> 0.18443046
A9: chi2gof | B9: =B44 -> 1.5153347e-24 | C9: =C44 -> 1.2116639e-11 | D9: =D44 -> 5.1328222e-05 | E9: =E44 -> 2.5788617e-07 | F9: =F44 -> 1.7707944e-18 | G9: =G44 -> 1.0154871e-09 | H9: =H44 -> 1.0017687e-18 | I9: =I44 -> 1.1236848e-11 | ... BC9: =BC44 -> 4.4459884e-06
A10: chi2 val | B10: =B143 -> 0 | C10: =C143 -> 0 | D10: =D143 -> 0 | E10: =E143 -> 0 | F10: =F143 -> 1 | G10: =G143 -> 1 | H10: =H143 -> 1 | I10: =I143 -> 1 | ... BC10: =BC143 -> 0 | BE10: =SUM(B10:BC10) -> 20 | BF10: =COUNT(B10:BC10) -> 54
A12: Sensitivity results
A13: Correlation coefficient | B13: 'ALcotton' | C13: 'ALpeanuts' | D13: 'ARcotton' | E13: 'ARrice' | F13: 'ARsoybeans' | G13: 'AZcotton' | H13: 'CAcotton' | I13: 'CArice' | J13: 'CAwheat spring' | K13: 'COcorn' | L13: 'COwheat spring' | M13: 'COwinter wheat' | N13: 'FLpeanuts' | O13: 'GAcorn' | P13: 'GAcotton' | Q13: 'GApeanuts' | R13: 'IDwheat spring' | S13: 'IDwinter wheat' | T13: 'ILcorn' | U13: 'ILsoybeans' | V13: 'KScorn' | W13: 'KSsoybeans' | X13: 'KSwheat spring' | Y13: 'LAcotton' | Z13: 'LArice' | AA13: 'LAsoybeans' | AB13: 'MIcorn' | AC13: 'MIsoybeans' | AD13: 'MNcorn' | AE13: 'MNsoybeans' | AF13: 'MOcorn' | AG13: 'MOcotton' | AH13: 'MOrice' | AI13: 'MOsoybeans' | AJ13: 'MScotton' | AK13: 'MSrice' | AL13: 'MSsoybeans' | AM13: 'MTwinter wheat' | AN13: 'NEcorn' | AO13: 'NEoats' | AP13: 'NEsoybeans' | AQ13: 'NEwheat spring' | AR13: 'ORwheat spring' | AS13: 'ORwinter wheat' | AT13: 'SCcotton' | AU13: 'SDcorn' | AV13: 'TXcorn' | AW13: 'TXcotton' | AX13: 'TXpeanuts' | AY13: 'TXrice' | AZ13: 'TXwheat spring' | BA13: 'WAwheat spring' | BB13: 'WAwinter wheat' | BC13: 'WIcorn'
A14: ground | B14: 1 | C14: 0.97177916 | D14: 0.92065776 | E14: 0.98250462 | F14: 0.93520542 | G14: 0.9989026 | H14: 0.99913029 | I14: 0.99978335 | J14: 1 | K14: 0.95089668 | L14: 1 | M14: 0.99955826 | N14: 0.81401973 | O14: 1 | P14: 0.93990139 | Q14: 0.91996142 | R14: 0.99999968 | S14: 0.99953467 | T14: 0.99974363 | U14: 1 | V14: 0.98446341 | W14: 0.94252434 | X14: 1 | Y14: 0.95196242 | Z14: 0.99819513 | AA14: 0.9907364 | AB14: 0.90069495 | AC14: 1 | AD14: 1 | AE14: 1 | AF14: 0.99063306 | AG14: 0.95902432 | AH14: 0.96369781 | AI14: 0.99636619 | AJ14: 0.94298682 | AK14: 0.99988081 | AL14: 0.98195287 | AM14: 1 | AN14: 0.9061893 | AO14: 0.99998822 | AP14: 0.9672845 | AQ14: 1 | AR14: 0.9798789 | AS14: 0.99994173 | AT14: 0.99784347 | AU14: 1 | AV14: 0.99120094 | AW14: 0.90169952 | AX14: 0.83502527 | AY14: 0.99999162 | AZ14: 0.98223068 | BA14: 1 | BB14: 0.99970301 | BC14: 0.94392609
A15: net rad | B15: 1 | C15: 0.95496085 | D15: 0.92565865 | E15: 0.964708 | F15: 0.92370333 | G15: 0.99633471 | H15: 0.99852149 | I15: 0.99893193 | J15: 1 | K15: 0.95531106 | L15: 1 | M15: 0.99710624 | N15: 0.89130074 | O15: 1 | P15: 0.92867286 | Q15: 0.92138693 | R15: 0.99567913 | S15: 0.99686405 | T15: 0.9949746 | U15: 1 | V15: 0.97164804 | W15: 0.94289255 | X15: 1 | Y15: 0.89846763 | Z15: 0.98479413 | AA15: 0.98077209 | AB15: 0.83281816 | AC15: 1 | AD15: 1 | AE15: 1 | AF15: 0.98698107 | AG15: 0.95550022 | AH15: 0.95085717 | AI15: 0.99088036 | AJ15: 0.9454225 | AK15: 0.99970708 | AL15: 0.96777512 | AM15: 1 | AN15: 0.92239677 | AO15: 0.99997108 | AP15: 0.94820633 | AQ15: 1 | AR15: 0.92029285 | AS15: 0.99948353 | AT15: 0.94923312 | AU15: 1 | AV15: 0.97318455 | AW15: 0.93087599 | AX15: 0.84046334 | AY15: 0.99996117 | AZ15: 0.93283445 | BA15: 1 | BB15: 0.99799194 | BC15: 0.93998953
A16: temp | B16: 1 | C16: 0.99420088 | D16: 0.96028928 | E16: 0.99271187 | F16: 0.96775943 | G16: 0.99877574 | H16: 0.99927715 | I16: 0.99976797 | J16: 1 | K16: 0.97890678 | L16: 1 | M16: 0.99888991 | N16: 0.91212771 | O16: 1 | P16: 0.9617353 | Q16: 0.96794481 | R16: 0.99997745 | S16: 0.99892451 | T16: 0.99981445 | U16: 1 | V16: 0.9946545 | W16: 0.97747346 | X16: 1 | Y16: 0.96339085 | Z16: 0.99337183 | AA16: 0.99623564 | AB16: 0.91875703 | AC16: 1 | AD16: 1 | AE16: 1 | AF16: 0.99674924 | AG16: 0.9812029 | AH16: 0.99046347 | AI16: 0.99930612 | AJ16: 0.97546508 | AK16: 0.99994354 | AL16: 0.98935494 | AM16: 1 | AN16: 0.9620553 | AO16: 0.99999007 | AP16: 0.99162377 | AQ16: 1 | AR16: 0.97908832 | AS16: 0.99993406 | AT16: 0.99957198 | AU16: 1 | AV16: 0.98773851 | AW16: 0.96017403 | AX16: 0.94171823 | AY16: 0.99998261 | AZ16: 0.98301252 | BA16: 1 | BB16: 0.99943425 | BC16: 0.97334472
A17: wind | B17: 1 | C17: 0.97020016 | D17: 0.86608221 | E17: 0.96686884 | F17: 0.93582753 | G17: 0.99749773 | H17: 0.99879154 | I17: 0.99972635 | J17: 1 | K17: 0.96334834 | L17: 1 | M17: 0.99751938 | N17: 0.73677906 | O17: 1 | P17: 0.93338823 | Q17: 0.9467397 | R17: 1 | S17: 0.99741652 | T17: 1 | U17: 1 | V17: 0.97466241 | W17: 0.95326849 | X17: 1 | Y17: 0.99999928 | Z17: 0.98161308 | AA17: 0.98449987 | AB17: 1 | AC17: 1 | AD17: 1 | AE17: 1 | AF17: 0.98908581 | AG17: 0.94868814 | AH17: 0.9448683 | AI17: 1 | AJ17: 0.87108562 | AK17: 0.99970832 | AL17: 0.97107114 | AM17: 1 | AN17: 0.87646005 | AO17: 0.99993224 | AP17: 0.94976001 | AQ17: 1 | AR17: 1 | AS17: 0.99976124 | AT17: 1 | AU17: 1 | AV17: 0.96946998 | AW17: 0.84311749 | AX17: 0.8997315 | AY17: 0.99996187 | AZ17: 0.98771249 | BA17: 1 | BB17: 0.99862075 | BC17: 0.95689505
A18: relative | B18: 1 | C18: 0.9278191 | D18: 0.70140228 | E18: 0.89872509 | F18: 0.83757784 | G18: 0.99186413 | H18: 0.99574067 | I18: 0.99942603 | J18: 1 | K18: 0.90786919 | L18: 1 | M18: 0.99031682 | N18: 0.59680817 | O18: 1 | P18: 0.82896049 | Q18: 0.87273716 | R18: 1 | S18: 0.99020523 | T18: 1 | U18: 1 | V18: 0.93206705 | W18: 0.89462701 | X18: 1 | Y18: 0.99928814 | Z18: 0.93571009 | AA18: 0.94991537 | AB18: 1 | AC18: 1 | AD18: 1 | AE18: 1 | AF18: 0.96713312 | AG18: 0.87211352 | AH18: 0.84845252 | AI18: 1 | AJ18: 0.74904083 | AK18: 0.99936675 | AL18: 0.92393935 | AM18: 1 | AN18: 0.74048018 | AO18: 0.99977406 | AP18: 0.8719846 | AQ18: 1 | AR18: 1 | AS18: 0.99904753 | AT18: 1 | AU18: 1 | AV18: 0.90378967 | AW18: 0.67289883 | AX18: 0.78210109 | AY18: 0.99988103 | AZ18: 0.94939018 | BA18: 1 | BB18: 0.99457698 | BC18: 0.89833045
A19: crop k | B19: 1 | C19: 0.92912861 | D19: 0.98933782 | E19: 0.99670676 | F19: 0.99332997 | G19: 0.99722973 | H19: 0.99877103 | I19: 0.99758986 | J19: 1 | K19: 0.98975909 | L19: 0.99998479 | M19: 0.99598807 | N19: 0.98664304 | O19: 1 | P19: 0.95703974 | Q19: 0.98132656 | R19: 0.94686821 | S19: 0.99607689 | T19: 0.76028894 | U19: 1 | V19: 0.99690196 | W19: 0.99476472 | X19: 1 | Y19: 0.87709951 | Z19: 0.97880112 | AA19: 0.97714775 | AB19: 0.64237187 | AC19: 1 | AD19: 0.99699453 | AE19: 1 | AF19: 0.98897166 | AG19: 0.99258582 | AH19: 0.99781507 | AI19: 0.65584448 | AJ19: 0.99402379 | AK19: 0.99945885 | AL19: 0.9930395 | AM19: 1 | AN19: 0.99682855 | AO19: 0.99994597 | AP19: 0.99681814 | AQ19: 1 | AR19: 0.76839409 | AS19: 0.9988531 | AT19: 0.085193051 | AU19: 0.28616778 | AV19: 0.98196436 | AW19: 0.99463448 | AX19: 0.98786249 | AY19: 0.99970956 | AZ19: 0.98595316 | BA19: 1 | BB19: 0.99757739 | BC19: 0.95522028
A20: precip | B20: 0.99963464 | C20: 0.88493086 | D20: 0.96330594 | E20: 0.99475542 | F20: 0.94274876 | G20: 0.993914 | H20: 0.99605105 | I20: 0.99653782 | J20: 1 | K20: 0.95356462 | L20: 0.9993521 | M20: 0.99955903 | N20: 0.94019782 | O20: 1 | P20: 0.9282386 | Q20: 0.95183158 | R20: 0.94867107 | S20: 0.99917993 | T20: 0.77628749 | U20: 0.99493905 | V20: 0.98965111 | W20: 0.95219287 | X20: 1 | Y20: 0.89375238 | Z20: 0.99304485 | AA20: 0.9707834 | AB20: 0.69351662 | AC20: 1 | AD20: 0.95552158 | AE20: 0.9466559 | AF20: 0.98325426 | AG20: 0.97300116 | AH20: 0.98366497 | AI20: 0.77516965 | AJ20: 0.97644897 | AK20: 0.99958714 | AL20: 0.97919953 | AM20: 1 | AN20: 0.9598944 | AO20: 0.99987951 | AP20: 0.97733978 | AQ20: 1 | AR20: 0.83122416 | AS20: 0.9998458 | AT20: 0.59283962 | AU20: 0.47159655 | AV20: 0.98570099 | AW20: 0.95921602 | AX20: 0.92026041 | AY20: 0.99979383 | AZ20: 0.96480548 | BA20: 1 | BB20: 0.99868525 | BC20: 0.91952843
A21: application | B21: 1 | C21: 0.85657236 | D21: 1 | E21: 1 | F21: 1 | G21: 1 | H21: 1 | I21: 0.90931395 | J21: 1 | K21: 1 | L21: 0.99632332 | M21: 0.99968359 | N21: 1 | O21: 1 | P21: 0.99897273 | Q21: 0.99999301 | R21: 0.75662164 | S21: 0.99966983 | T21: 0.96875682 | U21: 1 | V21: 1 | W21: 1 | X21: 1 | Y21: 0.59770666 | Z21: 1 | AA21: 0.93147328 | AB21: 0.15062374 | AC21: 1 | AD21: 0.71903961 | AE21: 1 | AF21: 0.99997502 | AG21: 1 | AH21: 1 | AI21: 0.90515236 | AJ21: 1 | AK21: 0.99546636 | AL21: 1 | AM21: 1 | AN21: 1 | AO21: 0.99721485 | AP21: 1 | AQ21: 1 | AR21: 0.30369924 | AS21: 0.996042 | AT21: 1 | AU21: 1 | AV21: 1 | AW21: 1 | AX21: 1 | AY21: 0.98516598 | AZ21: 0.99989613 | BA21: 0.89631909 | BB21: 0.99799284 | BC21: 0.98484141
A22: all | B22: 0.83984305 | C22: 0.93784983 | D22: 0.95801524 | E22: 0.96895688 | F22: 0.96763725 | G22: 0.97867333 | H22: 0.98659642 | I22: 0.9387615 | J22: 0.88341805 | K22: 0.95014546 | L22: 0.642393 | M22: 0.98502768 | N22: 0.95946607 | O22: 0.90550343 | P22: 0.95668652 | Q22: 0.9500083 | R22: 0.84919983 | S22: 0.98585408 | T22: 0.88705289 | U22: 0.8033967 | V22: 0.96860659 | W22: 0.95866775 | X22: 0.41410796 | Y22: 0.95910053 | Z22: 0.9740028 | AA22: 0.96520078 | AB22: 0.88586597 | AC22: 0.68589096 | AD22: 0.82589183 | AE22: 0.75415476 | AF22: 0.96837006 | AG22: 0.96352436 | AH22: 0.96860889 | AI22: 0.86039692 | AJ22: 0.96795155 | AK22: 0.98439242 | AL22: 0.97052297 | AM22: 0.93929262 | AN22: 0.95655349 | AO22: 0.99289076 | AP22: 0.95832756 | AQ22: 1 | AR22: 0.89468186 | AS22: 0.99242597 | AT22: 0.88772044 | AU22: 0.793314 | AV22: 0.97320409 | AW22: 0.97845428 | AX22: 0.91524993 | AY22: 0.98466546 | AZ22: 0.93317522 | BA22: 0.93538323 | BB22: 0.98649609 | BC22: 0.9432931
A24: Average diff
A25: ground | B25: 0 | C25: 0.19171297 | D25: 0.068815152 | E25: 0.033030543 | F25: 0.085030899 | G25: 0.0064804704 | H25: 0.011155152 | I25: 0.2173255 | J25: 0 | K25: 0.038031238 | L25: 0 | M25: 0.02063495 | N25: 0.1257059 | O25: 0 | P25: 0.18083567 | Q25: 0.15509329 | R25: 1.8072377e-06 | S25: 0.02764666 | T25: 0.00013992104 | U25: 0 | V25: 0.044898072 | W25: 0.052406511 | X25: 0 | Y25: 0.064933885 | Z25: 0.010240795 | AA25: 0.091722407 | AB25: 0.14075439 | AC25: 0 | AD25: 0 | AE25: 0 | AF25: 0.083222247 | AG25: 0.06850958 | AH25: 0.02688726 | AI25: 0.0016748183 | AJ25: 0.068982787 | AK25: 0.020321007 | AL25: 0.064991259 | AM25: 0 | AN25: 0.031441097 | AO25: 0.099690494 | AP25: 0.040037305 | AQ25: 0 | AR25: 0.024226169 | AS25: 0.038503836 | AT25: 1.3784579e-05 | AU25: 0 | AV25: 0.022454177 | AW25: 0.051615963 | AX25: 0.035931317 | AY25: 0.055679261 | AZ25: 0.15928169 | BA25: 0 | BB25: 0.042191184 | BC25: 0.19059924
A26: net rad | B26: 0 | C26: 0.18953072 | D26: 0.068636393 | E26: 0.032907355 | F26: 0.084600282 | G26: 0.0064424366 | H26: 0.01102523 | I26: 0.21653194 | J26: 0 | K26: 0.038007314 | L26: 0 | M26: 0.020190024 | N26: 0.12572809 | O26: 0 | P26: 0.18059938 | Q26: 0.1547509 | R26: 0.001815058 | S26: 0.027657775 | T26: 0.0012564831 | U26: 0 | V26: 0.044641112 | W26: 0.051862068 | X26: 0 | Y26: 0.06297521 | Z26: 0.010089698 | AA26: 0.090948586 | AB26: 0.14438409 | AC26: 0 | AD26: 0 | AE26: 0 | AF26: 0.083122478 | AG26: 0.068146378 | AH26: 0.026940265 | AI26: 0.0033033922 | AJ26: 0.068079799 | AK26: 0.020272904 | AL26: 0.064235827 | AM26: 0 | AN26: 0.030911085 | AO26: 0.094307136 | AP26: 0.03995269 | AQ26: 0 | AR26: 0.028497004 | AS26: 0.038941924 | AT26: 0.0001878619 | AU26: 0 | AV26: 0.022685388 | AW26: 0.051979088 | AX26: 0.036180965 | AY26: 0.057937859 | AZ26: 0.15456387 | BA26: 0 | BB26: 0.040618125 | BC26: 0.19032973
A27: temp | B27: 0 | C27: 0.1949911 | D27: 0.069352753 | E27: 0.033369979 | F27: 0.085510591 | G27: 0.0066606049 | H27: 0.011398076 | I27: 0.21691423 | J27: 0 | K27: 0.038745109 | L27: 0 | M27: 0.02067808 | N27: 0.12766287 | O27: 0 | P27: 0.18124811 | Q27: 0.15593165 | R27: 2.875052e-05 | S27: 0.027760095 | T27: 6.9400847e-05 | U27: 0 | V27: 0.04483143 | W27: 0.052818224 | X27: 0 | Y27: 0.0643413 | Z27: 0.01028649 | AA27: 0.092076848 | AB27: 0.1416555 | AC27: 0 | AD27: 0 | AE27: 0 | AF27: 0.08401188 | AG27: 0.069749723 | AH27: 0.026994729 | AI27: 0.00058852026 | AJ27: 0.070321987 | AK27: 0.02039694 | AL27: 0.066277189 | AM27: 0 | AN27: 0.032176209 | AO27: 0.088319073 | AP27: 0.040622343 | AQ27: 0 | AR27: 0.024963324 | AS27: 0.038794373 | AT27: 8.2638308e-06 | AU27: 0 | AV27: 0.023011502 | AW27: 0.052687356 | AX27: 0.036672648 | AY27: 0.055643448 | AZ27: 0.16256125 | BA27: 0 | BB27: 0.042239255 | BC27: 0.191555
A28: wind | B28: 0 | C28: 0.19116906 | D28: 0.068692027 | E28: 0.033034738 | F28: 0.084870576 | G28: 0.0064832608 | H28: 0.011152315 | I28: 0.21391941 | J28: 0 | K28: 0.038241788 | L28: 0 | M28: 0.020737489 | N28: 0.12534278 | O28: 0 | P28: 0.18029814 | Q28: 0.15426814 | R28: 0 | S28: 0.027296459 | T28: 0 | U28: 0 | V28: 0.044527559 | W28: 0.051858992 | X28: 0 | Y28: 0.06495137 | Z28: 0.010153211 | AA28: 0.091315108 | AB28: 0.14042616 | AC28: 0 | AD28: 0 | AE28: 0 | AF28: 0.083196182 | AG28: 0.068488099 | AH28: 0.026926538 | AI28: 0 | AJ28: 0.068151558 | AK28: 0.019875949 | AL28: 0.064233654 | AM28: 0 | AN28: 0.031787739 | AO28: 0.11169673 | AP28: 0.040289113 | AQ28: 0 | AR28: 0.024619807 | AS28: 0.038384912 | AT28: 0 | AU28: 0 | AV28: 0.023120268 | AW28: 0.051712574 | AX28: 0.036053787 | AY28: 0.057802396 | AZ28: 0.15926862 | BA28: 0 | BB28: 0.041807026 | BC28: 0.19021694
A29: relative | B29: 0 | C29: 0.193755 | D29: 0.068916734 | E29: 0.033221412 | F29: 0.085114859 | G29: 0.0066966254 | H29: 0.011070363 | I29: 0.2098156 | J29: 0 | K29: 0.038465795 | L29: 0 | M29: 0.020863259 | N29: 0.12611255 | O29: 0 | P29: 0.18036344 | Q29: 0.15461601 | R29: 0 | S29: 0.02756635 | T29: 0 | U29: 0 | V29: 0.044536023 | W29: 0.052490959 | X29: 0 | Y29: 0.064516525 | Z29: 0.011196453 | AA29: 0.091843975 | AB29: 0.14042616 | AC29: 0 | AD29: 0 | AE29: 0 | AF29: 0.083724651 | AG29: 0.069147311 | AH29: 0.027045093 | AI29: 0 | AJ29: 0.069577758 | AK29: 0.020332067 | AL29: 0.065510505 | AM29: 0 | AN29: 0.031859171 | AO29: 0.089529659 | AP29: 0.040161691 | AQ29: 0 | AR29: 0.024619807 | AS29: 0.039080232 | AT29: 0 | AU29: 0 | AV29: 0.023037552 | AW29: 0.051902376 | AX29: 0.036187127 | AY29: 0.055835992 | AZ29: 0.15980649 | BA29: 0 | BB29: 0.042467215 | BC29: 0.19137853
A30: crop k | B30: 0 | C30: 0.17981088 | D30: 0.068933871 | E30: 0.032853274 | F30: 0.078081642 | G30: 0.0072159476 | H30: 0.012057157 | I30: 0.18357911 | J30: 0 | K30: 0.037881069 | L30: 1.446133e-05 | M30: 0.025136149 | N30: 0.11238289 | O30: 0 | P30: 0.1540768 | Q30: 0.15497369 | R30: 0.0082556134 | S30: 0.037888128 | T30: 0.037492521 | U30: 0 | V30: 0.044547744 | W30: 0.052492077 | X30: 0 | Y30: 0.060152712 | Z30: 0.019734229 | AA30: 0.079938096 | AB30: 0.10506054 | AC30: 0 | AD30: 0.003334434 | AE30: 0 | AF30: 0.093020809 | AG30: 0.07062962 | AH30: 0.027278779 | AI30: 0.064599192 | AJ30: 0.07101614 | AK30: 0.020026095 | AL30: 0.069426363 | AM30: 0 | AN30: 0.031160697 | AO30: 0.14888448 | AP30: 0.040374138 | AQ30: 0 | AR30: 0.04662568 | AS30: 0.036565438 | AT30: 0.030174663 | AU30: 0.013194669 | AV30: 0.019733426 | AW30: 0.049688733 | AX30: 0.034555245 | AY30: 0.046754969 | AZ30: 0.16019252 | BA30: 0 | BB30: 0.038090926 | BC30: 0.17636689
A31: precip | B31: 0.00015305706 | C31: 0.14831591 | D31: 0.072982504 | E31: 0.0334915 | F31: 0.085813277 | G31: 0.0075293854 | H31: 0.012672783 | I31: 0.17360968 | J31: 0 | K31: 0.041570885 | L31: 0.00026080394 | M31: 0.020679903 | N31: 0.12872505 | O31: 0 | P31: 0.17187049 | Q31: 0.16389788 | R31: 0.0087060954 | S31: 0.028794388 | T31: 0.029683886 | U31: 0.00094432129 | V31: 0.046768374 | W31: 0.058321566 | X31: 0 | Y31: 0.057839123 | Z31: 0.013562263 | AA31: 0.082393409 | AB31: 0.13842051 | AC31: 0 | AD31: 0.018344664 | AE31: 0.00039252136 | AF31: 0.0922153 | AG31: 0.076395625 | AH31: 0.028943656 | AI31: 0.042707142 | AJ31: 0.076810108 | AK31: 0.020215223 | AL31: 0.071932402 | AM31: 0 | AN31: 0.034585368 | AO31: 0.08201525 | AP31: 0.043684313 | AQ31: 0 | AR31: 0.039826202 | AS31: 0.038606484 | AT31: 0.032586289 | AU31: 0.014218946 | AV31: 0.020155244 | AW31: 0.056974057 | AX31: 0.03806624 | AY31: 0.042603501 | AZ31: 0.16325884 | BA31: 0 | BB31: 0.039034281 | BC31: 0.186704
A32: application | B32: 0 | C32: 0.16819232 | D32: 0.068809302 | E32: 0.03303284 | F32: 0.085045526 | G32: 0.0063557055 | H32: 0.010961709 | I32: 0.079745166 | J32: 0 | K32: 0.038138254 | L32: 0.00037992491 | M32: 0.020449046 | N32: 0.12555154 | O32: 0 | P32: 0.18070562 | Q32: 0.1550893 | R32: 0.01136729 | S32: 0.02754575 | T32: 0.0019297242 | U32: 0 | V32: 0.044822581 | W32: 0.052081069 | X32: 0 | Y32: 0.051055352 | Z32: 0.010280049 | AA32: 0.0816993 | AB32: 0.10495426 | AC32: 0 | AD32: 0.01322259 | AE32: 0 | AF32: 0.083340351 | AG32: 0.068255368 | AH32: 0.026962554 | AI32: 0.011297579 | AJ32: 0.067812654 | AK32: 0.019628684 | AL32: 0.064078665 | AM32: 0 | AN32: 0.031527711 | AO32: 0.014641674 | AP32: 0.040149587 | AQ32: 0 | AR32: 0.042829771 | AS32: 0.03150806 | AT32: 0 | AU32: 0 | AV32: 0.023158482 | AW32: 0.051845274 | AX32: 0.03617684 | AY32: 0.023522845 | AZ32: 0.15959758 | BA32: 0.057184675 | BB32: 0.041329001 | BC32: 0.18847663
A33: all | B33: 0.031060799 | C33: 0.12915728 | D33: 0.0516992 | E33: 0.02551645 | F33: 0.054479882 | G33: 0.0052654056 | H33: 0.0090525981 | I33: 0.092586344 | J33: 0.0042905894 | K33: 0.026742448 | L33: 0.085198564 | M33: 0.019526283 | N33: 0.073631313 | O33: 0.021842504 | P33: 0.11358916 | Q33: 0.099872666 | R33: 0.12207608 | S33: 0.028786973 | T33: 0.13213361 | U33: 0.079275667 | V33: 0.032629766 | W33: 0.0366526 | X33: 0.032547907 | Y33: 0.076668876 | Z33: 0.014194302 | AA33: 0.061321862 | AB33: 0.15444771 | AC33: 0.02945086 | AD33: 0.15064451 | AE33: 0.051678144 | AF33: 0.065311481 | AG33: 0.052176682 | AH33: 0.020632751 | AI33: 0.13423932 | AJ33: 0.054156016 | AK33: 0.014776462 | AL33: 0.05112452 | AM33: 0.0074622303 | AN33: 0.021889556 | AO33: 0.021886226 | AP33: 0.027995887 | AQ33: 0 | AR33: 0.13618521 | AS33: 0.025458992 | AT33: 0.12799804 | AU33: 0.14266096 | AV33: 0.013815429 | AW33: 0.036008862 | AX33: 0.02044905 | AY33: 0.033044052 | AZ33: 0.12252413 | BA33: 0.10039115 | BB33: 0.028662419 | BC33: 0.12512268
A35: chi 2
A36: ground | B36: 1.2855054e-26 | C36: 6.7581873e-12 | D36: 0.16169781 | E36: 0.00089175686 | F36: 0.0030209077 | G36: 1.3162855e-36 | H36: 3.4667926e-60 | K36: 0.00010731205 | L36: 0.0015223491 | M36: 5.7710956e-15 | N36: 0.00093639733 | O36: 8.6483407e-30 | P36: 0.077179554 | Q36: 0.00015225908 | R36: 0.43433978 | S36: 5.0473676e-13 | T36: 1.6963565e-05 | U36: 1.6957861e-21 | V36: 5.0242065e-05 | W36: 1.3219196e-05 | X36: 1.5386237e-08 | Y36: 1.9764872e-05 | Z36: 0.00027548741 | AA36: 8.8565085e-06 | AB36: 3.2047436e-11 | AC36: 0.12621398 | AD36: 2.134787e-12 | AE36: 3.9416086e-05 | AF36: 0.022195866 | AG36: 0.012747066 | AH36: 0.00014366968 | AI36: 1.1759136e-11 | AJ36: 0.017081326 | AL36: 0.0024571553 | AM36: 5.0386558e-10 | AN36: 0.052626745 | AP36: 1.4665389e-06 | AQ36: 2.6481347e-05 | AR36: 0.00038010571 | AS36: 4.7625107e-55 | AT36: 0.086616032 | AU36: 0.39360751 | AV36: 0.0046531059 | AW36: 0.040348405 | AX36: 1.2435142e-10 | AZ36: 3.026008e-08 | BA36: 7.6121752e-20 | BB36: 1.1503815e-09 | BC36: 4.3920599e-08
A37: net rad | B37: 1.2855054e-26 | C37: 6.1022229e-18 | D37: 0.12123631 | E37: 5.3615527e-06 | F37: 0.061029261 | G37: 5.2660862e-36 | H37: 2.929957e-63 | K37: 2.0735451e-06 | L37: 0.0015223491 | M37: 3.3895334e-16 | N37: 0.033936319 | O37: 8.6483407e-30 | P37: 0.11411969 | Q37: 5.4259906e-05 | R37: 0.43433978 | S37: 5.8498639e-14 | T37: 1.6963565e-05 | U37: 1.6957861e-21 | V37: 1.3490468e-07 | W37: 0.00024153101 | X37: 1.5386237e-08 | Y37: 1.7098759e-05 | Z37: 0.00037096558 | AA37: 1.2654193e-07 | AB37: 3.2047436e-11 | AC37: 0.12621398 | AD37: 2.134787e-12 | AE37: 3.9416086e-05 | AF37: 0.024927294 | AG37: 0.05105587 | AH37: 0.037466458 | AI37: 1.1759136e-11 | AJ37: 0.081595908 | AL37: 0.042251919 | AM37: 5.0386558e-10 | AN37: 0.00055050998 | AP37: 1.6664067e-06 | AQ37: 2.6481347e-05 | AR37: 0.00038010571 | AS37: 3.4168918e-48 | AT37: 0.086616032 | AU37: 0.39360751 | AV37: 0.15583251 | AW37: 0.060000587 | AX37: 3.9904392e-08 | AZ37: 4.568321e-06 | BA37: 7.6121752e-20 | BB37: 1.4463155e-10 | BC37: 1.3419947e-05
A38: temp | B38: 1.2855054e-26 | C38: 9.7978284e-14 | D38: 0.34319058 | E38: 0.00032235561 | F38: 0.04816146 | G38: 2.1169187e-24 | H38: 1.4503326e-61 | K38: 4.1005132e-06 | L38: 0.0015223491 | M38: 2.1436543e-18 | N38: 0.0037841214 | O38: 8.6483407e-30 | P38: 0.0056501362 | Q38: 7.1433886e-09 | R38: 0.43433978 | S38: 2.9151159e-16 | T38: 1.6963565e-05 | U38: 1.6957861e-21 | V38: 0.0019209966 | W38: 0.00082713739 | X38: 1.5386237e-08 | Y38: 3.5505804e-06 | Z38: 0.0045036332 | AA38: 6.462491e-07 | AB38: 3.2047436e-11 | AC38: 0.12621398 | AD38: 2.134787e-12 | AE38: 3.9416086e-05 | AF38: 0.0056339067 | AG38: 0.00070522871 | AH38: 0.020982054 | AI38: 1.1759136e-11 | AJ38: 0.041779502 | AL38: 0.047271684 | AM38: 5.0386558e-10 | AN38: 0.097186745 | AP38: 0.0086346974 | AQ38: 2.6481347e-05 | AR38: 0.00038010571 | AS38: 1.9233467e-51 | AT38: 0.086616032 | AU38: 0.39360751 | AV38: 0.0027575638 | AW38: 0.50017293 | AX38: 1.7839642e-09 | AZ38: 2.2214623e-09 | BA38: 7.6121752e-20 | BB38: 1.6769489e-10 | BC38: 3.327268e-05
A39: wind | B39: 1.2855054e-26 | C39: 9.8023461e-13 | D39: 0.044880486 | E39: 0.00017695355 | F39: 0.0010652398 | G39: 2.3014061e-30 | H39: 2.394714e-58 | K39: 0.015479004 | L39: 0.0015223491 | M39: 2.0199897e-25 | N39: 0.24928558 | O39: 8.6483407e-30 | P39: 0.038797141 | Q39: 1.2539611e-05 | R39: 0.43433978 | S39: 5.7211353e-15 | T39: 1.6963565e-05 | U39: 1.6957861e-21 | V39: 2.0076478e-09 | W39: 0.00023563921 | X39: 1.5386237e-08 | Y39: 1.9777836e-05 | Z39: 0.0004975309 | AA39: 1.8953032e-06 | AB39: 3.2047436e-11 | AC39: 0.12621398 | AD39: 2.134787e-12 | AE39: 3.9416086e-05 | AF39: 0.025635565 | AG39: 0.00058143826 | AH39: 0.0084490958 | AI39: 1.1759136e-11 | AJ39: 0.041335275 | AL39: 0.0078383765 | AM39: 5.0386558e-10 | AN39: 0.0024652873 | AP39: 0.0057112204 | AQ39: 2.6481347e-05 | AR39: 0.00038010571 | AS39: 4.1550471e-47 | AT39: 0.086616032 | AU39: 0.39360751 | AV39: 0.0088183802 | AW39: 0.025801956 | AX39: 6.9572318e-05 | AZ39: 1.5596217e-10 | BA39: 7.6121752e-20 | BB39: 1.1466483e-10 | BC39: 5.9668344e-09
A40: relative | B40: 1.2855054e-26 | C40: 3.4793554e-14 | D40: 0.28126561 | E40: 0.0001262432 | F40: 0.0029879912 | G40: 9.6861648e-28 | H40: 5.0917756e-59 | K40: 2.0674624e-06 | L40: 0.0015223491 | M40: 2.1446563e-27 | N40: 0.32122143 | O40: 8.6483407e-30 | P40: 0.00384372 | Q40: 4.0543075e-06 | R40: 0.43433978 | S40: 5.2401251e-18 | T40: 1.6963565e-05 | U40: 1.6957861e-21 | V40: 1.085598e-06 | W40: 0.0050424697 | X40: 1.5386237e-08 | Y40: 2.1094197e-07 | Z40: 0.00021032405 | AA40: 1.4274176e-08 | AB40: 3.2047436e-11 | AC40: 0.12621398 | AD40: 2.134787e-12 | AE40: 3.9416086e-05 | AF40: 0.013082218 | AG40: 0.008697402 | AH40: 0.080950249 | AI40: 1.1759136e-11 | AJ40: 0.15141808 | AL40: 0.25332789 | AM40: 5.0386558e-10 | AN40: 0.055633176 | AP40: 0.019630941 | AQ40: 2.6481347e-05 | AR40: 0.00038010571 | AS40: 4.2314294e-48 | AT40: 0.086616032 | AU40: 0.39360751 | AV40: 0.099012486 | AW40: 0.0088715948 | AX40: 5.3326392e-06 | AZ40: 1.3671638e-06 | BA40: 7.6121752e-20 | BB40: 2.2524492e-10 | BC40: 3.8720055e-08
A41: crop k | B41: 1.2855054e-26 | C41: 0.00021732057 | D41: 2.5941247e-13 | E41: 9.3786033e-14 | F41: 2.6167153e-45 | G41: 9.9945085e-12 | H41: 2.6867405e-21 | K41: 6.1553407e-26 | L41: 0.0015223491 | M41: 1.7022506e-11 | N41: 1.164597e-10 | O41: 8.6483407e-30 | P41: 1.5928231e-17 | Q41: 6.1695592e-21 | R41: 0.43433978 | S41: 9.4710158e-14 | T41: 1.6963565e-05 | U41: 1.6957861e-21 | V41: 4.7826378e-06 | W41: 1.3034627e-42 | X41: 1.5386237e-08 | Y41: 0.0012098603 | Z41: 3.5508085e-25 | AA41: 2.0436041e-05 | AB41: 9.5986662e-12 | AC41: 0.12621398 | AD41: 2.134787e-12 | AE41: 3.9416086e-05 | AF41: 7.4037308e-19 | AG41: 1.1801535e-09 | AH41: 8.2439581e-31 | AI41: 5.1715454e-12 | AJ41: 5.332513e-08 | AL41: 5.4871092e-15 | AM41: 5.0386558e-10 | AN41: 3.1034563e-31 | AP41: 7.2183339e-08 | AQ41: 2.6481347e-05 | AR41: 0.00038010571 | AS41: 2.4762973e-59 | AT41: 0.086616032 | AU41: 0.39360751 | AV41: 5.0132196e-23 | AW41: 4.4211486e-11 | AX41: 1.851186e-06 | AZ41: 0.010508768 | BA41: 7.6121752e-20 | BB41: 9.3805998e-12 | BC41: 0.022134538
A42: precip | B42: 1.2855054e-26 | C42: 6.7227205e-07 | D42: 0.20934518 | E42: 0.044992781 | F42: 0.010180064 | G42: 1.599631e-17 | H42: 2.6951421e-37 | K42: 0.021082821 | L42: 0.0015223491 | M42: 3.5623761e-13 | N42: 0.15120013 | O42: 8.6483407e-30 | P42: 0.00047823827 | Q42: 0.00071184077 | R42: 0.43433978 | S42: 9.0684e-16 | T42: 9.2658446e-06 | U42: 1.6957861e-21 | V42: 0.19127705 | W42: 0.009289752 | X42: 1.5386237e-08 | Y42: 0.0030852909 | Z42: 0.097793118 | AA42: 0.39852747 | AB42: 2.440653e-06 | AC42: 0.12621398 | AD42: 1.3624991e-12 | AE42: 3.9416086e-05 | AF42: 7.9446627e-06 | AG42: 0.044636218 | AH42: 0.0051653144 | AI42: 4.830043e-08 | AJ42: 0.08423468 | AL42: 0.0012581362 | AM42: 5.0386558e-10 | AN42: 0.0021606049 | AP42: 0.00039060358 | AQ42: 2.6481347e-05 | AR42: 0.0006383796 | AS42: 1.5204598e-62 | AV42: 0.16924503 | AW42: 0.036787502 | AX42: 2.3421955e-08 | AZ42: 1.6299769e-05 | BA42: 7.6121752e-20 | BB42: 9.6044688e-22 | BC42: 0.2597658
A43: application | B43: 2.877198e-15 | C43: 0.084854453 | D43: 0.031890468 | E43: 8.2263516e-08 | F43: 0.0032058734 | G43: 6.28614e-27 | H43: 3.1336239e-59 | I43: 0.0014197236 | J43: 9.0703217e-12 | K43: 0.0024795971 | L43: 7.4503458e-25 | M43: 4.551887e-30 | N43: 0.0010998206 | O43: 2.8157367e-15 | P43: 0.22759189 | Q43: 4.2133769e-05 | R43: 1.6334344e-05 | S43: 3.245805e-15 | T43: 1.1425686e-12 | U43: 4.4387613e-11 | V43: 2.4087442e-05 | W43: 0.00059934487 | X43: 1.2130416e-14 | Y43: 1.2158815e-05 | Z43: 0.0003471309 | AA43: 0.0074577147 | AB43: 1.8334587e-24 | AC43: 3.8751914e-12 | AD43: 1.048447e-16 | AE43: 9.9176393e-17 | AF43: 0.14609707 | AG43: 0.17583506 | AH43: 0.00011390854 | AI43: 1.1638544e-16 | AJ43: 0.00048124972 | AL43: 0.056575785 | AM43: 4.7292847e-07 | AN43: 0.0025994263 | AO43: 7.7778801e-27 | AP43: 0.00014553628 | AQ43: 6.3505395e-15 | AR43: 1.6288102e-07 | AS43: 8.9615706e-116 | AT43: 2.4095435e-12 | AU43: 1.2789387e-12 | AV43: 4.1663526e-05 | AW43: 0.029004841 | AX43: 1.1542569e-07 | AY43: 1.4760243e-05 | AZ43: 9.6764252e-13 | BA43: 7.5669697e-48 | BB43: 4.0109438e-24 | BC43: 0.00016553319
A44: all | B44: 1.5153347e-24 | C44: 1.2116639e-11 | D44: 5.1328222e-05 | E44: 2.5788617e-07 | F44: 1.7707944e-18 | G44: 1.0154871e-09 | H44: 1.0017687e-18 | I44: 1.1236848e-11 | J44: 9.0703217e-12 | K44: 3.2757532e-06 | L44: 4.1491392e-06 | M44: 3.0338944e-13 | N44: 5.9077493e-05 | O44: 2.9570511e-23 | P44: 0.035546988 | Q44: 7.6914934e-05 | R44: 2.0790344e-15 | S44: 6.5908081e-17 | T44: 1.7258609e-27 | U44: 2.9544792e-84 | V44: 0.0016971874 | W44: 0.00080947218 | X44: 7.9227522e-14 | Y44: 0.0028059789 | Z44: 1.3196213e-06 | AA44: 1.908289e-06 | AB44: 1.0465609e-35 | AC44: 1.2544987e-17 | AD44: 1.8783062e-57 | AE44: 1.6586636e-36 | AF44: 2.3272192e-13 | AG44: 6.6318717e-07 | AH44: 1.1561553e-11 | AI44: 3.6258782e-31 | AJ44: 0.054668973 | AL44: 5.4604754e-06 | AM44: 1.1509883e-12 | AN44: 2.2988191e-07 | AO44: 1.2765491e-39 | AP44: 9.7690337e-06 | AQ44: 6.3505395e-15 | AR44: 7.3615115e-05 | AS44: 1.1550642e-106 | AT44: 2.6166974e-32 | AU44: 1.1815724e-95 | AV44: 7.7055383e-12 | AW44: 3.313236e-12 | AX44: 3.0139378e-08 | AY44: 7.096349e-10 | AZ44: 0.0031984617 | BA44: 7.1093488e-20 | BB44: 3.1756711e-16 | BC44: 4.4459884e-06
A46: mean values
A47: ground | B47: 0.82638096 | C47: 0.72750926 | D47: 0.3292137 | E47: 0.20538594 | F47: 0.28169905 | G47: 0.052394382 | H47: 0.074834603 | I47: 0.97048238 | J47: 1.1831072 | K47: 0.13508268 | L47: 0.72337521 | M47: 0.32176522 | N47: 0.32313708 | O47: 0.86080969 | P47: 0.62812384 | Q47: 0.41920454 | R47: 0.75442846 | S47: 0.43891139 | T47: 0.80534668 | U47: 0.81853172 | V47: 0.26092846 | W47: 0.19273955 | X47: 0.7956188 | Y47: 0.74859056 | Z47: 0.27906599 | AA47: 0.61690416 | AB47: 0.83008948 | AC47: 0.80058221 | AD47: 0.78389715 | AE47: 0.80062631 | AF47: 0.4326657 | AG47: 0.3495966 | AH47: 0.1431315 | AI47: 0.71653244 | AJ47: 0.41160801 | AK47: 0.13570471 | AL47: 0.38790496 | AM47: 0.69247885 | AN47: 0.12568675 | AO47: 2.1645231 | AP47: 0.20248638 | AQ47: 0.80533272 | AR47: 0.74468764 | AS47: 0.35869221 | AT47: 0.79986027 | AU47: 0.80020839 | AV47: 0.1768897 | AW47: 0.2363518 | AX47: 0.072288822 | AY47: 0.80880513 | AZ47: 0.50207829 | BA47: 0.57753191 | BB47: 0.42784427 | BC47: 0.62586454
A48: net rad | B48: 0.82638096 | C48: 0.72559039 | D48: 0.32958567 | E48: 0.20557283 | F48: 0.28207846 | G48: 0.052461411 | H48: 0.074706286 | I48: 0.96583887 | J48: 1.1831072 | K48: 0.1354751 | L48: 0.72337521 | M48: 0.32247627 | N48: 0.32343521 | O48: 0.86080969 | P48: 0.62811873 | Q48: 0.41914802 | R48: 0.75442846 | S48: 0.43888335 | T48: 0.80534668 | U48: 0.81853172 | V48: 0.26130115 | W48: 0.19295781 | X48: 0.7956188 | Y48: 0.74852877 | Z48: 0.27936361 | AA48: 0.61810538 | AB48: 0.83008948 | AC48: 0.80058221 | AD48: 0.78389715 | AE48: 0.80062631 | AF48: 0.43268592 | AG48: 0.34902303 | AH48: 0.14306873 | AI48: 0.71653244 | AJ48: 0.41125559 | AK48: 0.13580003 | AL48: 0.38764143 | AM48: 0.69247885 | AN48: 0.12579301 | AO48: 2.1731871 | AP48: 0.20252741 | AQ48: 0.80533272 | AR48: 0.74468764 | AS48: 0.35800541 | AT48: 0.79986027 | AU48: 0.80020839 | AV48: 0.17658878 | AW48: 0.23593826 | AX48: 0.072196866 | AY48: 0.80521512 | AZ48: 0.50243033 | BA48: 0.57753191 | BB48: 0.42835623 | BC48: 0.62660078
A49: temp | B49: 0.82638096 | C49: 0.72969585 | D49: 0.33006227 | E49: 0.20590822 | F49: 0.28247551 | G49: 0.052536654 | H49: 0.075042397 | I49: 0.968033 | J49: 1.1831072 | K49: 0.13599431 | L49: 0.72337521 | M49: 0.32214203 | N49: 0.32630421 | O49: 0.86080969 | P49: 0.62721638 | Q49: 0.41842455 | R49: 0.75442846 | S49: 0.43880559 | T49: 0.80534668 | U49: 0.81853172 | V49: 0.26070573 | W49: 0.19307449 | X49: 0.7956188 | Y49: 0.74744235 | Z49: 0.27876305 | AA49: 0.61671224 | AB49: 0.83008948 | AC49: 0.80058221 | AD49: 0.78389715 | AE49: 0.80062631 | AF49: 0.43213411 | AG49: 0.34983534 | AH49: 0.14279798 | AI49: 0.71653244 | AJ49: 0.41327002 | AK49: 0.13588163 | AL49: 0.38947759 | AM49: 0.69247885 | AN49: 0.12610289 | AO49: 2.157019 | AP49: 0.20241122 | AQ49: 0.80533272 | AR49: 0.74468764 | AS49: 0.35846481 | AT49: 0.79986027 | AU49: 0.80020839 | AV49: 0.17693109 | AW49: 0.23696454 | AX49: 0.072653092 | AY49: 0.8052557 | AZ49: 0.50504632 | BA49: 0.57753191 | BB49: 0.42779976 | BC49: 0.62693917
A50: wind | B50: 0.82638096 | C50: 0.72582916 | D50: 0.32907236 | E50: 0.20538521 | F50: 0.28148474 | G50: 0.052456603 | H50: 0.074828178 | I50: 0.96594699 | J50: 1.1831072 | K50: 0.13529178 | L50: 0.72337521 | M50: 0.32219036 | N50: 0.32286868 | O50: 0.86080969 | P50: 0.62732631 | Q50: 0.41809586 | R50: 0.75442846 | S50: 0.43853775 | T50: 0.80534668 | U50: 0.81853172 | V50: 0.26074461 | W50: 0.1924708 | X50: 0.7956188 | Y50: 0.7485874 | Z50: 0.27882789 | AA50: 0.6163628 | AB50: 0.83008948 | AC50: 0.80058221 | AD50: 0.78389715 | AE50: 0.80062631 | AF50: 0.43211962 | AG50: 0.3491349 | AH50: 0.14298099 | AI50: 0.71653244 | AJ50: 0.41140815 | AK50: 0.13534233 | AL50: 0.38776855 | AM50: 0.69247885 | AN50: 0.12576337 | AO50: 2.1922646 | AP50: 0.20237781 | AQ50: 0.80533272 | AR50: 0.74468764 | AS50: 0.35817368 | AT50: 0.79986027 | AU50: 0.80020839 | AV50: 0.17674046 | AW50: 0.2359197 | AX50: 0.071979851 | AY50: 0.80887347 | AZ50: 0.50165763 | BA50: 0.57753191 | BB50: 0.42756155 | BC50: 0.62559075
A51: relative | B51: 0.82638096 | C51: 0.72841511 | D51: 0.32929707 | E51: 0.20557188 | F51: 0.28172902 | G51: 0.052669967 | H51: 0.074746227 | I51: 0.96184319 | J51: 1.1831072 | K51: 0.13551579 | L51: 0.72337521 | M51: 0.32225745 | N51: 0.32363845 | O51: 0.86080969 | P51: 0.62739161 | Q51: 0.41844374 | R51: 0.75442846 | S51: 0.43873179 | T51: 0.80534668 | U51: 0.81853172 | V51: 0.26075307 | W51: 0.19310277 | X51: 0.7956188 | Y51: 0.74815256 | Z51: 0.27899339 | AA51: 0.61689166 | AB51: 0.83008948 | AC51: 0.80058221 | AD51: 0.78389715 | AE51: 0.80062631 | AF51: 0.43264809 | AG51: 0.34979411 | AH51: 0.14309954 | AI51: 0.71653244 | AJ51: 0.41283435 | AK51: 0.13579844 | AL51: 0.3890454 | AM51: 0.69247885 | AN51: 0.1258348 | AO51: 2.1679674 | AP51: 0.20225039 | AQ51: 0.80533272 | AR51: 0.74468764 | AS51: 0.358869 | AT51: 0.79986027 | AU51: 0.80020839 | AV51: 0.17665775 | AW51: 0.2361095 | AX51: 0.072113191 | AY51: 0.80679098 | AZ51: 0.50219549 | BA51: 0.57753191 | BB51: 0.42822174 | BC51: 0.62675234
A52: crop k | B52: 0.82638096 | C52: 0.64703492 | D52: 0.33346184 | E52: 0.19997709 | F52: 0.3057888 | G52: 0.054857513 | H52: 0.075344831 | I52: 0.94667806 | J52: 1.1831072 | K52: 0.14501434 | L52: 0.72337521 | M52: 0.32060622 | N52: 0.37549101 | O52: 0.86080969 | P52: 0.6427795 | Q52: 0.45405803 | R52: 0.75442846 | S52: 0.44450287 | T52: 0.80534668 | U52: 0.81853172 | V52: 0.26368569 | W52: 0.2025131 | X52: 0.7956188 | Y52: 0.72673763 | Z52: 0.29435065 | AA52: 0.5869227 | AB52: 0.82399894 | AC52: 0.80058221 | AD52: 0.78389715 | AE52: 0.80062631 | AF52: 0.40234293 | AG52: 0.36293426 | AH52: 0.15590995 | AI52: 0.71605717 | AJ52: 0.41721348 | AK52: 0.13779423 | AL52: 0.37975634 | AM52: 0.69247885 | AN52: 0.14169017 | AO52: 2.2479814 | AP52: 0.20542003 | AQ52: 0.80533272 | AR52: 0.74468764 | AS52: 0.34376746 | AT52: 0.79986027 | AU52: 0.80020839 | AV52: 0.17581191 | AW52: 0.27332822 | AX52: 0.072525343 | AY52: 0.79041396 | AZ52: 0.51399392 | BA52: 0.57753191 | BB52: 0.42781705 | BC52: 0.63030493
A53: precip | B53: 0.82638096 | C53: 0.72357009 | D53: 0.3350738 | E53: 0.20652131 | F53: 0.29341216 | G53: 0.054659216 | H53: 0.078370156 | I53: 0.95073938 | J53: 1.1831072 | K53: 0.14367141 | L53: 0.72337521 | M53: 0.32136968 | N53: 0.35483602 | O53: 0.86080969 | P53: 0.64246029 | Q53: 0.45689578 | R53: 0.75442846 | S53: 0.44264228 | T53: 0.80366877 | U53: 0.81853172 | V53: 0.26750097 | W53: 0.21166628 | X53: 0.7956188 | Y53: 0.72520788 | Z53: 0.28627151 | AA53: 0.61263845 | AB53: 0.80992847 | AC53: 0.80058221 | AD53: 0.78335869 | AE53: 0.80062631 | AF53: 0.44718374 | AG53: 0.3612121 | AH53: 0.14697284 | AI53: 0.71277863 | AJ53: 0.42271566 | AK53: 0.13603187 | AL53: 0.39783453 | AM53: 0.69247885 | AN53: 0.13452005 | AO53: 2.2028804 | AP53: 0.2083836 | AQ53: 0.80533272 | AR53: 0.74467558 | AS53: 0.35969748 | AT53: 0.79698276 | AU53: 0.79963855 | AV53: 0.17856585 | AW53: 0.24416491 | AX53: 0.082641691 | AY53: 0.7930191 | AZ53: 0.50867389 | BA53: 0.57753191 | BB53: 0.43265814 | BC53: 0.64439973
A54: application | B54: 0.77934736 | C54: 0.70143114 | D54: 0.32918964 | E54: 0.20538331 | F54: 0.28165969 | G54: 0.052329048 | H54: 0.074637573 | I54: 0.60014763 | J54: 0.68988146 | K54: 0.13518825 | L54: 0.71142384 | M54: 0.32177794 | N54: 0.32307744 | O54: 0.77796743 | P54: 0.62773379 | Q54: 0.41891703 | R54: 0.74020483 | S54: 0.43876382 | T54: 0.7790302 | U54: 0.77762832 | V54: 0.26103963 | W54: 0.19269288 | X54: 0.7637828 | Y54: 0.71771703 | Z54: 0.27900002 | AA54: 0.60566642 | AB54: 0.78296099 | AC54: 0.77904229 | AD54: 0.7779614 | AE54: 0.78003846 | AF54: 0.43226379 | AG54: 0.34890216 | AH54: 0.14301701 | AI54: 0.6866564 | AJ54: 0.41106925 | AK54: 0.13211171 | AL54: 0.38761356 | AM54: 0.73294304 | AN54: 0.12550334 | AO54: 0.64789553 | AP54: 0.20223829 | AQ54: 0.78069721 | AR54: 0.73938775 | AS54: 0.33413752 | AT54: 0.7781913 | AU54: 0.77974093 | AV54: 0.17677868 | AW54: 0.2360524 | AX54: 0.072102904 | AY54: 0.61057102 | AZ54: 0.50198659 | BA54: 0.73228307 | BB54: 0.42601935 | BC54: 0.62385044
A55: all | B55: 0.75927019 | C55: 0.38351358 | D55: 0.21066362 | E55: 0.1317029 | F55: 0.18939577 | G55: 0.034704582 | H55: 0.049018613 | I55: 0.45812913 | J55: 0.68988146 | K55: 0.086722588 | L55: 0.69650879 | M55: 0.20942346 | N55: 0.23191088 | O55: 0.75461973 | P55: 0.39939037 | Q55: 0.26308496 | R55: 0.66821779 | S55: 0.29500353 | T55: 0.64181041 | U55: 0.7339299 | V55: 0.16525982 | W55: 0.12312024 | X55: 0.76317707 | Y55: 0.49168504 | Z55: 0.19716933 | AA55: 0.36856758 | AB55: 0.61962803 | AC55: 0.7706543 | AD55: 0.66980122 | AE55: 0.75945259 | AF55: 0.25038893 | AG55: 0.22636212 | AH55: 0.10077683 | AI55: 0.5580886 | AJ55: 0.26390345 | AK55: 0.087613426 | AL55: 0.23818893 | AM55: 0.72473877 | AN55: 0.08466397 | AO55: 0.51000213 | AP55: 0.12109753 | AQ55: 0.78069721 | AR55: 0.62644301 | AS55: 0.2283909 | AT55: 0.64746491 | AU55: 0.69049363 | AV55: 0.11448942 | AW55: 0.17177571 | AX55: 0.041851436 | AY55: 0.4557496 | AZ55: 0.36726309 | BA55: 0.62789114 | BB55: 0.29237765 | BC55: 0.38204425
A57: max
A58: ground | B58: 1.9997169 | C58: 1.5825372 | D58: 0.39300269 | E58: 0.27290334 | F58: 0.37557237 | G58: 0.15505445 | H58: 0.2310226 | I58: 59.188547 | J58: 57.645064 | K58: 0.18854107 | L58: 1.0503142 | M58: 0.94520586 | N58: 0.38878803 | O58: 2.1256384 | P58: 0.82537675 | Q58: 0.79353404 | R58: 1.0140407 | S58: 0.82639158 | T58: 1.1695858 | U58: 1.7944811 | V58: 0.40689861 | W58: 0.28577257 | X58: 1.1520127 | Y58: 1.053643 | Z58: 0.37828448 | AA58: 1.0097024 | AB58: 1.3838731 | AC58: 0.8299505 | AD58: 1.4581543 | AE58: 0.90709781 | AF58: 0.6761007 | AG58: 0.45340012 | AH58: 0.18120723 | AI58: 1.3183256 | AJ58: 0.47614845 | AK58: 4.4662002 | AL58: 0.52658381 | AM58: 1.1696327 | AN58: 0.15839135 | AO58: 668.42063 | AP58: 0.27726589 | AQ58: 1.2192499 | AR58: 1.0232338 | AS58: 2.242502 | AT58: 0.82710956 | AU58: 0.84628652 | AV58: 0.21077845 | AW58: 0.27313122 | AX58: 0.12406274 | AY58: 51.278373 | AZ58: 0.76947358 | BA58: 1.4548744 | BB58: 1.5554202 | BC58: 0.96895648
A59: net rad | B59: 1.9997169 | C59: 1.5546821 | D59: 0.38078101 | E59: 0.28032451 | F59: 0.36909558 | G59: 0.15345118 | H59: 0.2370066 | I59: 57.426687 | J59: 57.645064 | K59: 0.1955853 | L59: 1.0503142 | M59: 0.96373694 | N59: 0.39268877 | O59: 2.1256384 | P59: 0.78952495 | Q59: 0.73780812 | R59: 1.0140407 | S59: 0.82969157 | T59: 1.1695858 | U59: 1.7944811 | V59: 0.38478708 | W59: 0.28846969 | X59: 1.1520127 | Y59: 1.053643 | Z59: 0.3656265 | AA59: 1.0129451 | AB59: 1.3838731 | AC59: 0.8299505 | AD59: 1.4581543 | AE59: 0.90709781 | AF59: 0.66118781 | AG59: 0.4721753 | AH59: 0.19563027 | AI59: 1.3183256 | AJ59: 0.48773354 | AK59: 4.45551 | AL59: 0.520206 | AM59: 1.1696327 | AN59: 0.15611496 | AO59: 672.6161 | AP59: 0.27313771 | AQ59: 1.2192499 | AR59: 1.0232338 | AS59: 2.177591 | AT59: 0.82710956 | AU59: 0.84628652 | AV59: 0.2109703 | AW59: 0.27422619 | AX59: 0.11383866 | AY59: 49.447977 | AZ59: 0.80077539 | BA59: 1.4548744 | BB59: 1.5794511 | BC59: 1.0082671
A60: temp | B60: 1.9997169 | C60: 1.5421585 | D60: 0.39891678 | E60: 0.2868506 | F60: 0.38200301 | G60: 0.15983709 | H60: 0.23086086 | I60: 62.171542 | J60: 57.645064 | K60: 0.22369333 | L60: 1.0503142 | M60: 0.9223559 | N60: 0.44804272 | O60: 2.1256384 | P60: 0.8583312 | Q60: 0.79954011 | R60: 1.0140407 | S60: 0.80158731 | T60: 1.1695858 | U60: 1.7944811 | V60: 0.40164792 | W60: 0.31615029 | X60: 1.1520127 | Y60: 1.053643 | Z60: 0.38386037 | AA60: 1.0548393 | AB60: 1.3838731 | AC60: 0.8299505 | AD60: 1.4581543 | AE60: 0.90709781 | AF60: 0.66769619 | AG60: 0.48661395 | AH60: 0.18705967 | AI60: 1.3183256 | AJ60: 0.51417675 | AK60: 4.5044894 | AL60: 0.52380392 | AM60: 1.1696327 | AN60: 0.16300138 | AO60: 671.87419 | AP60: 0.29799323 | AQ60: 1.2192499 | AR60: 1.0232338 | AS60: 2.2390647 | AT60: 0.82710956 | AU60: 0.84628652 | AV60: 0.22061191 | AW60: 0.28929443 | AX60: 0.13078338 | AY60: 48.636366 | AZ60: 0.82591263 | BA60: 1.4548744 | BB60: 1.5482854 | BC60: 1.1481764
A61: wind | B61: 1.9997169 | C61: 1.6803222 | D61: 0.38638238 | E61: 0.27530464 | F61: 0.36912067 | G61: 0.15696445 | H61: 0.23017936 | I61: 56.46996 | J61: 57.645064 | K61: 0.19246525 | L61: 1.0503142 | M61: 0.93417297 | N61: 0.38512853 | O61: 2.1256384 | P61: 0.79591142 | Q61: 0.74043886 | R61: 1.0140407 | S61: 0.83575718 | T61: 1.1695858 | U61: 1.7944811 | V61: 0.40835501 | W61: 0.27243454 | X61: 1.1520127 | Y61: 1.053643 | Z61: 0.37553966 | AA61: 1.0062423 | AB61: 1.3838731 | AC61: 0.8299505 | AD61: 1.4581543 | AE61: 0.90709781 | AF61: 0.65478625 | AG61: 0.47132606 | AH61: 0.18331943 | AI61: 1.3183256 | AJ61: 0.46935116 | AK61: 4.1444584 | AL61: 0.51935738 | AM61: 1.1696327 | AN61: 0.15936681 | AO61: 699.90099 | AP61: 0.26737633 | AQ61: 1.2192499 | AR61: 1.0232338 | AS61: 2.2065548 | AT61: 0.82710956 | AU61: 0.84628652 | AV61: 0.21263286 | AW61: 0.2815529 | AX61: 0.11435916 | AY61: 51.500406 | AZ61: 0.74227213 | BA61: 1.4548744 | BB61: 1.5618757 | BC61: 1.0080698
A62: relative | B62: 1.9997169 | C62: 1.5164365 | D62: 0.40136563 | E62: 0.27619385 | F62: 0.37816091 | G62: 0.1689088 | H62: 0.23007553 | I62: 58.184605 | J62: 57.645064 | K62: 0.19799213 | L62: 1.0503142 | M62: 0.94711189 | N62: 0.41500956 | O62: 2.1256384 | P62: 0.8114298 | Q62: 0.7565291 | R62: 1.0140407 | S62: 0.89457466 | T62: 1.1695858 | U62: 1.7944811 | V62: 0.4098047 | W62: 0.30006888 | X62: 1.1520127 | Y62: 1.053643 | Z62: 0.38687127 | AA62: 0.96852851 | AB62: 1.3838731 | AC62: 0.8299505 | AD62: 1.4581543 | AE62: 0.90709781 | AF62: 0.67177261 | AG62: 0.47247636 | AH62: 0.18551284 | AI62: 1.3183256 | AJ62: 0.49923517 | AK62: 4.3294143 | AL62: 0.54229076 | AM62: 1.1696327 | AN62: 0.15672725 | AO62: 663.93457 | AP62: 0.29215486 | AQ62: 1.2192499 | AR62: 1.0232338 | AS62: 2.1729429 | AT62: 0.82710956 | AU62: 0.84628652 | AV62: 0.21735907 | AW62: 0.2912854 | AX62: 0.12857942 | AY62: 50.287956 | AZ62: 0.79576591 | BA62: 1.4548744 | BB62: 1.5725437 | BC62: 1.0823941
A63: crop k | B63: 1.9997169 | C63: 1.5122284 | D63: 0.48223532 | E63: 0.34544138 | F63: 0.68131477 | G63: 0.19260896 | H63: 0.31352361 | I63: 59.38862 | J63: 57.645064 | K63: 0.29120272 | L63: 1.0503142 | M63: 0.74675015 | N63: 0.82234578 | O63: 2.1256384 | P63: 0.9584336 | Q63: 0.86336159 | R63: 1.0140407 | S63: 0.9491423 | T63: 1.1695858 | U63: 1.7944811 | V63: 0.48245597 | W63: 0.41837138 | X63: 1.1520127 | Y63: 1.0077186 | Z63: 0.45794785 | AA63: 0.9465546 | AB63: 1.3838731 | AC63: 0.8299505 | AD63: 1.4581543 | AE63: 0.90709781 | AF63: 0.89793696 | AG63: 0.63879998 | AH63: 0.25991664 | AI63: 1.3183256 | AJ63: 0.60302296 | AK63: 4.2906877 | AL63: 0.70421449 | AM63: 1.1696327 | AN63: 0.23890725 | AO63: 773.2462 | AP63: 0.34769427 | AQ63: 1.2192499 | AR63: 1.0232338 | AS63: 2.3217134 | AT63: 0.82710956 | AU63: 0.84628652 | AV63: 0.27226893 | AW63: 0.55424953 | AX63: 0.22548993 | AY63: 53.042788 | AZ63: 0.8295163 | BA63: 1.4548744 | BB63: 1.8372566 | BC63: 1.0910329
A64: precip | B64: 1.9997169 | C64: 1.7193511 | D64: 0.52550159 | E64: 0.31436925 | F64: 0.54935217 | G64: 0.15170943 | H64: 0.28683119 | I64: 62.294303 | J64: 57.645064 | K64: 0.28657899 | L64: 1.0503142 | M64: 0.93536519 | N64: 0.69338793 | O64: 2.1256384 | P64: 0.98563832 | Q64: 1.0684175 | R64: 1.0140407 | S64: 0.91320047 | T64: 1.1695858 | U64: 1.7944811 | V64: 0.52447042 | W64: 0.38703096 | X64: 1.1520127 | Y64: 1.053643 | Z64: 0.43302585 | AA64: 1.1670003 | AB64: 1.3838731 | AC64: 0.8299505 | AD64: 1.4581543 | AE64: 0.90709781 | AF64: 0.99346675 | AG64: 0.61450797 | AH64: 0.24178272 | AI64: 1.3183256 | AJ64: 0.67554104 | AK64: 3.9967792 | AL64: 0.63288981 | AM64: 1.1696327 | AN64: 0.2878208 | AO64: 671.35805 | AP64: 0.40826728 | AQ64: 1.2192499 | AR64: 1.0232338 | AS64: 2.4415669 | AT64: 0.82710956 | AU64: 0.84628652 | AV64: 0.28484602 | AW64: 0.41656809 | AX64: 0.1936221 | AY64: 52.452678 | AZ64: 0.89274162 | BA64: 1.4548744 | BB64: 1.5414672 | BC64: 1.0983546
A65: application | B65: 0.84360339 | C65: 0.84331771 | D65: 0.38175414 | E65: 0.27886319 | F65: 0.35748251 | G65: 0.15705148 | H65: 0.23381322 | I65: 0.78272546 | J65: 0.78266795 | K65: 0.19167411 | L65: 0.7993491 | M65: 0.75914842 | N65: 0.38301116 | O65: 0.84331427 | P65: 0.76785525 | Q65: 0.75185865 | R65: 0.81971387 | S65: 0.78428501 | T65: 0.84358307 | U65: 0.8435402 | V65: 0.40054767 | W65: 0.28432019 | X65: 0.83092545 | Y65: 0.8096907 | Z65: 0.38074027 | AA65: 0.79448996 | AB65: 0.84346525 | AC65: 0.84353037 | AD65: 0.84355887 | AE65: 0.84360244 | AF65: 0.6498768 | AG65: 0.45077034 | AH65: 0.18586266 | AI65: 0.7822636 | AJ65: 0.47845464 | AK65: 0.74626786 | AL65: 0.51169664 | AM65: 0.81199363 | AN65: 0.15147136 | AO65: 0.84344352 | AP65: 0.27407213 | AQ65: 0.84341032 | AR65: 0.81386645 | AS65: 0.84138271 | AT65: 0.84355903 | AU65: 0.84363464 | AV65: 0.20964057 | AW65: 0.2710149 | AX65: 0.11526173 | AY65: 0.78276688 | AZ65: 0.75481685 | BA65: 0.84362747 | BB65: 0.81289202 | BC65: 0.83614152
A66: all | B66: 0.84360339 | C66: 0.84277575 | D66: 0.47611175 | E66: 0.28111595 | F66: 0.5301019 | G66: 0.12186111 | H66: 0.22977131 | I66: 0.78137993 | J66: 0.78266795 | K66: 0.25547954 | L66: 0.7993491 | M66: 0.51424837 | N66: 0.75484933 | O66: 0.84331427 | P66: 0.8396931 | Q66: 0.77116161 | R66: 0.81497464 | S66: 0.73244113 | T66: 0.84358307 | U66: 0.8435402 | V66: 0.35733988 | W66: 0.35547012 | X66: 0.83046678 | Y66: 0.80105512 | Z66: 0.38340865 | AA66: 0.78490763 | AB66: 0.84346525 | AC66: 0.84353037 | AD66: 0.84316946 | AE66: 0.84360244 | AF66: 0.68025198 | AG66: 0.51006004 | AH66: 0.22633003 | AI66: 0.78194789 | AJ66: 0.52941656 | AK66: 0.74626786 | AL66: 0.61719087 | AM66: 0.81199363 | AN66: 0.19934597 | AO66: 0.84298847 | AP66: 0.28580792 | AQ66: 0.84341032 | AR66: 0.80937954 | AS66: 0.84138271 | AT66: 0.84355903 | AU66: 0.84363464 | AV66: 0.23655562 | AW66: 0.45881367 | AX66: 0.19739505 | AY66: 0.78205806 | AZ66: 0.69050928 | BA66: 0.84362747 | BB66: 0.81289202 | BC66: 0.84218653
A68: min
A69: ground | B69: 0.49045187 | C69: 0.45398398 | D69: 0.27711642 | E69: 0.16051682 | F69: 0.21792815 | G69: 0.026869001 | H69: 0.026281854 | I69: 0.2710733 | J69: 0.22999563 | K69: 0.090050689 | L69: 0.52286618 | M69: 0.18888715 | N69: 0.26978899 | O69: 0.48626289 | P69: 0.49605765 | Q69: 0.28388006 | R69: 0.55104902 | S69: 0.26772087 | T69: 0.56670687 | U69: 0.50054805 | V69: 0.20474452 | W69: 0.12836841 | X69: 0.58390157 | Y69: 0.56924711 | Z69: 0.21779577 | AA69: 0.45080446 | AB69: 0.54450614 | AC69: 0.77251968 | AD69: 0.35975678 | AE69: 0.69450269 | AF69: 0.25060115 | AG69: 0.25617006 | AH69: 0.11516573 | AI69: 0.47737805 | AJ69: 0.35201819 | AK69: 0.072830254 | AL69: 0.28950037 | AM69: 0.45345563 | AN69: 0.10176906 | AO69: 0.24618848 | AP69: 0.15974701 | AQ69: 0.61862896 | AR69: 0.57836042 | AS69: 0.088024999 | AT69: 0.7785206 | AU69: 0.76088385 | AV69: 0.14462805 | AW69: 0.20428874 | AX69: 0.050831473 | AY69: 0.2468765 | AZ69: 0.37493115 | BA69: 0.15942002 | BB69: 0.22775933 | BC69: 0.43728897
A70: net rad | B70: 0.49045187 | C70: 0.44448912 | D70: 0.28325663 | E70: 0.15962521 | F70: 0.22141309 | G70: 0.027684259 | H70: 0.025266215 | I70: 0.27772424 | J70: 0.22999563 | K70: 0.092049444 | L70: 0.52286618 | M70: 0.18376524 | N70: 0.2649674 | O70: 0.48626289 | P70: 0.48706361 | Q70: 0.29199737 | R70: 0.55104902 | S70: 0.26394459 | T70: 0.56670687 | U70: 0.50054805 | V70: 0.18940895 | W70: 0.12774947 | X70: 0.58390157 | Y70: 0.56924711 | Z70: 0.21870957 | AA70: 0.44827619 | AB70: 0.54450614 | AC70: 0.77251968 | AD70: 0.35975678 | AE70: 0.69450269 | AF70: 0.24238845 | AG70: 0.26358496 | AH70: 0.11361594 | AI70: 0.47737805 | AJ70: 0.33934127 | AK70: 0.069332862 | AL70: 0.27609445 | AM70: 0.45345563 | AN70: 0.098459811 | AO70: 0.24747103 | AP70: 0.15471774 | AQ70: 0.61862896 | AR70: 0.57836042 | AS70: 0.088235634 | AT70: 0.7785206 | AU70: 0.76088385 | AV70: 0.14227722 | AW70: 0.19837168 | AX70: 0.046426159 | AY70: 0.24147708 | AZ70: 0.36338169 | BA70: 0.15942002 | BB70: 0.22699504 | BC70: 0.41024001
A71: temp | B71: 0.49045187 | C71: 0.46382049 | D71: 0.25214174 | E71: 0.15605139 | F71: 0.19427553 | G71: 0.02832816 | H71: 0.024316135 | I71: 0.26546773 | J71: 0.22999563 | K71: 0.081966437 | L71: 0.52286618 | M71: 0.18746614 | N71: 0.23213706 | O71: 0.48626289 | P71: 0.45655331 | Q71: 0.27728837 | R71: 0.55104902 | S71: 0.25405227 | T71: 0.56670687 | U71: 0.50054805 | V71: 0.18451649 | W71: 0.12196784 | X71: 0.58390157 | Y71: 0.56428251 | Z71: 0.21854872 | AA71: 0.43896526 | AB71: 0.54450614 | AC71: 0.77251968 | AD71: 0.35975678 | AE71: 0.69450269 | AF71: 0.22455771 | AG71: 0.25872696 | AH71: 0.10998177 | AI71: 0.47737805 | AJ71: 0.32562685 | AK71: 0.065626517 | AL71: 0.28317464 | AM71: 0.45345563 | AN71: 0.092224696 | AO71: 0.2392588 | AP71: 0.14980031 | AQ71: 0.61862896 | AR71: 0.57836042 | AS71: 0.089408367 | AT71: 0.7785206 | AU71: 0.76088385 | AV71: 0.14213849 | AW71: 0.18654927 | AX71: 0.036452941 | AY71: 0.25313844 | AZ71: 0.33926654 | BA71: 0.15942002 | BB71: 0.23351804 | BC71: 0.41780773
A72: wind | B72: 0.49045187 | C72: 0.48819056 | D72: 0.2814191 | E72: 0.16557537 | F72: 0.22466254 | G72: 0.026341388 | H72: 0.025364605 | I72: 0.28431077 | J72: 0.22999563 | K72: 0.089210418 | L72: 0.52286618 | M72: 0.1860006 | N72: 0.2718862 | O72: 0.48626289 | P72: 0.48724407 | Q72: 0.28303019 | R72: 0.55104902 | S72: 0.26528467 | T72: 0.56670687 | U72: 0.50054805 | V72: 0.19686183 | W72: 0.12780246 | X72: 0.58390157 | Y72: 0.56924711 | Z72: 0.21708812 | AA72: 0.44985469 | AB72: 0.54450614 | AC72: 0.77251968 | AD72: 0.35975678 | AE72: 0.69450269 | AF72: 0.24530705 | AG72: 0.25880738 | AH72: 0.1148077 | AI72: 0.47737805 | AJ72: 0.35526152 | AK72: 0.071361798 | AL72: 0.28433608 | AM72: 0.45345563 | AN72: 0.10174971 | AO72: 0.25072546 | AP72: 0.15274492 | AQ72: 0.61862896 | AR72: 0.57836042 | AS72: 0.087076929 | AT72: 0.7785206 | AU72: 0.76088385 | AV72: 0.14675513 | AW72: 0.20438999 | AX72: 0.050078866 | AY72: 0.24609216 | AZ72: 0.37581973 | BA72: 0.15942002 | BB72: 0.22808718 | BC72: 0.42732855
A73: relative | B73: 0.49045187 | C73: 0.4533689 | D73: 0.2719531 | E73: 0.15565975 | F73: 0.20553146 | G73: 0.027438714 | H73: 0.025786477 | I73: 0.27069502 | J73: 0.22999563 | K73: 0.092059824 | L73: 0.52286618 | M73: 0.18650144 | N73: 0.23600323 | O73: 0.48626289 | P73: 0.47447728 | Q73: 0.28078745 | R73: 0.55104902 | S73: 0.26373665 | T73: 0.56670687 | U73: 0.50054805 | V73: 0.19201722 | W73: 0.12721574 | X73: 0.58390157 | Y73: 0.55210098 | Z73: 0.21852929 | AA73: 0.42687485 | AB73: 0.54450614 | AC73: 0.77251968 | AD73: 0.35975678 | AE73: 0.69450269 | AF73: 0.24877689 | AG73: 0.25345754 | AH73: 0.10891419 | AI73: 0.47737805 | AJ73: 0.35016997 | AK73: 0.070944369 | AL73: 0.2705895 | AM73: 0.45345563 | AN73: 0.097406641 | AO73: 0.24530586 | AP73: 0.156392 | AQ73: 0.61862896 | AR73: 0.57836042 | AS73: 0.091615138 | AT73: 0.7785206 | AU73: 0.76088385 | AV73: 0.13742203 | AW73: 0.19038025 | AX73: 0.044284129 | AY73: 0.24584758 | AZ73: 0.3467809 | BA73: 0.15942002 | BB73: 0.22848912 | BC73: 0.40876052
A74: crop k | B74: 0.49045187 | C74: 0.32018203 | D74: 0.23298587 | E74: 0.12448303 | F74: 0.13955594 | G74: 0.023451218 | H74: 0.027470285 | I74: 0.25037118 | J74: 0.22999563 | K74: 0.078007985 | L74: 0.52286618 | M74: 0.16141513 | N74: 0.12755234 | O74: 0.48626289 | P74: 0.3558988 | Q74: 0.22850404 | R74: 0.55104902 | S74: 0.23529217 | T74: 0.56670687 | U74: 0.50054805 | V74: 0.1364809 | W74: 0.10199445 | X74: 0.58390157 | Y74: 0.48301301 | Z74: 0.19003221 | AA74: 0.32379215 | AB74: 0.53105724 | AC74: 0.77251968 | AD74: 0.35975678 | AE74: 0.69450269 | AF74: 0.15120503 | AG74: 0.21252935 | AH74: 0.10374799 | AI74: 0.47737805 | AJ74: 0.28776197 | AK74: 0.05597599 | AL74: 0.21446242 | AM74: 0.45345563 | AN74: 0.091956937 | AO74: 0.22780446 | AP74: 0.13454561 | AQ74: 0.61862896 | AR74: 0.57836042 | AS74: 0.089484436 | AT74: 0.7785206 | AU74: 0.76088385 | AV74: 0.11233249 | AW74: 0.10880067 | AX74: 0.019503105 | AY74: 0.25965188 | AZ74: 0.3005139 | BA74: 0.15942002 | BB74: 0.21648806 | BC74: 0.33560429
A75: precip | B75: 0.49045187 | C75: 0.22495612 | D75: 0.17546806 | E75: 0.11426116 | F75: 0.12219778 | G75: 0.023376462 | H75: 0.02764835 | I75: 0.23747653 | J75: 0.22999563 | K75: 0.036835456 | L75: 0.52286618 | M75: 0.1625202 | N75: 0.089959789 | O75: 0.48626289 | P75: 0.20912692 | Q75: 0.034558429 | R75: 0.55104902 | S75: 0.23473899 | T75: 0.5399869 | U75: 0.50054805 | V75: 0.12633458 | W75: 0.047436441 | X75: 0.58390157 | Y75: 0.42019207 | Z75: 0.181672 | AA75: 0.31224136 | AB75: 0.3623019 | AC75: 0.77251968 | AD75: 0.35975678 | AE75: 0.69450269 | AF75: 0.17290488 | AG75: 0.17475898 | AH75: 0.07013742 | AI75: 0.29349419 | AJ75: 0.1842013 | AK75: 0.047208475 | AL75: 0.18147328 | AM75: 0.45345563 | AN75: 0.040394872 | AO75: 0.24139745 | AP75: 0.081292014 | AQ75: 0.61862896 | AR75: 0.57836042 | AS75: 0.092330951 | AT75: 0.4696232 | AU75: 0.50370444 | AV75: 0.10645527 | AW75: 0.13259059 | AX75: 0.0034052474 | AY75: 0.24036243 | AZ75: 0.32183205 | BA75: 0.15942002 | BB75: 0.20518903 | BC75: 0.15881001
A76: application | B76: 0.65678959 | C76: 0.46576803 | D76: 0.28868488 | E76: 0.16363039 | F76: 0.22788262 | G76: 0.026781499 | H76: 0.02568546 | I76: 0.28165811 | J76: 0.50513673 | K76: 0.088972751 | L76: 0.55786364 | M76: 0.18870352 | N76: 0.28300049 | O76: 0.65873761 | P76: 0.50186984 | Q76: 0.30267263 | R76: 0.63266599 | S76: 0.26661496 | T76: 0.65252572 | U76: 0.65397028 | V76: 0.19860722 | W76: 0.12437236 | X76: 0.64336932 | Y76: 0.59835336 | Z76: 0.21806037 | AA76: 0.45471801 | AB76: 0.65017677 | AC76: 0.65457932 | AD76: 0.64878058 | AE76: 0.65532915 | AF76: 0.24385837 | AG76: 0.27244708 | AH76: 0.11547824 | AI76: 0.5007385 | AJ76: 0.36004736 | AK76: 0.071695849 | AL76: 0.29065952 | AM76: 0.59886185 | AN76: 0.10333998 | AO76: 0.25035685 | AP76: 0.16187552 | AQ76: 0.65898742 | AR76: 0.6191424 | AS76: 0.087337934 | AT76: 0.65159287 | AU76: 0.65885536 | AV76: 0.146934 | AW76: 0.20885194 | AX76: 0.051060794 | AY76: 0.24582498 | AZ76: 0.37108157 | BA76: 0.28150551 | BB76: 0.23048799 | BC76: 0.44204392
A77: all | B77: 0.041233028 | C77: 0 | D77: 0.047964577 | E77: 0.037655242 | F77: 0.0026045877 | G77: 0.0053067021 | H77: 0.010450273 | I77: 0.032688849 | J77: 0.50513673 | K77: 0 | L77: 0.41755121 | M77: 0.058907985 | N77: 0 | O77: 0.3071101 | P77: 0 | Q77: 0 | R77: 0.39627883 | S77: 0.083350736 | T77: 0.024895333 | U77: 0 | V77: 0.00083250617 | W77: 0 | X77: 0.64336932 | Y77: 0.09656876 | Z77: 0.068343199 | AA77: 0.074330753 | AB77: 0 | AC77: 0.038369906 | AD77: 0.032955239 | AE77: 0.12132702 | AF77: 0 | AG77: 0.013467946 | AH77: 0.014950278 | AI77: 0 | AJ77: 0 | AK77: 0.016780191 | AL77: 0.0086263709 | AM77: 0.34643486 | AN77: 0.0031985234 | AO77: 0.13009361 | AP77: 0.0054166054 | AQ77: 0.65898742 | AR77: 0.34024229 | AS77: 0.052181912 | AT77: 0.061055391 | AU77: 0 | AV77: 0.031064956 | AW77: 2.6502076e-06 | AX77: 0 | AY77: 0.10083742 | AZ77: 0.13692698 | BA77: 0.17959793 | BB77: 0.10956393 | BC77: 0
A79: 0.975
A80: ground | B80: 1.2967737 | C80: 0.96254943 | D80: 0.36048129 | E80: 0.24239644 | F80: 0.33404274 | G80: 0.086710844 | H80: 0.15908065 | I80: 2.7094721 | J80: 4.2309472 | K80: 0.1706038 | L80: 0.89113696 | M80: 0.47615956 | N80: 0.36416318 | O80: 1.3462263 | P80: 0.73096724 | Q80: 0.53306319 | R80: 0.89627446 | S80: 0.63766123 | T80: 0.9756187 | U80: 1.1513885 | V80: 0.31708929 | W80: 0.23704114 | X80: 1.0019704 | Y80: 0.91901719 | Z80: 0.32620856 | AA80: 0.77432408 | AB80: 1.0775505 | AC80: 0.81543612 | AD80: 1.1972806 | AE80: 0.85750491 | AF80: 0.56705522 | AG80: 0.40139031 | AH80: 0.16385642 | AI80: 0.93664156 | AJ80: 0.45455304 | AK80: 0.20073049 | AL80: 0.46691418 | AM80: 0.94290528 | AN80: 0.1415451 | AO80: 4.4369832 | AP80: 0.23960654 | AQ80: 0.96985592 | AR80: 0.89216546 | AS80: 1.1210486 | AT80: 0.81384599 | AU80: 0.8289944 | AV80: 0.19923894 | AW80: 0.25858025 | AX80: 0.094820937 | AY80: 1.6565659 | AZ80: 0.6326596 | BA80: 1.0589683 | BB80: 0.67551997 | BC80: 0.79733533
A81: net rad | B81: 1.2967737 | C81: 0.97948326 | D81: 0.36359018 | E81: 0.24354256 | F81: 0.33656394 | G81: 0.086759305 | H81: 0.15670294 | I81: 2.7846855 | J81: 4.2309472 | K81: 0.17304126 | L81: 0.89113696 | M81: 0.4745317 | N81: 0.36547738 | O81: 1.3462263 | P81: 0.73899535 | Q81: 0.53451246 | R81: 0.89627446 | S81: 0.64177006 | T81: 0.9756187 | U81: 1.1513885 | V81: 0.31895051 | W81: 0.23981283 | X81: 1.0019704 | Y81: 0.91901719 | Z81: 0.33060161 | AA81: 0.7793989 | AB81: 1.0775505 | AC81: 0.81543612 | AD81: 1.1972806 | AE81: 0.85750491 | AF81: 0.57922934 | AG81: 0.40415892 | AH81: 0.16412681 | AI81: 0.93664156 | AJ81: 0.45635553 | AK81: 0.19843319 | AL81: 0.46932267 | AM81: 0.94290528 | AN81: 0.14395062 | AO81: 4.3544522 | AP81: 0.23631967 | AQ81: 0.96985592 | AR81: 0.89216546 | AS81: 1.1321496 | AT81: 0.81384599 | AU81: 0.8289944 | AV81: 0.2006573 | AW81: 0.26031084 | AX81: 0.09286827 | AY81: 1.6522116 | AZ81: 0.6457926 | BA81: 1.0589683 | BB81: 0.67639474 | BC81: 0.78289803
A82: temp | B82: 1.2967737 | C82: 0.9943407 | D82: 0.37576209 | E82: 0.2463135 | F82: 0.34194207 | G82: 0.088177008 | H82: 0.15866041 | I82: 2.7852296 | J82: 4.2309472 | K82: 0.17731512 | L82: 0.89113696 | M82: 0.46774663 | N82: 0.3881091 | O82: 1.3462263 | P82: 0.75278594 | Q82: 0.55542944 | R82: 0.89627446 | S82: 0.62876845 | T82: 0.9756187 | U82: 1.1513885 | V82: 0.32183682 | W82: 0.24469372 | X82: 1.0019704 | Y82: 0.91490342 | Z82: 0.32640807 | AA82: 0.78532318 | AB82: 1.0775505 | AC82: 0.81543612 | AD82: 1.1972806 | AE82: 0.85750491 | AF82: 0.5788895 | AG82: 0.41979005 | AH82: 0.1678013 | AI82: 0.93664156 | AJ82: 0.46597283 | AK82: 0.2013456 | AL82: 0.47614381 | AM82: 0.94290528 | AN82: 0.14927369 | AO82: 4.4691955 | AP82: 0.2405418 | AQ82: 0.96985592 | AR82: 0.89216546 | AS82: 1.1193402 | AT82: 0.81384599 | AU82: 0.8289944 | AV82: 0.20355815 | AW82: 0.27118369 | AX82: 0.10089941 | AY82: 1.6532586 | AZ82: 0.64276453 | BA82: 1.0589683 | BB82: 0.67859246 | BC82: 0.82485586
A83: wind | B83: 1.2967737 | C83: 0.95710427 | D83: 0.36316957 | E83: 0.24106492 | F83: 0.33291997 | G83: 0.088621551 | H83: 0.15950041 | I83: 2.6734357 | J83: 4.2309472 | K83: 0.16990041 | L83: 0.89113696 | M83: 0.47511926 | N83: 0.36206733 | O83: 1.3462263 | P83: 0.73521881 | Q83: 0.53540015 | R83: 0.89627446 | S83: 0.63894269 | T83: 0.9756187 | U83: 1.1513885 | V83: 0.3234228 | W83: 0.23868924 | X83: 1.0019704 | Y83: 0.91901719 | Z83: 0.32737958 | AA83: 0.76659048 | AB83: 1.0775505 | AC83: 0.81543612 | AD83: 1.1972806 | AE83: 0.85750491 | AF83: 0.56669102 | AG83: 0.40376563 | AH83: 0.16429087 | AI83: 0.93664156 | AJ83: 0.45107566 | AK83: 0.19807138 | AL83: 0.47148311 | AM83: 0.94290528 | AN83: 0.14276206 | AO83: 4.5031043 | AP83: 0.23744405 | AQ83: 0.96985592 | AR83: 0.89216546 | AS83: 1.1275145 | AT83: 0.81384599 | AU83: 0.8289944 | AV83: 0.19995356 | AW83: 0.25989626 | AX83: 0.093754595 | AY83: 1.6505116 | AZ83: 0.6325673 | BA83: 1.0589683 | BB83: 0.67406983 | BC83: 0.79648946
A84: relative | B84: 1.2967737 | C84: 0.97430481 | D84: 0.37239168 | E84: 0.24695701 | F84: 0.33884304 | G84: 0.087861836 | H84: 0.16016746 | I84: 2.7252669 | J84: 4.2309472 | K84: 0.17459507 | L84: 0.89113696 | M84: 0.4800713 | N84: 0.37503568 | O84: 1.3462263 | P84: 0.75074188 | Q84: 0.53842584 | R84: 0.89627446 | S84: 0.64284287 | T84: 0.9756187 | U84: 1.1513885 | V84: 0.32105096 | W84: 0.24299846 | X84: 1.0019704 | Y84: 0.91901719 | Z84: 0.33122623 | AA84: 0.78109855 | AB84: 1.0775505 | AC84: 0.81543612 | AD84: 1.1972806 | AE84: 0.85750491 | AF84: 0.57582504 | AG84: 0.41334042 | AH84: 0.16533973 | AI84: 0.93664156 | AJ84: 0.46215832 | AK84: 0.1961938 | AL84: 0.4741235 | AM84: 0.94290528 | AN84: 0.14660031 | AO84: 4.4621919 | AP84: 0.24152622 | AQ84: 0.96985592 | AR84: 0.89216546 | AS84: 1.1393391 | AT84: 0.81384599 | AU84: 0.8289944 | AV84: 0.20264192 | AW84: 0.26556143 | AX84: 0.094595535 | AY84: 1.64055 | AZ84: 0.63868886 | BA84: 1.0589683 | BB84: 0.68181414 | BC84: 0.81989438
A85: crop k | B85: 1.2967737 | C85: 0.9768646 | D85: 0.43867356 | E85: 0.28331132 | F85: 0.5460449 | G85: 0.094669399 | H85: 0.16774092 | I85: 2.6464714 | J85: 4.2309472 | K85: 0.220796 | L85: 0.89113696 | M85: 0.49667968 | N85: 0.66715058 | O85: 1.3462263 | P85: 0.87032259 | Q85: 0.72879723 | R85: 0.89627446 | S85: 0.67106828 | T85: 0.9756187 | U85: 1.1513885 | V85: 0.38361052 | W85: 0.35059692 | X85: 1.0019704 | Y85: 0.90487891 | Z85: 0.39730601 | AA85: 0.81316705 | AB85: 1.0775505 | AC85: 0.81543612 | AD85: 1.1972806 | AE85: 0.85750491 | AF85: 0.67940086 | AG85: 0.4860202 | AH85: 0.2226928 | AI85: 0.93664156 | AJ85: 0.53888371 | AK85: 0.21758896 | AL85: 0.54525769 | AM85: 0.94290528 | AN85: 0.2084794 | AO85: 4.3412488 | AP85: 0.28316047 | AQ85: 0.96985592 | AR85: 0.89216546 | AS85: 1.1248833 | AT85: 0.81384599 | AU85: 0.8289944 | AV85: 0.24097845 | AW85: 0.46907536 | AX85: 0.1328037 | AY85: 1.6033402 | AZ85: 0.69504323 | BA85: 1.0589683 | BB85: 0.72640486 | BC85: 0.89772002
A86: precip | B86: 1.2967737 | C86: 1.0335147 | D86: 0.45284363 | E86: 0.28029976 | F86: 0.42577444 | G86: 0.090884469 | H86: 0.17550343 | I86: 2.7945334 | J86: 4.2309472 | K86: 0.22384952 | L86: 0.89113696 | M86: 0.48114839 | N86: 0.54770331 | O86: 1.3462263 | P86: 0.87000353 | Q86: 0.77440452 | R86: 0.89627446 | S86: 0.68155502 | T86: 0.9746693 | U86: 1.1513885 | V86: 0.37344812 | W86: 0.32295663 | X86: 1.0019704 | Y86: 0.90775696 | Z86: 0.37268771 | AA86: 0.82758579 | AB86: 1.0631195 | AC86: 0.81543612 | AD86: 1.1972806 | AE86: 0.85750491 | AF86: 0.6840899 | AG86: 0.50948674 | AH86: 0.20548566 | AI86: 0.93603392 | AJ86: 0.55877332 | AK86: 0.20784513 | AL86: 0.5642546 | AM86: 0.94290528 | AN86: 0.1972909 | AO86: 4.4487496 | AP86: 0.30338843 | AQ86: 0.96985592 | AR86: 0.89216546 | AS86: 1.1938276 | AT86: 0.81384599 | AU86: 0.8289944 | AV86: 0.22884723 | AW86: 0.34143028 | AX86: 0.15537631 | AY86: 1.5967164 | AZ86: 0.67594598 | BA86: 1.0589683 | BB86: 0.72234804 | BC86: 0.93538097
A87: application | B87: 0.84065956 | C87: 0.8245201 | D87: 0.35819722 | E87: 0.24186491 | F87: 0.33161035 | G87: 0.087058676 | H87: 0.15696667 | I87: 0.76789842 | J87: 0.77994872 | K87: 0.16848061 | L87: 0.78575759 | M87: 0.4756108 | N87: 0.35548321 | O87: 0.84072477 | P87: 0.72617044 | Q87: 0.53086476 | R87: 0.80649578 | S87: 0.6360037 | T87: 0.84162197 | U87: 0.84185282 | V87: 0.31820627 | W87: 0.23539355 | X87: 0.82075487 | Y87: 0.7917017 | Z87: 0.32683643 | AA87: 0.73034754 | AB87: 0.84154386 | AC87: 0.84163838 | AD87: 0.84026148 | AE87: 0.84138983 | AF87: 0.56355608 | AG87: 0.39882658 | AH87: 0.16295869 | AI87: 0.77781253 | AJ87: 0.45146967 | AK87: 0.19959368 | AL87: 0.46519879 | AM87: 0.7979327 | AN87: 0.14096799 | AO87: 0.83371841 | AP87: 0.23623228 | AQ87: 0.84200458 | AR87: 0.80322945 | AS87: 0.79178487 | AT87: 0.84170855 | AU87: 0.84214454 | AV87: 0.1986773 | AW87: 0.2564087 | AX87: 0.091917535 | AY87: 0.76977047 | AZ87: 0.62813141 | BA87: 0.84026264 | BB87: 0.67232933 | BC87: 0.76810696
A88: all | B88: 0.84027297 | C88: 0.79211341 | D88: 0.36038783 | E88: 0.22094218 | F88: 0.39816975 | G88: 0.06634378 | H88: 0.1166271 | I88: 0.75904394 | J88: 0.77994872 | K88: 0.17560936 | L88: 0.78339041 | M88: 0.3632879 | N88: 0.51277378 | O88: 0.83928415 | P88: 0.75739695 | Q88: 0.59764921 | R88: 0.7842415 | S88: 0.51620851 | T88: 0.8385406 | U88: 0.84126908 | V88: 0.29065793 | W88: 0.25901584 | X88: 0.82062112 | Y88: 0.74854275 | Z88: 0.30256031 | AA88: 0.64426247 | AB88: 0.83672723 | AC88: 0.8415059 | AD88: 0.83681251 | AE88: 0.84110844 | AF88: 0.50990067 | AG88: 0.40274875 | AH88: 0.18070076 | AI88: 0.77388045 | AJ88: 0.44211246 | AK88: 0.16689055 | AL88: 0.4267156 | AM88: 0.79692414 | AN88: 0.16192515 | AO88: 0.82238734 | AP88: 0.22658328 | AQ88: 0.84200458 | AR88: 0.77286652 | AS88: 0.72007858 | AT88: 0.83566876 | AU88: 0.84055099 | AV88: 0.18344726 | AW88: 0.35902262 | AX88: 0.11384139 | AY88: 0.7568299 | AZ88: 0.53124833 | BA88: 0.83880107 | BB88: 0.5170729 | BC88: 0.77541802
A90: 2.75
A91: ground | B91: 0.57580398 | C91: 0.55942557 | D91: 0.29933697 | E91: 0.17624973 | F91: 0.23764983 | G91: 0.033508535 | H91: 0.035040132 | I91: 0.36547352 | J91: 0.34714825 | K91: 0.10584349 | L91: 0.57564797 | M91: 0.23323828 | N91: 0.28528071 | O91: 0.59314568 | P91: 0.53266697 | Q91: 0.33026709 | R91: 0.62403929 | S91: 0.30819555 | T91: 0.67001445 | U91: 0.59470911 | V91: 0.21448713 | W91: 0.15717413 | X91: 0.6385635 | Y91: 0.61630398 | Z91: 0.23870534 | AA91: 0.49139467 | AB91: 0.64871141 | AC91: 0.78450391 | AD91: 0.49427001 | AE91: 0.75094984 | AF91: 0.30324967 | AG91: 0.30040411 | AH91: 0.12583137 | AI91: 0.56079844 | AJ91: 0.37577357 | AK91: 0.094403559 | AL91: 0.31790043 | AM91: 0.52472681 | AN91: 0.11042917 | AO91: 0.34605297 | AP91: 0.17379672 | AQ91: 0.67998293 | AR91: 0.62556977 | AS91: 0.13688432 | AT91: 0.78658041 | AU91: 0.77307667 | AV91: 0.1553876 | AW91: 0.21682647 | AX91: 0.055949315 | AY91: 0.39060138 | AZ91: 0.40969984 | BA91: 0.25675565 | BB91: 0.27642199 | BC91: 0.49812797
A92: net rad | B92: 0.57580398 | C92: 0.55457977 | D92: 0.29721551 | E92: 0.17545552 | F92: 0.2365069 | G92: 0.033521857 | H92: 0.035552581 | I92: 0.36815072 | J92: 0.34714825 | K92: 0.10577548 | L92: 0.57564797 | M92: 0.23383104 | N92: 0.28779825 | O92: 0.59314568 | P92: 0.53217479 | Q92: 0.32662984 | R92: 0.62403929 | S92: 0.30819222 | T92: 0.67001445 | U92: 0.59470911 | V92: 0.21269044 | W92: 0.15582864 | X92: 0.6385635 | Y92: 0.61630398 | Z92: 0.23744468 | AA92: 0.49257026 | AB92: 0.64871141 | AC92: 0.78450391 | AD92: 0.49427001 | AE92: 0.75094984 | AF92: 0.30105581 | AG92: 0.29720004 | AH92: 0.1239832 | AI92: 0.56079844 | AJ92: 0.36993371 | AK92: 0.094545051 | AL92: 0.31567874 | AM92: 0.52472681 | AN92: 0.11064485 | AO92: 0.34439677 | AP92: 0.17336809 | AQ92: 0.67998293 | AR92: 0.62556977 | AS92: 0.13713946 | AT92: 0.78658041 | AU92: 0.77307667 | AV92: 0.15461899 | AW92: 0.21408874 | AX92: 0.056020458 | AY92: 0.38952367 | AZ92: 0.40299444 | BA92: 0.25675565 | BB92: 0.27686463 | BC92: 0.49301939
A93: temp | B93: 0.57580398 | C93: 0.5488639 | D93: 0.28655773 | E93: 0.17116396 | F93: 0.2301431 | G93: 0.033177111 | H93: 0.035722943 | I93: 0.36500603 | J93: 0.34714825 | K93: 0.10442904 | L93: 0.57564797 | M93: 0.23237863 | N93: 0.26845993 | O93: 0.59314568 | P93: 0.51253216 | Q93: 0.31127458 | R93: 0.62403929 | S93: 0.30510067 | T93: 0.67001445 | U93: 0.59470911 | V93: 0.20963577 | W93: 0.14947072 | X93: 0.6385635 | Y93: 0.61630398 | Z93: 0.2371168 | AA93: 0.49100176 | AB93: 0.64871141 | AC93: 0.78450391 | AD93: 0.49427001 | AE93: 0.75094984 | AF93: 0.2958737 | AG93: 0.29204773 | AH93: 0.12102372 | AI93: 0.56079844 | AJ93: 0.36549275 | AK93: 0.093083645 | AL93: 0.31350476 | AM93: 0.52472681 | AN93: 0.10508912 | AO93: 0.34867117 | AP93: 0.1677671 | AQ93: 0.67998293 | AR93: 0.62556977 | AS93: 0.13479559 | AT93: 0.78658041 | AU93: 0.77307667 | AV93: 0.15382553 | AW93: 0.20570069 | AX93: 0.052078702 | AY93: 0.39074495 | AZ93: 0.4070269 | BA93: 0.25675565 | BB93: 0.27451071 | BC93: 0.47636623
A94: wind | B94: 0.57580398 | C94: 0.55758092 | D94: 0.29787052 | E94: 0.17564955 | F94: 0.23736503 | G94: 0.033791821 | H94: 0.035687341 | I94: 0.36877006 | J94: 0.34714825 | K94: 0.10528347 | L94: 0.57564797 | M94: 0.23304464 | N94: 0.28787421 | O94: 0.59314568 | P94: 0.5308634 | Q94: 0.32787319 | R94: 0.62403929 | S94: 0.30592025 | T94: 0.67001445 | U94: 0.59470911 | V94: 0.21318925 | W94: 0.15297622 | X94: 0.6385635 | Y94: 0.61630398 | Z94: 0.23921957 | AA94: 0.49282555 | AB94: 0.64871141 | AC94: 0.78450391 | AD94: 0.49427001 | AE94: 0.75094984 | AF94: 0.30054531 | AG94: 0.3004116 | AH94: 0.12486773 | AI94: 0.56079844 | AJ94: 0.37219157 | AK94: 0.093881159 | AL94: 0.31568646 | AM94: 0.52472681 | AN94: 0.10991744 | AO94: 0.34298528 | AP94: 0.17359881 | AQ94: 0.67998293 | AR94: 0.62556977 | AS94: 0.13827004 | AT94: 0.78658041 | AU94: 0.77307667 | AV94: 0.15588098 | AW94: 0.21493849 | AX94: 0.055171878 | AY94: 0.38939251 | AZ94: 0.40871967 | BA94: 0.25675565 | BB94: 0.27586587 | BC94: 0.50014083
A95: relative | B95: 0.57580398 | C95: 0.54688256 | D95: 0.2924037 | E95: 0.17227723 | F95: 0.23324607 | G95: 0.033227957 | H95: 0.03506043 | I95: 0.36317287 | J95: 0.34714825 | K95: 0.10525551 | L95: 0.57564797 | M95: 0.23248246 | N95: 0.27705704 | O95: 0.59314568 | P95: 0.52170439 | Q95: 0.31558369 | R95: 0.62403929 | S95: 0.30292116 | T95: 0.67001445 | U95: 0.59470911 | V95: 0.21360886 | W95: 0.15162062 | X95: 0.6385635 | Y95: 0.61630398 | Z95: 0.23591235 | AA95: 0.49047901 | AB95: 0.64871141 | AC95: 0.78450391 | AD95: 0.49427001 | AE95: 0.75094984 | AF95: 0.29671626 | AG95: 0.29395633 | AH95: 0.12223112 | AI95: 0.56079844 | AJ95: 0.36662514 | AK95: 0.093608912 | AL95: 0.31472312 | AM95: 0.52472681 | AN95: 0.10670211 | AO95: 0.34654713 | AP95: 0.16713873 | AQ95: 0.67998293 | AR95: 0.62556977 | AS95: 0.13645961 | AT95: 0.78658041 | AU95: 0.77307667 | AV95: 0.15382515 | AW95: 0.20984815 | AX95: 0.054498404 | AY95: 0.39045661 | AZ95: 0.40577018 | BA95: 0.25675565 | BB95: 0.27758492 | BC95: 0.47858937
A96: crop k | B96: 0.57580398 | C96: 0.37674665 | D96: 0.25555731 | E96: 0.137737 | F96: 0.17093104 | G96: 0.029659729 | H96: 0.034621451 | I96: 0.34195364 | J96: 0.34714825 | K96: 0.095218924 | L96: 0.57564797 | M96: 0.20280973 | N96: 0.16909257 | O96: 0.59314568 | P96: 0.43038319 | Q96: 0.28490937 | R96: 0.62403929 | S96: 0.28429576 | T96: 0.67001445 | U96: 0.59470911 | V96: 0.16681947 | W96: 0.12245618 | X96: 0.6385635 | Y96: 0.57538895 | Z96: 0.22974537 | AA96: 0.39163745 | AB96: 0.64250904 | AC96: 0.78450391 | AD96: 0.49427001 | AE96: 0.75094984 | AF96: 0.21877182 | AG96: 0.26181052 | AH96: 0.11207795 | AI96: 0.56079844 | AJ96: 0.31857189 | AK96: 0.079483583 | AL96: 0.2579667 | AM96: 0.52472681 | AN96: 0.10201015 | AO96: 0.34367553 | AP96: 0.14924516 | AQ96: 0.67998293 | AR96: 0.62556977 | AS96: 0.12227271 | AT96: 0.78658041 | AU96: 0.77307667 | AV96: 0.1303915 | AW96: 0.13001757 | AX96: 0.028280746 | AY96: 0.37921805 | AZ96: 0.35480969 | BA96: 0.25675565 | BB96: 0.25578735 | BC96: 0.40455599
A97: precip | B97: 0.57580398 | C97: 0.37291998 | D97: 0.22182924 | E97: 0.14225772 | F97: 0.1732856 | G97: 0.030666772 | H97: 0.035670799 | I97: 0.32465622 | J97: 0.34714825 | K97: 0.074196662 | L97: 0.57564797 | M97: 0.21515214 | N97: 0.17646225 | O97: 0.59314568 | P97: 0.37515738 | Q97: 0.18021966 | R97: 0.62403929 | S97: 0.28995444 | T97: 0.66839027 | U97: 0.59470911 | V97: 0.17138999 | W97: 0.11638749 | X97: 0.6385635 | Y97: 0.54047922 | Z97: 0.20999899 | AA97: 0.40446913 | AB97: 0.57491982 | AC97: 0.78450391 | AD97: 0.49427001 | AE97: 0.75094984 | AF97: 0.26317716 | AG97: 0.23396192 | AH97: 0.098954487 | AI97: 0.54392738 | AJ97: 0.28278273 | AK97: 0.078674628 | AL97: 0.2647849 | AM97: 0.52472681 | AN97: 0.080771843 | AO97: 0.33890447 | AP97: 0.12843078 | AQ97: 0.67998293 | AR97: 0.62556977 | AS97: 0.13344576 | AT97: 0.77522275 | AU97: 0.77243457 | AV97: 0.13211685 | AW97: 0.16113197 | AX97: 0.02660763 | AY97: 0.35611235 | AZ97: 0.38410311 | BA97: 0.25675565 | BB97: 0.26658332 | BC97: 0.34607858
A98: application | B98: 0.68166708 | C98: 0.56457349 | D98: 0.30243554 | E98: 0.1767446 | F98: 0.24050642 | G98: 0.033860308 | H98: 0.035195441 | I98: 0.36939179 | J98: 0.54891356 | K98: 0.10644795 | L98: 0.60143233 | M98: 0.23501409 | N98: 0.29472465 | O98: 0.67921027 | P98: 0.54027093 | Q98: 0.33239963 | R98: 0.66081631 | S98: 0.30769036 | T98: 0.68187899 | U98: 0.67806921 | V98: 0.21434332 | W98: 0.15707909 | X98: 0.67373479 | Y98: 0.63460745 | Z98: 0.23958983 | AA98: 0.49083215 | AB98: 0.68287204 | AC98: 0.68217297 | AD98: 0.67666384 | AE98: 0.67621626 | AF98: 0.30232347 | AG98: 0.3000973 | AH98: 0.12530522 | AI98: 0.53985091 | AJ98: 0.37888986 | AK98: 0.094479412 | AL98: 0.31886085 | AM98: 0.6445764 | AN98: 0.11232101 | AO98: 0.34773335 | AP98: 0.17417421 | AQ98: 0.6824209 | AR98: 0.6540601 | AS98: 0.13734308 | AT98: 0.67462377 | AU98: 0.67756972 | AV98: 0.15628165 | AW98: 0.21884257 | AX98: 0.058174446 | AY98: 0.39163612 | AZ98: 0.41137396 | BA98: 0.45338178 | BB98: 0.27576047 | BC98: 0.4995576
A99: all | B99: 0.48855269 | C99: 0.018309514 | D99: 0.089297291 | E99: 0.061966946 | F99: 0.050355107 | G99: 0.012586639 | H99: 0.017730079 | I99: 0.13867129 | J99: 0.54891356 | K99: 0.018041266 | L99: 0.56353543 | M99: 0.1034025 | N99: 0.018174493 | O99: 0.54763158 | P99: 0.073517158 | Q99: 0.0079953103 | R99: 0.4860496 | S99: 0.15144409 | T99: 0.21943608 | U99: 0.35511862 | V99: 0.061314324 | W99: 0.019378654 | X99: 0.67373479 | Y99: 0.19863183 | Z99: 0.11200861 | AA99: 0.14863343 | AB99: 0.14726421 | AC99: 0.66138521 | AD99: 0.20191659 | AE99: 0.47348166 | AF99: 0.069560536 | AG99: 0.090999352 | AH99: 0.041891095 | AI99: 0.12797032 | AJ99: 0.10736638 | AK99: 0.032620683 | AL99: 0.092983966 | AM99: 0.59640712 | AN99: 0.025425461 | AO99: 0.21238213 | AP99: 0.04007325 | AQ99: 0.6824209 | AR99: 0.43847947 | AS99: 0.073455644 | AT99: 0.24811185 | AU99: 0.10208996 | AV99: 0.060908455 | AW99: 0.038782115 | AX99: 0 | AY99: 0.21046166 | AZ99: 0.21651562 | BA99: 0.30119108 | BB99: 0.15371692 | BC99: 0.055133248
A101: median
A102: ground | B102: 0.79851037 | C102: 0.71464797 | D102: 0.32837157 | E102: 0.20358433 | F102: 0.28073577 | G102: 0.049199085 | H102: 0.066761868 | I102: 0.66522303 | J102: 0.71097107 | K102: 0.1338757 | L102: 0.71684054 | M102: 0.31381691 | N102: 0.32258749 | O102: 0.82933846 | P102: 0.62597043 | Q102: 0.41381024 | R102: 0.7521262 | S102: 0.42824387 | T102: 0.80205361 | U102: 0.79419603 | V102: 0.25888216 | W102: 0.19013325 | X102: 0.78625256 | Y102: 0.74171755 | Z102: 0.2778473 | AA102: 0.6125166 | AB102: 0.81886393 | AC102: 0.80069484 | AD102: 0.75642582 | AE102: 0.79837823 | AF102: 0.4286106 | AG102: 0.34812836 | AH102: 0.14226641 | AI102: 0.70723744 | AJ102: 0.41049389 | AK102: 0.12786606 | AL102: 0.38807286 | AM102: 0.68218877 | AN102: 0.12518502 | AO102: 0.70588589 | AP102: 0.20141165 | AQ102: 0.79816919 | AR102: 0.74152189 | AS102: 0.28106453 | AT102: 0.79974576 | AU102: 0.80050773 | AV102: 0.17608211 | AW102: 0.23609025 | AX102: 0.071171454 | AY102: 0.66231036 | AZ102: 0.49530501 | BA102: 0.53654483 | BB102: 0.41073261 | BC102: 0.61808484
A103: net rad | B103: 0.79851037 | C103: 0.71145095 | D103: 0.32869956 | E103: 0.20456423 | F103: 0.28058029 | G103: 0.049545788 | H103: 0.066849225 | I103: 0.65875451 | J103: 0.71097107 | K103: 0.13417381 | L103: 0.71684054 | M103: 0.31403528 | N103: 0.32229605 | O103: 0.82933846 | P103: 0.62568252 | Q103: 0.41385599 | R103: 0.7521262 | S103: 0.42600689 | T103: 0.80205361 | U103: 0.79419603 | V103: 0.25874252 | W103: 0.19102298 | X103: 0.78625256 | Y103: 0.74169628 | Z103: 0.27773823 | AA103: 0.60953166 | AB103: 0.81886393 | AC103: 0.80069484 | AD103: 0.75642582 | AE103: 0.79837823 | AF103: 0.42870399 | AG103: 0.34699429 | AH103: 0.14251659 | AI103: 0.70723744 | AJ103: 0.41015978 | AK103: 0.12729774 | AL103: 0.38726359 | AM103: 0.68218877 | AN103: 0.12563905 | AO103: 0.70861578 | AP103: 0.20156853 | AQ103: 0.79816919 | AR103: 0.74152189 | AS103: 0.28222609 | AT103: 0.79974576 | AU103: 0.80050773 | AV103: 0.17582281 | AW103: 0.23547267 | AX103: 0.071276512 | AY103: 0.66187462 | AZ103: 0.49646835 | BA103: 0.53654483 | BB103: 0.41156376 | BC103: 0.62017865
A104: temp | B104: 0.79851037 | C104: 0.71663776 | D104: 0.32952499 | E104: 0.20499516 | F104: 0.28098609 | G104: 0.049544949 | H104: 0.066778067 | I104: 0.66156135 | J104: 0.71097107 | K104: 0.13396332 | L104: 0.71684054 | M104: 0.31262947 | N104: 0.32588939 | O104: 0.82933846 | P104: 0.62340447 | Q104: 0.41028284 | R104: 0.7521262 | S104: 0.42785179 | T104: 0.80205361 | U104: 0.79419603 | V104: 0.25880661 | W104: 0.1912857 | X104: 0.78625256 | Y104: 0.74057074 | Z104: 0.27648647 | AA104: 0.6077588 | AB104: 0.81886393 | AC104: 0.80069484 | AD104: 0.75642582 | AE104: 0.79837823 | AF104: 0.42900897 | AG104: 0.34709775 | AH104: 0.14236733 | AI104: 0.70723744 | AJ104: 0.41234823 | AK104: 0.1271409 | AL104: 0.38676553 | AM104: 0.68218877 | AN104: 0.12590947 | AO104: 0.69941587 | AP104: 0.20143635 | AQ104: 0.79816919 | AR104: 0.74152189 | AS104: 0.28088674 | AT104: 0.79974576 | AU104: 0.80050773 | AV104: 0.1765408 | AW104: 0.23666818 | AX104: 0.072371914 | AY104: 0.66257986 | AZ104: 0.49928472 | BA104: 0.53654483 | BB104: 0.40953059 | BC104: 0.61905766
A105: wind | B105: 0.79851037 | C105: 0.71265961 | D105: 0.32872279 | E105: 0.20430961 | F105: 0.27967298 | G105: 0.049220971 | H105: 0.066754769 | I105: 0.66288188 | J105: 0.71097107 | K105: 0.1341914 | L105: 0.71684054 | M105: 0.31530907 | N105: 0.32293911 | O105: 0.82933846 | P105: 0.62474699 | Q105: 0.41102887 | R105: 0.7521262 | S105: 0.42775364 | T105: 0.80205361 | U105: 0.79419603 | V105: 0.25906679 | W105: 0.19042809 | X105: 0.78625256 | Y105: 0.74171755 | Z105: 0.27774132 | AA105: 0.60760124 | AB105: 0.81886393 | AC105: 0.80069484 | AD105: 0.75642582 | AE105: 0.79837823 | AF105: 0.42919423 | AG105: 0.34742268 | AH105: 0.14223976 | AI105: 0.70723744 | AJ105: 0.41070895 | AK105: 0.12769475 | AL105: 0.38604047 | AM105: 0.68218877 | AN105: 0.12533183 | AO105: 0.70426124 | AP105: 0.20150148 | AQ105: 0.79816919 | AR105: 0.74152189 | AS105: 0.28190162 | AT105: 0.79974576 | AU105: 0.80050773 | AV105: 0.17624752 | AW105: 0.23587424 | AX105: 0.071079706 | AY105: 0.66394848 | AZ105: 0.49762959 | BA105: 0.53654483 | BB105: 0.40986869 | BC105: 0.61804261
A106: relative | B106: 0.79851037 | C106: 0.71563511 | D106: 0.32907234 | E106: 0.20426945 | F106: 0.28069109 | G106: 0.049330831 | H106: 0.067024582 | I106: 0.65878093 | J106: 0.71097107 | K106: 0.13421719 | L106: 0.71684054 | M106: 0.31395817 | N106: 0.32305685 | O106: 0.82933846 | P106: 0.62404043 | Q106: 0.4140743 | R106: 0.7521262 | S106: 0.42599633 | T106: 0.80205361 | U106: 0.79419603 | V106: 0.25843639 | W106: 0.19133827 | X106: 0.78625256 | Y106: 0.74043349 | Z106: 0.27766744 | AA106: 0.60819437 | AB106: 0.81886393 | AC106: 0.80069484 | AD106: 0.75642582 | AE106: 0.79837823 | AF106: 0.43098196 | AG106: 0.34904611 | AH106: 0.14235694 | AI106: 0.70723744 | AJ106: 0.41206641 | AK106: 0.12820079 | AL106: 0.38764024 | AM106: 0.68218877 | AN106: 0.12556322 | AO106: 0.70118458 | AP106: 0.2013784 | AQ106: 0.79816919 | AR106: 0.74152189 | AS106: 0.28364479 | AT106: 0.79974576 | AU106: 0.80050773 | AV106: 0.17612418 | AW106: 0.23595739 | AX106: 0.071269676 | AY106: 0.66265467 | AZ106: 0.49567611 | BA106: 0.53654483 | BB106: 0.4116291 | BC106: 0.6188606
A107: crop k | B107: 0.79851037 | C107: 0.64025889 | D107: 0.32714939 | E107: 0.1951541 | F107: 0.2764547 | G107: 0.051337769 | H107: 0.065984381 | I107: 0.6524128 | J107: 0.71097107 | K107: 0.1390969 | L107: 0.71684054 | M107: 0.31157241 | N107: 0.36176179 | O107: 0.82933846 | P107: 0.62829145 | Q107: 0.43478955 | R107: 0.7521262 | S107: 0.43135967 | T107: 0.80205361 | U107: 0.79419603 | V107: 0.25808678 | W107: 0.18762822 | X107: 0.78625256 | Y107: 0.72005133 | Z107: 0.28575906 | AA107: 0.57998348 | AB107: 0.81306804 | AC107: 0.80069484 | AD107: 0.75642582 | AE107: 0.79837823 | AF107: 0.38118777 | AG107: 0.35752341 | AH107: 0.1499912 | AI107: 0.7059882 | AJ107: 0.41294866 | AK107: 0.13089159 | AL107: 0.36716527 | AM107: 0.68218877 | AN107: 0.13635019 | AO107: 0.68474493 | AP107: 0.20167088 | AQ107: 0.79816919 | AR107: 0.74152189 | AS107: 0.27041465 | AT107: 0.79974576 | AU107: 0.80050773 | AV107: 0.17055152 | AW107: 0.25567117 | AX107: 0.069190562 | AY107: 0.6378528 | AZ107: 0.50916865 | BA107: 0.53654483 | BB107: 0.40974638 | BC107: 0.62018228
A108: precip | B108: 0.79851037 | C108: 0.73786547 | D108: 0.33129101 | E108: 0.20517283 | F108: 0.29126146 | G108: 0.052119211 | H108: 0.068915367 | I108: 0.64653327 | J108: 0.71097107 | K108: 0.14156033 | L108: 0.71684054 | M108: 0.30882423 | N108: 0.35146374 | O108: 0.82933846 | P108: 0.65477191 | Q108: 0.4529356 | R108: 0.7521262 | S108: 0.43071175 | T108: 0.80058357 | U108: 0.79419603 | V108: 0.265394 | W108: 0.21015815 | X108: 0.78625256 | Y108: 0.72261547 | Z108: 0.28381154 | AA108: 0.61015847 | AB108: 0.80183053 | AC108: 0.80069484 | AD108: 0.75506064 | AE108: 0.79837823 | AF108: 0.43890314 | AG108: 0.35892742 | AH108: 0.14566481 | AI108: 0.70371993 | AJ108: 0.42185091 | AK108: 0.12798926 | AL108: 0.3910999 | AM108: 0.68218877 | AN108: 0.13429984 | AO108: 0.71324642 | AP108: 0.20444891 | AQ108: 0.79816919 | AR108: 0.74152189 | AS108: 0.28150696 | AT108: 0.79943509 | AU108: 0.80044201 | AV108: 0.17701263 | AW108: 0.24250253 | AX108: 0.078869066 | AY108: 0.64488977 | AZ108: 0.50240404 | BA108: 0.53654483 | BB108: 0.41301636 | BC108: 0.65470776
A109: application | B109: 0.78688419 | C109: 0.70153023 | D109: 0.32838708 | E109: 0.20407425 | F109: 0.27995709 | G109: 0.04919257 | H109: 0.066833206 | I109: 0.60698069 | J109: 0.69967554 | K109: 0.13397808 | L109: 0.72067337 | M109: 0.31375837 | N109: 0.32272703 | O109: 0.78687201 | P109: 0.62611022 | Q109: 0.41450995 | R109: 0.74136048 | S109: 0.42760608 | T109: 0.78733307 | U109: 0.78386949 | V109: 0.25942621 | W109: 0.19146188 | X109: 0.77198251 | Y109: 0.72200749 | Z109: 0.27831137 | AA109: 0.60373352 | AB109: 0.7930688 | AC109: 0.78746909 | AD109: 0.78623874 | AE109: 0.78745681 | AF109: 0.42812657 | AG109: 0.34751567 | AH109: 0.14227497 | AI109: 0.70053782 | AJ109: 0.40951372 | AK109: 0.12789288 | AL109: 0.38750412 | AM109: 0.73755529 | AN109: 0.12506451 | AO109: 0.69013707 | AP109: 0.20119628 | AQ109: 0.78845879 | AR109: 0.74310018 | AS109: 0.28026789 | AT109: 0.78627639 | AU109: 0.78848884 | AV109: 0.1765223 | AW109: 0.23562624 | AX109: 0.071226002 | AY109: 0.61732223 | AZ109: 0.49492692 | BA109: 0.75658905 | BB109: 0.41027994 | BC109: 0.61870164
...

Sheet PT surface averages
A1: % of applied | B1: 'ALcotton' | C1: 'ALpeanuts' | D1: 'ARcotton' | E1: 'ARrice' | F1: 'ARsoybeans' | G1: 'AZcotton' | H1: 'CAcotton' | I1: 'CArice' | J1: 'CAwheat spring' | K1: 'COcorn' | L1: 'COwheat spring' | M1: 'COwinter wheat' | N1: 'FLpeanuts' | O1: 'GAcorn' | P1: 'GAcotton' | Q1: 'GApeanuts' | R1: 'IDwheat spring' | S1: 'IDwinter wheat' | T1: 'ILcorn' | U1: 'ILsoybeans' | V1: 'KScorn' | W1: 'KSsoybeans' | X1: 'KSwheat spring' | Y1: 'LAcotton' | Z1: 'LArice' | AA1: 'LAsoybeans' | AB1: 'MIcorn' | AC1: 'MIsoybeans' | AD1: 'MNcorn' | AE1: 'MNsoybeans' | AF1: 'MOcorn' | AG1: 'MOcotton' | AH1: 'MOrice' | AI1: 'MOsoybeans' | AJ1: 'MScotton' | AK1: 'MSrice' | AL1: 'MSsoybeans' | AM1: 'MTwinter wheat' | AN1: 'NEcorn' | AO1: 'NEoats' | AP1: 'NEsoybeans' | AQ1: 'NEwheat spring' | AR1: 'ORwheat spring' | AS1: 'ORwinter wheat' | AT1: 'SCcotton' | AU1: 'SDcorn' | AV1: 'TXcorn' | AW1: 'TXcotton' | AX1: 'TXpeanuts' | AY1: 'TXrice' | AZ1: 'TXwheat spring' | BA1: 'WAwheat spring' | BB1: 'WAwinter wheat' | BC1: 'WIcorn'
A2: min | B2: =B54 -> 0 | C2: =C54 -> 0 | D2: =D54 -> 0.0048840277 | E2: =E54 -> 0.011431835 | F2: =F54 -> 0 | G2: =G54 -> 0.0031770817 | H2: =H54 -> 0.0025765893 | I2: =I54 -> 0 | ... BC2: =BC54 -> 0
A3: max | B3: =B43 -> 0.84360339 | C3: =C43 -> 0.81665779 | D3: =D43 -> 0.42348798 | E3: =E43 -> 0.25520461 | F3: =F43 -> 0.41077002 | G3: =G43 -> 0.11540921 | H3: =H43 -> 0.19390313 | I3: =I43 -> 0.78137993 | ... BC3: =BC43 -> 0.8304329
A4: median | B4: =B87 -> 0.76776368 | C4: =C87 -> 0.2202767 | D4: =D87 -> 0.15295501 | E4: =E87 -> 0.10190672 | F4: =F87 -> 0.12213529 | G4: =G87 -> 0.027995069 | H4: =H87 -> 0.034663398 | I4: =I87 -> 0.3347517 | ... BC4: =BC87 -> 0.233644
A5: 2.5th pec | B5: =B76 -> 0.31236962 | C5: =C76 -> 0 | D5: =D76 -> 0.052146236 | E5: =E76 -> 0.039873141 | F5: =F76 -> 0.010680043 | G5: =G76 -> 0.0093107621 | H5: =H76 -> 0.012655663 | I5: =I76 -> 0.069149127 | ... BC5: =BC76 -> 0
A6: 97.5th pec | B6: =B65 -> 0.83956948 | C6: =C65 -> 0.72139352 | D6: =D65 -> 0.29993229 | E6: =E65 -> 0.19051655 | F6: =F65 -> 0.3419715 | G6: =G65 -> 0.057787877 | H6: =H65 -> 0.1029326 | I6: =I65 -> 0.74747632 | ... BC6: =BC65 -> 0.63759397
A7: mean | B7: =B32 -> 0.72830133 | C7: =C32 -> 0.25455505 | D7: =D32 -> 0.15901901 | E7: =E32 -> 0.10621645 | F7: =F32 -> 0.13498946 | G7: =G32 -> 0.029460025 | H7: =H32 -> 0.039973826 | I7: =I32 -> 0.36568891 | ... BC7: =BC32 -> 0.25705559
A8: std | B8: =B98 -> 0.13072345 | C8: =C98 -> 0.20129871 | D8: =D98 -> 0.064186791 | E8: =E98 -> 0.040234136 | F8: =F98 -> 0.084014168 | G8: =G98 -> 0.013232571 | H8: =H98 -> 0.022699928 | I8: =I98 -> 0.18459624 | ... BC8: =BC98 -> 0.16746778
A9: chi2gof | B9: =B21 -> 8.9509756e-95 | C9: =C21 -> 8.4646976e-14 | D9: =D21 -> 2.3448464e-07 | E9: =E21 -> 4.4176396e-09 | F9: =F21 -> 5.5121282e-20 | G9: =G21 -> 9.2188906e-10 | H9: =H21 -> 2.531495e-50 | I9: =I21 -> 2.2470768e-16 | ... BC9: =BC21 -> 1.6765483e-08
A10: chi2 val | B10: =B109 -> 0 | C10: =C109 -> 0 | D10: =D109 -> 0 | E10: =E109 -> 0 | F10: =F109 -> 1 | G10: =G109 -> 1 | H10: =H109 -> 1 | I10: =I109 -> 1 | ... BC10: =BC109 -> 0 | BE10: =SUM(B10:BC10) -> 21 | BF10: =COUNT(B10:BC10) -> 54
A12: chi 2 | B12: 'ALcotton' | C12: 'ALpeanuts' | D12: 'ARcotton' | E12: 'ARrice' | F12: 'ARsoybeans' | G12: 'AZcotton' | H12: 'CAcotton' | I12: 'CArice' | J12: 'CAwheat spring' | K12: 'COcorn' | L12: 'COwheat spring' | M12: 'COwinter wheat' | N12: 'FLpeanuts' | O12: 'GAcorn' | P12: 'GAcotton' | Q12: 'GApeanuts' | R12: 'IDwheat spring' | S12: 'IDwinter wheat' | T12: 'ILcorn' | U12: 'ILsoybeans' | V12: 'KScorn' | W12: 'KSsoybeans' | X12: 'KSwheat spring' | Y12: 'LAcotton' | Z12: 'LArice' | AA12: 'LAsoybeans' | AB12: 'MIcorn' | AC12: 'MIsoybeans' | AD12: 'MNcorn' | AE12: 'MNsoybeans' | AF12: 'MOcorn' | AG12: 'MOcotton' | AH12: 'MOrice' | AI12: 'MOsoybeans' | AJ12: 'MScotton' | AK12: 'MSrice' | AL12: 'MSsoybeans' | AM12: 'MTwinter wheat' | AN12: 'NEcorn' | AO12: 'NEoats' | AP12: 'NEsoybeans' | AQ12: 'NEwheat spring' | AR12: 'ORwheat spring' | AS12: 'ORwinter wheat' | AT12: 'SCcotton' | AU12: 'SDcorn' | AV12: 'TXcorn' | AW12: 'TXcotton' | AX12: 'TXpeanuts' | AY12: 'TXrice' | AZ12: 'TXwheat spring' | BA12: 'WAwheat spring' | BB12: 'WAwinter wheat' | BC12: 'WIcorn'
A13: ground | B13: 1.2855054e-26 | C13: 1.0263613e-06 | D13: 0.026412088 | E13: 0.00024161661 | F13: 0.00073386703 | G13: 1.243397e-29 | H13: 2.6734044e-52 | K13: 8.5788894e-06 | L13: 0.0015223491 | M13: 5.2186508e-15 | N13: 0.36479792 | O13: 8.6483407e-30 | P13: 0.19113949 | Q13: 0.0019085616 | R13: 0.43438222 | S13: 4.3142302e-13 | T13: 2.4240605e-05 | U13: 1.6957861e-21 | V13: 0.0012796166 | W13: 9.0889152e-08 | X13: 1.5386237e-08 | Y13: 4.8648022e-07 | Z13: 0.0014714608 | AA13: 7.8460091e-06 | AB13: 4.9510951e-11 | AC13: 0.12621398 | AD13: 2.134787e-12 | AE13: 3.9416086e-05 | AF13: 0.079083973 | AG13: 0.012310471 | AH13: 0.0056846431 | AI13: 1.3031797e-09 | AJ13: 0.12562038 | AL13: 0.0032985412 | AM13: 5.0386558e-10 | AN13: 0.15278613 | AP13: 2.7850994e-08 | AQ13: 2.6481347e-05 | AR13: 5.9557005e-05 | AS13: 1.4341411e-57 | AT13: 0.084353193 | AU13: 0.39360751 | AV13: 0.013478871 | AW13: 0.10089773 | AX13: 0.018377844 | AZ13: 2.134381e-11 | BA13: 7.6121752e-20 | BB13: 1.8668727e-09 | BC13: 2.1809983e-08
A14: net rad | B14: 1.2855054e-26 | C14: 1.0577317e-17 | D14: 0.16957968 | E14: 0.00019662765 | F14: 0.10141113 | G14: 7.8770905e-35 | H14: 1.8380725e-59 | K14: 9.5682988e-06 | L14: 0.0015223491 | M14: 2.1516226e-17 | N14: 0.30718403 | O14: 8.6483407e-30 | P14: 0.17025123 | Q14: 0.00013291257 | R14: 0.19775126 | S14: 2.5985807e-24 | T14: 1.4541506e-05 | U14: 1.6957861e-21 | V14: 3.1504213e-05 | W14: 0.00016569837 | X14: 1.5386237e-08 | Y14: 1.7855018e-07 | Z14: 7.7831132e-05 | AA14: 8.1628294e-08 | AB14: 2.5962099e-08 | AC14: 0.12621398 | AD14: 2.134787e-12 | AE14: 3.9416086e-05 | AF14: 0.0069431739 | AG14: 0.026263149 | AH14: 0.078083218 | AI14: 1.7487567e-12 | AJ14: 0.61602281 | AL14: 0.18589543 | AM14: 5.0386558e-10 | AN14: 0.25301592 | AP14: 0.00013724046 | AQ14: 2.6481347e-05 | AR14: 0.0063115466 | AS14: 2.0631383e-46 | AT14: 0.0012233234 | AU14: 0.39360751 | AV14: 0.047284363 | AW14: 0.60745379 | AX14: 0.013400388 | AZ14: 1.3388603e-07 | BA14: 7.6121752e-20 | BB14: 2.6775656e-11 | BC14: 0.015539517
A15: temp | B15: 1.2855054e-26 | C15: 2.2116252e-14 | D15: 0.074972843 | E15: 3.0283197e-06 | F15: 0.06496578 | G15: 4.836774e-27 | H15: 1.8759969e-66 | K15: 1.6456344e-07 | L15: 0.0015223491 | M15: 5.0169766e-21 | N15: 0.014133838 | O15: 8.6483407e-30 | P15: 0.022336251 | Q15: 2.1836649e-08 | R15: 0.43383305 | S15: 9.7378416e-19 | T15: 1.6946323e-05 | U15: 1.6957861e-21 | V15: 2.0497863e-05 | W15: 0.0065914644 | X15: 1.5386237e-08 | Y15: 3.1237497e-07 | Z15: 0.0041062454 | AA15: 5.9469138e-06 | AB15: 6.2176912e-09 | AC15: 0.12621398 | AD15: 2.134787e-12 | AE15: 3.9416086e-05 | AF15: 0.011378847 | AG15: 0.072670469 | AH15: 0.001232658 | AI15: 4.5322456e-11 | AJ15: 0.014145766 | AL15: 0.063948459 | AM15: 5.0386558e-10 | AN15: 0.38432734 | AP15: 0.063873302 | AQ15: 2.6481347e-05 | AR15: 0.00031250718 | AS15: 5.8198892e-53 | AT15: 0.064823083 | AU15: 0.39360751 | AV15: 0.067555386 | AW15: 0.4966557 | AX15: 0.00011074252 | AZ15: 3.034609e-09 | BA15: 7.6121752e-20 | BB15: 1.2467024e-10 | BC15: 4.5165228e-06
A16: wind | B16: 1.2855054e-26 | C16: 4.928992e-13 | D16: 0.031890468 | E16: 8.2263516e-08 | F16: 0.0032058734 | G16: 6.28614e-27 | H16: 3.1336239e-59 | K16: 0.0024795971 | L16: 0.0015223491 | M16: 1.8850927e-16 | N16: 0.0010998206 | O16: 8.6483407e-30 | P16: 0.079272874 | Q16: 2.9405275e-05 | R16: 0.43433978 | S16: 5.5711072e-12 | T16: 1.6963565e-05 | U16: 1.6957861e-21 | V16: 2.4087442e-05 | W16: 0.00059934487 | X16: 1.5386237e-08 | Y16: 1.9764872e-05 | Z16: 0.0003471309 | AA16: 2.9208685e-07 | AB16: 3.2047436e-11 | AC16: 0.12621398 | AD16: 2.134787e-12 | AE16: 3.9416086e-05 | AF16: 0.14572384 | AG16: 0.17583506 | AH16: 0.00011390854 | AI16: 1.1759136e-11 | AJ16: 0.00048124972 | AL16: 0.056575785 | AM16: 5.0386558e-10 | AN16: 0.0025994263 | AP16: 0.00014553628 | AQ16: 2.6481347e-05 | AR16: 0.00038010571 | AS16: 3.6913622e-54 | AT16: 0.086616032 | AU16: 0.39360751 | AV16: 4.1663526e-05 | AW16: 0.029004841 | AX16: 1.1542569e-07 | AZ16: 1.1677522e-12 | BA16: 7.6121752e-20 | BB16: 3.8783996e-10 | BC16: 3.2514202e-06
A17: relative | B17: 1.2855054e-26 | C17: 4.928992e-13 | D17: 0.031890468 | E17: 8.2263516e-08 | F17: 0.0032058734 | G17: 6.28614e-27 | H17: 3.1336239e-59 | K17: 0.0024795971 | L17: 0.0015223491 | M17: 1.8850927e-16 | N17: 0.0010998206 | O17: 8.6483407e-30 | P17: 0.079272874 | Q17: 2.9405275e-05 | R17: 0.43433978 | S17: 5.5711072e-12 | T17: 1.6963565e-05 | U17: 1.6957861e-21 | V17: 2.4087442e-05 | W17: 0.00059934487 | X17: 1.5386237e-08 | Y17: 1.9764872e-05 | Z17: 0.0003471309 | AA17: 2.9208685e-07 | AB17: 3.2047436e-11 | AC17: 0.12621398 | AD17: 2.134787e-12 | AE17: 3.9416086e-05 | AF17: 0.14572384 | AG17: 0.17583506 | AH17: 0.00011390854 | AI17: 1.1759136e-11 | AJ17: 0.00048124972 | AL17: 0.056575785 | AM17: 5.0386558e-10 | AN17: 0.0025994263 | AP17: 0.00014553628 | AQ17: 2.6481347e-05 | AR17: 0.00038010571 | AS17: 3.6913622e-54 | AT17: 0.086616032 | AU17: 0.39360751 | AV17: 4.1663526e-05 | AW17: 0.029004841 | AX17: 1.1542569e-07 | AZ17: 1.1677522e-12 | BA17: 7.6121752e-20 | BB17: 3.8783996e-10 | BC17: 3.2514202e-06
A18: crop k | B18: 1.2855054e-26 | C18: 4.5853409e-14 | D18: 5.6207768e-09 | E18: 7.1915684e-15 | F18: 8.3131296e-39 | G18: 6.7564382e-14 | H18: 4.8362825e-22 | K18: 1.3931253e-32 | L18: 0.0015250688 | M18: 2.1436054e-12 | N18: 7.2581371e-13 | O18: 8.6483407e-30 | P18: 7.1222213e-32 | Q18: 4.6572022e-15 | R18: 0.47708876 | S18: 2.4320609e-12 | T18: 0.11366328 | U18: 1.6957861e-21 | V18: 7.7195598e-06 | W18: 2.2257369e-36 | X18: 1.5386237e-08 | Y18: 0.18739756 | Z18: 2.1417854e-28 | AA18: 3.5724211e-11 | AB18: 5.13907e-06 | AC18: 0.12621398 | AD18: 9.8260076e-12 | AE18: 3.9416086e-05 | AF18: 1.8916526e-24 | AG18: 1.398255e-08 | AH18: 2.5729059e-24 | AI18: 3.5250476e-05 | AJ18: 0.0004200177 | AL18: 8.4267651e-11 | AM18: 5.0386558e-10 | AN18: 1.8948375e-22 | AP18: 6.0550165e-08 | AQ18: 2.6481347e-05 | AR18: 0.093168818 | AS18: 2.677382e-65 | AT18: 9.4492268e-180 | AU18: 3.2599001e-241 | AV18: 2.9038921e-22 | AW18: 1.1652192e-09 | AX18: 0.00019250929 | AZ18: 0.0374751 | BA18: 7.6121752e-20 | BB18: 5.3305268e-10 | BC18: 1.9003905e-15
A19: precip | B19: 9.1713221e-27 | C19: 0.019055688 | D19: 0.39648702 | E19: 0.020078514 | F19: 0.0664976 | G19: 2.568895e-17 | H19: 3.6095443e-42 | K19: 0.00022792944 | L19: 0.0022027992 | M19: 5.6027725e-14 | N19: 0.030742 | O19: 8.6483407e-30 | P19: 0.020702865 | Q19: 0.0028027809 | R19: 0.27236416 | S19: 6.7912062e-14 | T19: 3.7133479e-12 | U19: 6.5742354e-21 | V19: 0.12432228 | W19: 0.0054919164 | X19: 1.5386237e-08 | Y19: 0.0062025808 | Z19: 0.016053882 | AA19: 0.011054305 | AB19: 3.6205783e-06 | AC19: 0.12621398 | AD19: 4.6659777e-11 | AE19: 3.9909699e-06 | AF19: 1.181726e-06 | AG19: 0.0017084139 | AH19: 0.021916009 | AI19: 2.7784501e-08 | AJ19: 0.47666906 | AL19: 0.011024813 | AM19: 5.0386558e-10 | AN19: 0.00071767821 | AP19: 2.7946435e-05 | AQ19: 2.6481347e-05 | AR19: 0.052112708 | AS19: 9.1678381e-67 | AT19: 1.0343323e-100 | AU19: 5.4595413e-121 | AV19: 0.10053521 | AW19: 0.060663094 | AX19: 2.0528031e-14 | AZ19: 1.883638e-06 | BA19: 7.6121752e-20 | BB19: 5.5334938e-21 | BC19: 0.023569625
A20: application | B20: 2.877198e-15 | C20: 2.715451e-12 | D20: 0.031890468 | E20: 8.2263516e-08 | F20: 0.0032058734 | G20: 6.28614e-27 | H20: 3.1336239e-59 | I20: 9.1189505e-10 | J20: 9.0703217e-12 | K20: 0.0024795971 | L20: 1.2149966e-25 | M20: 4.9069212e-19 | N20: 0.0010998206 | O20: 2.8157367e-15 | P20: 0.079272874 | Q20: 2.9405275e-05 | R20: 0.044204532 | S20: 8.2349538e-20 | T20: 1.5097587e-10 | U20: 4.4387613e-11 | V20: 2.4087442e-05 | W20: 0.00059934487 | X20: 1.2130416e-14 | Y20: 0.23623201 | Z20: 0.0003471309 | AA20: 0.00066502208 | AB20: 0.093958145 | AC20: 3.8751914e-12 | AD20: 1.6537089e-07 | AE20: 9.9176393e-17 | AF20: 0.14572384 | AG20: 0.17583506 | AH20: 0.00011390854 | AI20: 5.6113155e-08 | AJ20: 0.00048124972 | AL20: 0.056575785 | AM20: 4.7292847e-07 | AN20: 0.0025994263 | AO20: 1.8501273e-24 | AP20: 0.00014553628 | AQ20: 6.3505395e-15 | AR20: 0.028663104 | AS20: 3.2522128e-124 | AT20: 2.4095435e-12 | AU20: 1.2789387e-12 | AV20: 4.1663526e-05 | AW20: 0.029004841 | AX20: 1.1542569e-07 | AY20: 0.006462596 | AZ20: 1.1677522e-12 | BA20: 6.0980445e-27 | BB20: 4.41808e-22 | BC20: 3.2514202e-06
A21: all | B21: 8.9509756e-95 | C21: 8.4646976e-14 | D21: 2.3448464e-07 | E21: 4.4176396e-09 | F21: 5.5121282e-20 | G21: 9.2188906e-10 | H21: 2.531495e-50 | I21: 2.2470768e-16 | J21: 5.0448844e-07 | K21: 6.9518916e-06 | L21: 1.9428365e-10 | M21: 6.0481068e-12 | N21: 3.3679104e-09 | O21: 4.5642778e-24 | P21: 6.8582687e-07 | Q21: 8.8435754e-09 | R21: 0.027169283 | S21: 7.9935149e-11 | T21: 4.9508595e-10 | U21: 1.303983e-71 | V21: 4.7781748e-06 | W21: 0.00012630497 | X21: 1.7522693e-24 | Y21: 0.019785681 | Z21: 0.0010259778 | AA21: 3.1241742e-09 | AB21: 1.8273168e-11 | AC21: 1.0863468e-80 | AD21: 2.4603454e-10 | AE21: 1.0367397e-74 | AF21: 9.043118e-13 | AG21: 2.4276561e-07 | AH21: 5.2488727e-14 | AI21: 3.2344583e-18 | AJ21: 0.0017105693 | AL21: 1.6003443e-08 | AM21: 2.1531815e-15 | AN21: 1.3014742e-12 | AO21: 2.6638982e-41 | AP21: 1.1438008e-05 | AQ21: 6.3505395e-15 | AR21: 0.022451626 | AS21: 2.1131299e-70 | AT21: 3.4089624e-08 | AU21: 4.4359918e-53 | AV21: 3.359566e-08 | AW21: 2.0505648e-06 | AX21: 1.1665345e-19 | AY21: 5.1755095e-16 | AZ21: 0.023689181 | BA21: 7.8818133e-17 | BB21: 2.1400554e-14 | BC21: 1.6765483e-08
A23: mean values
A24: ground | B24: 0.82638096 | C24: 0.5357963 | D24: 0.26039855 | E24: 0.17235539 | F24: 0.19666815 | G24: 0.045913912 | H24: 0.06367945 | I24: 0.75315687 | J24: 1.1831072 | K24: 0.097051441 | L24: 0.72337521 | M24: 0.30113027 | N24: 0.19743118 | O24: 0.86080969 | P24: 0.44728817 | Q24: 0.26411125 | R24: 0.75442666 | S24: 0.41126473 | T24: 0.80520675 | U24: 0.81853172 | V24: 0.21603039 | W24: 0.14033304 | X24: 0.7956188 | Y24: 0.68365668 | Z24: 0.2688252 | AA24: 0.52518176 | AB24: 0.68933509 | AC24: 0.80058221 | AD24: 0.78389715 | AE24: 0.80062631 | AF24: 0.34944346 | AG24: 0.28108702 | AH24: 0.11624424 | AI24: 0.71485763 | AJ24: 0.34262522 | AK24: 0.1153837 | AL24: 0.3229137 | AM24: 0.69247885 | AN24: 0.094245652 | AO24: 2.0648326 | AP24: 0.16244907 | AQ24: 0.80533272 | AR24: 0.72046147 | AS24: 0.32018837 | AT24: 0.79984649 | AU24: 0.80020839 | AV24: 0.15443553 | AW24: 0.18473584 | AX24: 0.036357505 | AY24: 0.75312587 | AZ24: 0.3427966 | BA24: 0.57753191 | BB24: 0.38565309 | BC24: 0.4352653
A25: net rad | B25: 0.82638096 | C25: 0.53605967 | D25: 0.26094927 | E25: 0.17266548 | F25: 0.19747818 | G25: 0.046018975 | H25: 0.063681056 | I25: 0.74930693 | J25: 1.1831072 | K25: 0.097467784 | L25: 0.72337521 | M25: 0.30228624 | N25: 0.19770712 | O25: 0.86080969 | P25: 0.44751935 | Q25: 0.26439711 | R25: 0.75261341 | S25: 0.41122557 | T25: 0.80409019 | U25: 0.81853172 | V25: 0.21666003 | W25: 0.14109574 | X25: 0.7956188 | Y25: 0.68555356 | Z25: 0.26930009 | AA25: 0.5271568 | AB25: 0.68570539 | AC25: 0.80058221 | AD25: 0.78389715 | AE25: 0.80062631 | AF25: 0.34956344 | AG25: 0.28087666 | AH25: 0.11612847 | AI25: 0.71322905 | AJ25: 0.34317579 | AK25: 0.11552713 | AL25: 0.3234056 | AM25: 0.69247885 | AN25: 0.094881929 | AO25: 2.0789336 | AP25: 0.16257472 | AQ25: 0.80533272 | AR25: 0.71619064 | AS25: 0.31906348 | AT25: 0.79967241 | AU25: 0.80020839 | AV25: 0.15390339 | AW25: 0.18395917 | AX25: 0.0360159 | AY25: 0.74727726 | AZ25: 0.34786647 | BA25: 0.57753191 | BB25: 0.3877381 | BC25: 0.43627105
A26: temp | B26: 0.82638096 | C26: 0.53470474 | D26: 0.26070951 | E26: 0.17253824 | F26: 0.19696492 | G26: 0.045876049 | H26: 0.063644321 | I26: 0.75111877 | J26: 1.1831072 | K26: 0.097249206 | L26: 0.72337521 | M26: 0.30146395 | N26: 0.19864133 | O26: 0.86080969 | P26: 0.44596827 | Q26: 0.2624929 | R26: 0.75439971 | S26: 0.41104549 | T26: 0.80527727 | U26: 0.81853172 | V26: 0.2158743 | W26: 0.14025626 | X26: 0.7956188 | Y26: 0.68310105 | Z26: 0.26847656 | AA26: 0.52463539 | AB26: 0.68843398 | AC26: 0.80058221 | AD26: 0.78389715 | AE26: 0.80062631 | AF26: 0.34812223 | AG26: 0.28008562 | AH26: 0.11580326 | AI26: 0.71594392 | AJ26: 0.34294804 | AK26: 0.11548469 | AL26: 0.3232004 | AM26: 0.69247885 | AN26: 0.093926683 | AO26: 2.0686999 | AP26: 0.16178887 | AQ26: 0.80533272 | AR26: 0.71972432 | AS26: 0.31967044 | AT26: 0.79985201 | AU26: 0.80020839 | AV26: 0.15391958 | AW26: 0.18427718 | AX26: 0.035980444 | AY26: 0.74961225 | AZ26: 0.34248507 | BA26: 0.57753191 | BB26: 0.38556051 | BC26: 0.43538417
A27: wind | B27: 0.82638096 | C27: 0.53466011 | D27: 0.26038034 | E27: 0.17235047 | F27: 0.19661416 | G27: 0.045973342 | H27: 0.063675864 | I27: 0.75202759 | J27: 1.1831072 | K27: 0.097049994 | L27: 0.72337521 | M27: 0.30145287 | N27: 0.1975259 | O27: 0.86080969 | P27: 0.44702816 | Q27: 0.26382772 | R27: 0.75442846 | S27: 0.41124129 | T27: 0.80534668 | U27: 0.81853172 | V27: 0.21621705 | W27: 0.14061181 | X27: 0.7956188 | Y27: 0.68363603 | Z27: 0.26871997 | AA27: 0.52504769 | AB27: 0.68966332 | AC27: 0.80058221 | AD27: 0.78389715 | AE27: 0.80062631 | AF27: 0.34892344 | AG27: 0.2806468 | AH27: 0.11605445 | AI27: 0.71653244 | AJ27: 0.3432566 | AK27: 0.11546638 | AL27: 0.32353489 | AM27: 0.69247885 | AN27: 0.093975627 | AO27: 2.0805791 | AP27: 0.1620887 | AQ27: 0.80533272 | AR27: 0.72006783 | AS27: 0.31978877 | AT27: 0.79986027 | AU27: 0.80020839 | AV27: 0.15362019 | AW27: 0.18420712 | AX27: 0.035926064 | AY27: 0.75107108 | AZ27: 0.34238901 | BA27: 0.57753191 | BB27: 0.38575453 | BC27: 0.43537381
A28: relative | B28: 0.82638096 | C28: 0.53466011 | D28: 0.26038034 | E28: 0.17235047 | F28: 0.19661416 | G28: 0.045973342 | H28: 0.063675864 | I28: 0.75202759 | J28: 1.1831072 | K28: 0.097049994 | L28: 0.72337521 | M28: 0.30145287 | N28: 0.1975259 | O28: 0.86080969 | P28: 0.44702816 | Q28: 0.26382772 | R28: 0.75442846 | S28: 0.41124129 | T28: 0.80534668 | U28: 0.81853172 | V28: 0.21621705 | W28: 0.14061181 | X28: 0.7956188 | Y28: 0.68363603 | Z28: 0.26871997 | AA28: 0.52504769 | AB28: 0.68966332 | AC28: 0.80058221 | AD28: 0.78389715 | AE28: 0.80062631 | AF28: 0.34892344 | AG28: 0.2806468 | AH28: 0.11605445 | AI28: 0.71653244 | AJ28: 0.3432566 | AK28: 0.11546638 | AL28: 0.32353489 | AM28: 0.69247885 | AN28: 0.093975627 | AO28: 2.0805791 | AP28: 0.1620887 | AQ28: 0.80533272 | AR28: 0.72006783 | AS28: 0.31978877 | AT28: 0.79986027 | AU28: 0.80020839 | AV28: 0.15362019 | AW28: 0.18420712 | AX28: 0.035926064 | AY28: 0.75107108 | AZ28: 0.34238901 | BA28: 0.57753191 | BB28: 0.38575453 | BC28: 0.43537381
A29: crop k | B29: 0.82638096 | C29: 0.46722404 | D29: 0.26452797 | E29: 0.16712382 | F29: 0.22770716 | G29: 0.047641566 | H29: 0.063287674 | I29: 0.76309894 | J29: 1.1831072 | K29: 0.10713328 | L29: 0.72336075 | M29: 0.29547007 | N29: 0.26310812 | O29: 0.86080969 | P29: 0.4887027 | Q29: 0.29908435 | R29: 0.74617285 | S29: 0.40661475 | T29: 0.76785415 | U29: 0.81853172 | V29: 0.21913795 | W29: 0.15002102 | X29: 0.7956188 | Y29: 0.66658492 | Z29: 0.27461642 | AA29: 0.5069846 | AB29: 0.71893841 | AC29: 0.80058221 | AD29: 0.78056272 | AE29: 0.80062631 | AF29: 0.30932212 | AG29: 0.29230464 | AH29: 0.12863117 | AI29: 0.65145798 | AJ29: 0.34619734 | AK29: 0.11776814 | AL29: 0.31032997 | AM29: 0.69247885 | AN29: 0.11052947 | AO29: 2.0990969 | AP29: 0.16504589 | AQ29: 0.80533272 | AR29: 0.69806196 | AS29: 0.30720203 | AT29: 0.76968561 | AU29: 0.78701373 | AV29: 0.15607849 | AW29: 0.22363948 | AX29: 0.037970099 | AY29: 0.74365899 | AZ29: 0.3538014 | BA29: 0.57753191 | BB29: 0.38972612 | BC29: 0.45393804
A30: precip | B30: 0.8262279 | C30: 0.57525418 | D30: 0.26209129 | E30: 0.17302981 | F30: 0.20759889 | G30: 0.047129831 | H30: 0.065697373 | I30: 0.7771297 | J30: 1.1831072 | K30: 0.10210053 | L30: 0.72311441 | M30: 0.30068978 | N30: 0.22611097 | O30: 0.86080969 | P30: 0.47058981 | Q30: 0.2929979 | R30: 0.74572237 | S30: 0.41384789 | T30: 0.77398488 | U30: 0.81758739 | V30: 0.2207326 | W30: 0.15334471 | X30: 0.7956188 | Y30: 0.66736876 | Z30: 0.27270924 | AA30: 0.53024504 | AB30: 0.67150797 | AC30: 0.80058221 | AD30: 0.76501402 | AE30: 0.80023379 | AF30: 0.35496844 | AG30: 0.28481647 | AH30: 0.11802919 | AI30: 0.67007149 | AJ30: 0.34590555 | AK30: 0.11581665 | AL30: 0.32590213 | AM30: 0.69247885 | AN30: 0.099934682 | AO30: 2.1208651 | AP30: 0.16469929 | AQ30: 0.80533272 | AR30: 0.70484938 | AS30: 0.32109099 | AT30: 0.76439647 | AU30: 0.7854196 | AV30: 0.15841061 | AW30: 0.18719086 | AX30: 0.044575451 | AY30: 0.7504156 | AZ30: 0.34541505 | BA30: 0.57753191 | BB30: 0.39362386 | BC30: 0.45769574
A31: application | B31: 0.77934736 | C31: 0.53323883 | D31: 0.26038034 | E31: 0.17235047 | F31: 0.19661416 | G31: 0.045973342 | H31: 0.063675864 | I31: 0.52040246 | J31: 0.68988146 | K31: 0.097049994 | L31: 0.71104391 | M31: 0.30132889 | N31: 0.1975259 | O31: 0.77796743 | P31: 0.44702816 | Q31: 0.26382772 | R31: 0.72883754 | S31: 0.41121807 | T31: 0.77710047 | U31: 0.77762832 | V31: 0.21621705 | W31: 0.14061181 | X31: 0.7637828 | Y31: 0.66666168 | Z31: 0.26871997 | AA31: 0.52396712 | AB31: 0.67800673 | AC31: 0.77904229 | AD31: 0.76473881 | AE31: 0.78003846 | AF31: 0.34892344 | AG31: 0.2806468 | AH31: 0.11605445 | AI31: 0.67535882 | AJ31: 0.3432566 | AK31: 0.11248303 | AL31: 0.32353489 | AM31: 0.73294304 | AN31: 0.093975627 | AO31: 0.63325385 | AP31: 0.1620887 | AQ31: 0.78069721 | AR31: 0.69655798 | AS31: 0.30262946 | AT31: 0.7781913 | AU31: 0.77974093 | AV31: 0.15362019 | AW31: 0.18420712 | AX31: 0.035926064 | AY31: 0.58704818 | AZ31: 0.34238901 | BA31: 0.67509839 | BB31: 0.38469035 | BC31: 0.43537381
A32: all | B32: 0.72830133 | C32: 0.25455505 | D32: 0.15901901 | E32: 0.10621645 | F32: 0.13498946 | G32: 0.029460025 | H32: 0.039973826 | I32: 0.36568891 | J32: 0.68559087 | K32: 0.060014685 | L32: 0.61131022 | M32: 0.19014231 | N32: 0.15847025 | O32: 0.73308012 | P32: 0.28589109 | Q32: 0.1633187 | R32: 0.54614171 | S32: 0.26642612 | T32: 0.50999136 | U32: 0.65511549 | V32: 0.13266726 | W32: 0.086481948 | X32: 0.73062916 | Y32: 0.41523886 | Z32: 0.18400242 | AA32: 0.30760254 | AB32: 0.46530462 | AC32: 0.74151659 | AD32: 0.5192495 | AE32: 0.70798435 | AF32: 0.18518345 | AG32: 0.17426312 | AH32: 0.080195027 | AI32: 0.42412064 | AJ32: 0.20975843 | AK32: 0.072844206 | AL32: 0.18709663 | AM32: 0.71736464 | AN32: 0.062829093 | AO32: 0.48979735 | AP32: 0.093201528 | AQ32: 0.78069721 | AR32: 0.49025779 | AS32: 0.20298179 | AT32: 0.5194691 | AU32: 0.54798789 | AV32: 0.10073867 | AW32: 0.13582446 | AX32: 0.021429078 | AY32: 0.42337303 | AZ32: 0.24473896 | BA32: 0.52749999 | BB32: 0.26377226 | BC32: 0.25705559
A34: max
A35: ground | B35: 1.9997169 | C35: 1.2004708 | D35: 0.31570215 | E35: 0.23438139 | F35: 0.28171298 | G35: 0.13884921 | H35: 0.19023965 | I35: 46.005293 | J35: 57.645064 | K35: 0.14245118 | L35: 1.0503142 | M35: 0.88654861 | N35: 0.2625101 | O35: 2.1256384 | P35: 0.61664398 | Q35: 0.5108274 | R35: 1.0140407 | S35: 0.76885267 | T35: 1.1695858 | U35: 1.7944811 | V35: 0.34243297 | W35: 0.21760725 | X35: 1.1520127 | Y35: 0.94572273 | Z35: 0.36275677 | AA35: 0.85983169 | AB35: 1.1535186 | AC35: 0.8299505 | AD35: 1.4581543 | AE35: 0.90709781 | AF35: 0.57109653 | AG35: 0.36768962 | AH35: 0.15200081 | AI35: 1.2592165 | AJ35: 0.40622427 | AK35: 3.8663999 | AL35: 0.45066345 | AM35: 1.1696327 | AN35: 0.12276817 | AO35: 632.42321 | AP35: 0.22465978 | AQ35: 1.2192499 | AR35: 0.99319909 | AS35: 2.0126997 | AT35: 0.82710956 | AU35: 0.84628652 | AV35: 0.18590574 | AW35: 0.21932727 | AX35: 0.073008201 | AY35: 48.323492 | AZ35: 0.5291247 | BA35: 1.4548744 | BB35: 1.3997895 | BC35: 0.71217453
A36: net rad | B36: 1.9997169 | C36: 1.1596603 | D36: 0.31512081 | E36: 0.24329996 | F36: 0.27621251 | G36: 0.13115648 | H36: 0.20386068 | I36: 43.079861 | J36: 57.645064 | K36: 0.15020988 | L36: 1.0503142 | M36: 0.91630533 | N36: 0.27478001 | O36: 2.1256384 | P36: 0.62433063 | Q36: 0.46158465 | R36: 1.0140407 | S36: 0.77459428 | T36: 1.1695858 | U36: 1.7944811 | V36: 0.32469057 | W36: 0.21514352 | X36: 1.1520127 | Y36: 0.96965674 | Z36: 0.34607038 | AA36: 0.86831684 | AB36: 1.2962481 | AC36: 0.8299505 | AD36: 1.4581543 | AE36: 0.90709781 | AF36: 0.54461328 | AG36: 0.40630664 | AH36: 0.16634297 | AI36: 1.3183256 | AJ36: 0.43139762 | AK36: 3.8350766 | AL36: 0.4566598 | AM36: 1.1696327 | AN36: 0.12515348 | AO36: 639.08107 | AP36: 0.22961478 | AQ36: 1.2192499 | AR36: 1.0104759 | AS36: 1.908107 | AT36: 0.82710956 | AU36: 0.84628652 | AV36: 0.18912009 | AW36: 0.22656004 | AX36: 0.06780658 | AY36: 45.306471 | AZ36: 0.60619442 | BA36: 1.4548744 | BB36: 1.439888 | BC36: 0.75375098
A37: temp | B37: 1.9997169 | C37: 1.0988593 | D37: 0.31255387 | E37: 0.23943358 | F37: 0.26572305 | G37: 0.13734048 | H37: 0.19787504 | I37: 46.916061 | J37: 57.645064 | K37: 0.14958773 | L37: 1.0503142 | M37: 0.86920281 | N37: 0.26460028 | O37: 2.1256384 | P37: 0.5951442 | Q37: 0.49527032 | R37: 1.0140407 | S37: 0.75922325 | T37: 1.1695858 | U37: 1.7944811 | V37: 0.33064041 | W37: 0.2255677 | X37: 1.1520127 | Y37: 0.96437042 | Z37: 0.36890712 | AA37: 0.88747825 | AB37: 1.2380899 | AC37: 0.8299505 | AD37: 1.4581543 | AE37: 0.90709781 | AF37: 0.53469632 | AG37: 0.37762365 | AH37: 0.14755782 | AI37: 1.3183256 | AJ37: 0.41597615 | AK37: 3.8126658 | AL37: 0.43465876 | AM37: 1.1696327 | AN37: 0.12183559 | AO37: 645.03054 | AP37: 0.23277276 | AQ37: 1.2192499 | AR37: 0.9864395 | AS37: 1.9956216 | AT37: 0.82710956 | AU37: 0.84628652 | AV37: 0.18703048 | AW37: 0.21822656 | AX37: 0.06277313 | AY37: 45.714554 | AZ37: 0.5477129 | BA37: 1.4548744 | BB37: 1.3962279 | BC37: 0.75502043
A38: wind | B38: 1.9997169 | C38: 1.1375943 | D38: 0.30195747 | E38: 0.23401221 | F38: 0.24954272 | G38: 0.13797655 | H38: 0.19947404 | I38: 45.795694 | J38: 57.645064 | K38: 0.13760051 | L38: 1.0503142 | M38: 0.88313345 | N38: 0.2341687 | O38: 2.1256384 | P38: 0.54664498 | Q38: 0.47745548 | R38: 1.0140407 | S38: 0.78197464 | T38: 1.1695858 | U38: 1.7944811 | V38: 0.33177045 | W38: 0.20747407 | X38: 1.1520127 | Y38: 0.96221937 | Z38: 0.36671149 | AA38: 0.85898812 | AB38: 1.1497635 | AC38: 0.8299505 | AD38: 1.4581543 | AE38: 0.90709781 | AF38: 0.52456179 | AG38: 0.3625866 | AH38: 0.15082254 | AI38: 1.3183256 | AJ38: 0.39952566 | AK38: 3.7296176 | AL38: 0.42710507 | AM38: 1.1696327 | AN38: 0.11342022 | AO38: 649.76092 | AP38: 0.21966165 | AQ38: 1.2192499 | AR38: 0.98940511 | AS38: 1.9844766 | AT38: 0.82710956 | AU38: 0.84628652 | AV38: 0.18217709 | AW38: 0.21149065 | AX38: 0.057430424 | AY38: 46.868116 | AZ38: 0.51480248 | BA38: 1.4548744 | BB38: 1.4057489 | BC38: 0.68182768
A39: relative | B39: 1.9997169 | C39: 1.1375943 | D39: 0.30195747 | E39: 0.23401221 | F39: 0.24954272 | G39: 0.13797655 | H39: 0.19947404 | I39: 45.795694 | J39: 57.645064 | K39: 0.13760051 | L39: 1.0503142 | M39: 0.88313345 | N39: 0.2341687 | O39: 2.1256384 | P39: 0.54664498 | Q39: 0.47745548 | R39: 1.0140407 | S39: 0.78197464 | T39: 1.1695858 | U39: 1.7944811 | V39: 0.33177045 | W39: 0.20747407 | X39: 1.1520127 | Y39: 0.96221937 | Z39: 0.36671149 | AA39: 0.85898812 | AB39: 1.1497635 | AC39: 0.8299505 | AD39: 1.4581543 | AE39: 0.90709781 | AF39: 0.52456179 | AG39: 0.3625866 | AH39: 0.15082254 | AI39: 1.3183256 | AJ39: 0.39952566 | AK39: 3.7296176 | AL39: 0.42710507 | AM39: 1.1696327 | AN39: 0.11342022 | AO39: 649.76092 | AP39: 0.21966165 | AQ39: 1.2192499 | AR39: 0.98940511 | AS39: 1.9844766 | AT39: 0.82710956 | AU39: 0.84628652 | AV39: 0.18217709 | AW39: 0.21149065 | AX39: 0.057430424 | AY39: 46.868116 | AZ39: 0.51480248 | BA39: 1.4548744 | BB39: 1.4057489 | BC39: 0.68182768
A40: crop k | B40: 1.9997169 | C40: 1.1067607 | D40: 0.41418117 | E40: 0.30331457 | F40: 0.59939938 | G40: 0.16918088 | H40: 0.27591126 | I40: 46.814326 | J40: 57.645064 | K40: 0.24626818 | L40: 1.0503142 | M40: 0.69618688 | N40: 0.73675482 | O40: 2.1256384 | P40: 0.91853417 | Q40: 0.6665198 | R40: 1.0140407 | S40: 0.83952117 | T40: 1.1332233 | U40: 1.7944811 | V40: 0.42099739 | W40: 0.35682032 | X40: 1.1520127 | Y40: 0.99794103 | Z40: 0.43640886 | AA40: 0.87798902 | AB40: 1.2647579 | AC40: 0.8299505 | AD40: 1.4581543 | AE40: 0.90709781 | AF40: 0.76725223 | AG40: 0.55533821 | AH40: 0.22743346 | AI40: 1.3183256 | AJ40: 0.52169079 | AK40: 3.6339696 | AL40: 0.6168387 | AM40: 1.1696327 | AN40: 0.20631782 | AO40: 705.44381 | AP40: 0.29643294 | AQ40: 1.2192499 | AR40: 0.96683579 | AS40: 2.0631813 | AT40: 0.82710956 | AU40: 0.84628652 | AV40: 0.24425637 | AW40: 0.49162343 | AX40: 0.17443424 | AY40: 49.380685 | AZ40: 0.6099518 | BA40: 1.4548744 | BB40: 1.6450964 | BC40: 0.99833618
A41: precip | B41: 1.9997169 | C41: 1.4571969 | D41: 0.44119658 | E41: 0.27418014 | F41: 0.43648866 | G41: 0.13907963 | H41: 0.2562117 | I41: 57.366307 | J41: 57.645064 | K41: 0.22555648 | L41: 1.0503142 | M41: 0.8763801 | N41: 0.53211172 | O41: 2.1256384 | P41: 0.89200169 | Q41: 0.81832173 | R41: 1.0140407 | S41: 0.86419269 | T41: 1.1695858 | U41: 1.7944811 | V41: 0.45500065 | W41: 0.31845958 | X41: 1.1520127 | Y41: 1.053643 | Z41: 0.40702404 | AA41: 1.0913987 | AB41: 1.3838731 | AC41: 0.8299505 | AD41: 1.4581543 | AE41: 0.90709781 | AF41: 0.83968149 | AG41: 0.50777101 | AH41: 0.20394144 | AI41: 1.3183256 | AJ41: 0.5646657 | AK41: 3.3453419 | AL41: 0.55846069 | AM41: 1.1696327 | AN41: 0.24182004 | AO41: 641.85537 | AP41: 0.36020522 | AQ41: 1.2192499 | AR41: 0.97971728 | AS41: 2.211581 | AT41: 0.81891247 | AU41: 0.84628652 | AV41: 0.25924298 | AW41: 0.36045617 | AX41: 0.13810711 | AY41: 48.921623 | AZ41: 0.60257 | BA41: 1.4548744 | BB41: 1.3881642 | BC41: 1.0958077
A42: application | B42: 0.84360339 | C42: 0.81372942 | D42: 0.30195747 | E42: 0.23401221 | F42: 0.24954272 | G42: 0.13797655 | H42: 0.19947404 | I42: 0.78137993 | J42: 0.78266795 | K42: 0.13760051 | L42: 0.7993491 | M42: 0.75914842 | N42: 0.2341687 | O42: 0.84331427 | P42: 0.54664498 | Q42: 0.47745548 | R42: 0.81665126 | S42: 0.76028786 | T42: 0.84358307 | U42: 0.8435402 | V42: 0.33177045 | W42: 0.20747407 | X42: 0.83092545 | Y42: 0.79323532 | Z42: 0.36671149 | AA42: 0.79448996 | AB42: 0.84346525 | AC42: 0.84353037 | AD42: 0.84355887 | AE42: 0.84360244 | AF42: 0.52456179 | AG42: 0.3625866 | AH42: 0.15082254 | AI42: 0.7822636 | AJ42: 0.39952566 | AK42: 0.74626786 | AL42: 0.42710507 | AM42: 0.81199363 | AN42: 0.11342022 | AO42: 0.84342595 | AP42: 0.21966165 | AQ42: 0.84341032 | AR42: 0.80514715 | AS42: 0.84138271 | AT42: 0.84355903 | AU42: 0.84363464 | AV42: 0.18217709 | AW42: 0.21149065 | AX42: 0.057430424 | AY42: 0.78276688 | AZ42: 0.51480248 | BA42: 0.84362747 | BB42: 0.80075737 | BC42: 0.68182768
A43: all | B43: 0.84360339 | C43: 0.81665779 | D43: 0.42348798 | E43: 0.25520461 | F43: 0.41077002 | G43: 0.11540921 | H43: 0.19390313 | I43: 0.78137993 | J43: 0.78266795 | K43: 0.20544252 | L43: 0.7993491 | M43: 0.4836454 | N43: 0.74188121 | O43: 0.84331427 | P43: 0.80027956 | Q43: 0.63587321 | R43: 0.79363299 | S43: 0.67233864 | T43: 0.84358307 | U43: 0.84353733 | V43: 0.32696494 | W43: 0.32638956 | X43: 0.83046678 | Y43: 0.80105512 | Z43: 0.33844624 | AA43: 0.78490763 | AB43: 0.84346525 | AC43: 0.84353037 | AD43: 0.84316946 | AE43: 0.84360244 | AF43: 0.60843366 | AG43: 0.423075 | AH43: 0.19904047 | AI43: 0.78169846 | AJ43: 0.4798526 | AK43: 0.74626786 | AL43: 0.56955129 | AM43: 0.81199363 | AN43: 0.1769139 | AO43: 0.84266626 | AP43: 0.25466288 | AQ43: 0.84341032 | AR43: 0.77207075 | AS43: 0.84138271 | AT43: 0.84327281 | AU43: 0.84363464 | AV43: 0.21833491 | AW43: 0.43830251 | AX43: 0.16729228 | AY43: 0.78172773 | AZ43: 0.57944494 | BA43: 0.84362747 | BB43: 0.81289202 | BC43: 0.8304329
A45: min
A46: ground | B46: 0.49045187 | C46: 0.31693814 | D46: 0.21715942 | E46: 0.13221137 | F46: 0.14386238 | G46: 0.023760382 | H46: 0.022278046 | I46: 0.19697614 | J46: 0.22999563 | K46: 0.065144846 | L46: 0.52286618 | M46: 0.17696426 | N46: 0.14208364 | O46: 0.48626289 | P46: 0.33457308 | Q46: 0.15910996 | R46: 0.55104902 | S46: 0.25000321 | T46: 0.56670687 | U46: 0.50054805 | V46: 0.16544462 | W46: 0.09364505 | X46: 0.58390157 | Y46: 0.50683422 | Z46: 0.20960248 | AA46: 0.37233471 | AB46: 0.42169934 | AC46: 0.77251968 | AD46: 0.35975678 | AE46: 0.69450269 | AF46: 0.19673789 | AG46: 0.19569198 | AH46: 0.088197036 | AI46: 0.47737805 | AJ46: 0.28212715 | AK46: 0.06279326 | AL46: 0.23366887 | AM46: 0.45345563 | AN46: 0.074661139 | AO46: 0.23270098 | AP46: 0.12625402 | AQ46: 0.61862896 | AR46: 0.54579364 | AS46: 0.079106543 | AT46: 0.7785206 | AU46: 0.76088385 | AV46: 0.12562623 | AW46: 0.1544569 | AX46: 0.017712104 | AY46: 0.23038892 | AZ46: 0.25112378 | BA46: 0.15942002 | BB46: 0.20324352 | BC46: 0.28526389
A47: net rad | B47: 0.49045187 | C47: 0.31054345 | D47: 0.19331014 | E47: 0.12646179 | F47: 0.14200583 | G47: 0.024302372 | H47: 0.021201095 | I47: 0.20934369 | J47: 0.22999563 | K47: 0.056889845 | L47: 0.52286618 | M47: 0.1686047 | N47: 0.12510148 | O47: 0.48626289 | P47: 0.31974827 | Q47: 0.16042403 | R47: 0.55104902 | S47: 0.24562467 | T47: 0.56670687 | U47: 0.50054805 | V47: 0.14918976 | W47: 0.087825689 | X47: 0.58390157 | Y47: 0.48713664 | Z47: 0.20257825 | AA47: 0.36576666 | AB47: 0.446661 | AC47: 0.77251968 | AD47: 0.35975678 | AE47: 0.69450269 | AF47: 0.18268259 | AG47: 0.19620089 | AH47: 0.087456769 | AI47: 0.47737805 | AJ47: 0.25324437 | AK47: 0.057242032 | AL47: 0.21235948 | AM47: 0.45345563 | AN47: 0.067229943 | AO47: 0.23462053 | AP47: 0.11760118 | AQ47: 0.61862896 | AR47: 0.52936921 | AS47: 0.079291625 | AT47: 0.76068333 | AU47: 0.76088385 | AV47: 0.11938955 | AW47: 0.1444345 | AX47: 0.015033382 | AY47: 0.22175791 | AZ47: 0.22739262 | BA47: 0.15942002 | BB47: 0.19773711 | BC47: 0.26963579
A48: temp | B48: 0.49045187 | C48: 0.34171345 | D48: 0.20859339 | E48: 0.13358076 | F48: 0.13581658 | G48: 0.024393215 | H48: 0.021084335 | I48: 0.21098616 | J48: 0.22999563 | K48: 0.060382611 | L48: 0.52286618 | M48: 0.1758805 | N48: 0.14497133 | O48: 0.48626289 | P48: 0.33277188 | Q48: 0.18157352 | R48: 0.55104902 | S48: 0.24297912 | T48: 0.56670687 | U48: 0.50054805 | V48: 0.15576796 | W48: 0.090548758 | X48: 0.58390157 | Y48: 0.49411093 | Z48: 0.21125647 | AA48: 0.37934963 | AB48: 0.43618266 | AC48: 0.77251968 | AD48: 0.35975678 | AE48: 0.69450269 | AF48: 0.18500691 | AG48: 0.20837836 | AH48: 0.090022408 | AI48: 0.47737805 | AJ48: 0.28053368 | AK48: 0.057065359 | AL48: 0.23873987 | AM48: 0.45345563 | AN48: 0.070846627 | AO48: 0.23211075 | AP48: 0.1234871 | AQ48: 0.61862896 | AR48: 0.55643909 | AS48: 0.079321593 | AT48: 0.7785206 | AU48: 0.76088385 | AV48: 0.12532688 | AW48: 0.15068644 | AX48: 0.01583809 | AY48: 0.23337624 | AZ48: 0.23306046 | BA48: 0.15942002 | BB48: 0.20958396 | BC48: 0.29777211
A49: wind | B49: 0.49045187 | C49: 0.34312772 | D49: 0.22834214 | E49: 0.13731288 | F49: 0.15907477 | G49: 0.023528711 | H49: 0.021913144 | I49: 0.21881466 | J49: 0.22999563 | K49: 0.063872452 | L49: 0.52286618 | M49: 0.17668302 | N49: 0.17302331 | O49: 0.48626289 | P49: 0.35728691 | Q49: 0.19061587 | R49: 0.55104902 | S49: 0.24981541 | T49: 0.56670687 | U49: 0.50054805 | V49: 0.16450478 | W49: 0.090756977 | X49: 0.58390157 | Y49: 0.51985405 | Z49: 0.2100257 | AA49: 0.3870658 | AB49: 0.45239209 | AC49: 0.77251968 | AD49: 0.35975678 | AE49: 0.69450269 | AF49: 0.19683544 | AG49: 0.21914854 | AH49: 0.093707483 | AI49: 0.47737805 | AJ49: 0.30065161 | AK49: 0.060983023 | AL49: 0.24260889 | AM49: 0.45345563 | AN49: 0.077379926 | AO49: 0.23958924 | AP49: 0.129739 | AQ49: 0.61862896 | AR49: 0.55923949 | AS49: 0.077918033 | AT49: 0.7785206 | AU49: 0.76088385 | AV49: 0.12768525 | AW49: 0.16298083 | AX49: 0.025441601 | AY49: 0.22863297 | AZ49: 0.25308618 | BA49: 0.15942002 | BB49: 0.20778223 | BC49: 0.30739443
A50: relative | B50: 0.49045187 | C50: 0.34312772 | D50: 0.22834214 | E50: 0.13731288 | F50: 0.15907477 | G50: 0.023528711 | H50: 0.021913144 | I50: 0.21881466 | J50: 0.22999563 | K50: 0.063872452 | L50: 0.52286618 | M50: 0.17668302 | N50: 0.17302331 | O50: 0.48626289 | P50: 0.35728691 | Q50: 0.19061587 | R50: 0.55104902 | S50: 0.24981541 | T50: 0.56670687 | U50: 0.50054805 | V50: 0.16450478 | W50: 0.090756977 | X50: 0.58390157 | Y50: 0.51985405 | Z50: 0.2100257 | AA50: 0.3870658 | AB50: 0.45239209 | AC50: 0.77251968 | AD50: 0.35975678 | AE50: 0.69450269 | AF50: 0.19683544 | AG50: 0.21914854 | AH50: 0.093707483 | AI50: 0.47737805 | AJ50: 0.30065161 | AK50: 0.060983023 | AL50: 0.24260889 | AM50: 0.45345563 | AN50: 0.077379926 | AO50: 0.23958924 | AP50: 0.129739 | AQ50: 0.61862896 | AR50: 0.55923949 | AS50: 0.077918033 | AT50: 0.7785206 | AU50: 0.76088385 | AV50: 0.12768525 | AW50: 0.16298083 | AX50: 0.025441601 | AY50: 0.22863297 | AZ50: 0.25308618 | BA50: 0.15942002 | BB50: 0.20778223 | BC50: 0.30739443
A51: crop k | B51: 0.49045187 | C51: 0.14628682 | D51: 0.16203748 | E51: 0.097393111 | F51: 0.072605661 | G51: 0.018895358 | H51: 0.022264201 | I51: 0.16955928 | J51: 0.22999563 | K51: 0.047861264 | L51: 0.52286618 | M51: 0.14967769 | N51: 0.01887116 | O51: 0.48626289 | P51: 0.21088372 | Q51: 0.1056449 | R51: 0.51563105 | S51: 0.20752084 | T51: 0.47733409 | U51: 0.50054805 | V51: 0.10181059 | W51: 0.056988617 | X51: 0.58390157 | Y51: 0.38940088 | Z51: 0.18354028 | AA51: 0.25657173 | AB51: 0.27809411 | AC51: 0.77251968 | AD51: 0.35975678 | AE51: 0.69450269 | AF51: 0.092023259 | AG51: 0.14948824 | AH51: 0.08082642 | AI51: 0.27003405 | AJ51: 0.21408837 | AK51: 0.045247376 | AL51: 0.15634202 | AM51: 0.45345563 | AN51: 0.063034197 | AO51: 0.21820522 | AP51: 0.10214275 | AQ51: 0.61862896 | AR51: 0.45069078 | AS51: 0.080601387 | AT51: 0.55719891 | AU51: 0.49539935 | AV51: 0.1028014 | AW51: 0.060438862 | AX51: 0 | AY51: 0.25688729 | AZ51: 0.16093104 | BA51: 0.15942002 | BB51: 0.19413558 | BC51: 0.19133544
A52: precip | B52: 0.49045187 | C52: 0.036849976 | D52: 0.11741041 | E52: 0.085886003 | F52: 0.061166387 | G52: 0.019275273 | H52: 0.022576897 | I52: 0.15296615 | J52: 0.22999563 | K52: 0.013004873 | L52: 0.52286618 | M52: 0.14764286 | N52: 0.0010356671 | O52: 0.48626289 | P52: 0.084291154 | Q52: 0 | R52: 0.51969716 | S52: 0.21435083 | T52: 0.28841832 | U52: 0.43724721 | V52: 0.089403366 | W52: 0.008837616 | X52: 0.58390157 | Y52: 0.3369218 | Z52: 0.16806209 | AA52: 0.26006332 | AB52: 0.084515112 | AC52: 0.77251968 | AD52: 0.28766653 | AE52: 0.54417521 | AF52: 0.10731395 | AG52: 0.1214567 | AH52: 0.045852665 | AI52: 0.049708273 | AJ52: 0.13472021 | AK52: 0.035894514 | AL52: 0.13770089 | AM52: 0.45345563 | AN52: 0.016864825 | AO52: 0.23076879 | AP52: 0.055624389 | AQ52: 0.61862896 | AR52: 0.46371549 | AS52: 0.082827537 | AT52: 0.26387861 | AU52: 0.058189195 | AV52: 0.090923423 | AW52: 0.083907606 | AX52: 0 | AY52: 0.22348808 | AZ52: 0.19805814 | BA52: 0.15942002 | BB52: 0.17782882 | BC52: 0.056759572
A53: application | B53: 0.65678959 | C53: 0.34312772 | D53: 0.22834214 | E53: 0.13731288 | F53: 0.15907477 | G53: 0.023528711 | H53: 0.021913144 | I53: 0.21881466 | J53: 0.50513673 | K53: 0.063872452 | L53: 0.55786364 | M53: 0.17668302 | N53: 0.17302331 | O53: 0.65873761 | P53: 0.35728691 | Q53: 0.19061587 | R53: 0.58588222 | S53: 0.24981541 | T53: 0.65252572 | U53: 0.65397028 | V53: 0.16450478 | W53: 0.090756977 | X53: 0.64336932 | Y53: 0.51985405 | Z53: 0.2100257 | AA53: 0.3870658 | AB53: 0.45239209 | AC53: 0.65457932 | AD53: 0.46278761 | AE53: 0.65532915 | AF53: 0.19683544 | AG53: 0.21914854 | AH53: 0.093707483 | AI53: 0.5007385 | AJ53: 0.30065161 | AK53: 0.060983023 | AL53: 0.24260889 | AM53: 0.59886185 | AN53: 0.077379926 | AO53: 0.23958924 | AP53: 0.129739 | AQ53: 0.65898742 | AR53: 0.55923949 | AS53: 0.077918033 | AT53: 0.65159287 | AU53: 0.65885536 | AV53: 0.12768525 | AW53: 0.16298083 | AX53: 0.025441601 | AY53: 0.22863297 | AZ53: 0.25308618 | BA53: 0.22390241 | BB53: 0.20778223 | BC53: 0.30739443
A54: all | B54: 0 | C54: 0 | D54: 0.0048840277 | E54: 0.011431835 | F54: 0 | G54: 0.0031770817 | H54: 0.0025765893 | I54: 0 | J54: 0.29224668 | K54: 0 | L54: 0.2536725 | M54: 0.060620297 | N54: 0 | O54: 0.23948063 | P54: 0 | Q54: 0 | R54: 0.23188249 | S54: 0.073481537 | T54: 0 | U54: 0 | V54: 0.00068640599 | W54: 0 | X54: 0.32138014 | Y54: 0.053117936 | Z54: 0.065283982 | AA54: 0.033909778 | AB54: 0 | AC54: 0 | AD54: 0 | AE54: 0 | AF54: 0 | AG54: 0 | AH54: 0.00026472483 | AI54: 0 | AJ54: 0 | AK54: 0.0064365793 | AL54: 0 | AM54: 0.29063775 | AN54: 0 | AO54: 0.12214985 | AP54: 0 | AQ54: 0.65898742 | AR54: 0.2266325 | AS54: 0.045256114 | AT54: 0 | AU54: 0 | AV54: 0.025154778 | AW54: 0 | AX54: 0 | AY54: 0.10714123 | AZ54: 0.0315908 | BA54: 0.13469577 | BB54: 0.10686111 | BC54: 0
A56: 0.975
A57: ground | B57: 1.2967737 | C57: 0.71397927 | D57: 0.29205219 | E57: 0.20433396 | F57: 0.23737222 | G57: 0.076051827 | H57: 0.13890227 | I57: 2.0475843 | J57: 4.2309472 | K57: 0.12455775 | L57: 0.89113696 | M57: 0.44720188 | N57: 0.23694782 | O57: 1.3462263 | P57: 0.53007612 | Q57: 0.34519451 | R57: 0.89627446 | S57: 0.59856893 | T57: 0.9756187 | U57: 1.1513885 | V57: 0.26528123 | W57: 0.17656969 | X57: 1.0019704 | Y57: 0.8378297 | Z57: 0.31536784 | AA57: 0.66372334 | AB57: 0.92930415 | AC57: 0.81543612 | AD57: 1.1972806 | AE57: 0.85750491 | AF57: 0.46529665 | AG57: 0.33015315 | AH57: 0.13536109 | AI57: 0.9338372 | AJ57: 0.38316794 | AK57: 0.17148725 | AL57: 0.39152492 | AM57: 0.94290528 | AN57: 0.10949304 | AO57: 4.2706908 | AP57: 0.19577344 | AQ57: 0.96985592 | AR57: 0.87149095 | AS57: 1.0032901 | AT57: 0.81384599 | AU57: 0.8289944 | AV57: 0.17482422 | AW57: 0.20720991 | AX57: 0.052844177 | AY57: 1.5399102 | AZ57: 0.43830932 | BA57: 1.0589683 | BB57: 0.60909688 | BC57: 0.56090067
A58: net rad | B58: 1.2967737 | C58: 0.76530237 | D58: 0.29967381 | E58: 0.20765399 | F58: 0.24187455 | G58: 0.077401004 | H58: 0.13354677 | I58: 2.1469053 | J58: 4.2309472 | K58: 0.12911479 | L58: 0.89113696 | M58: 0.44729894 | N58: 0.2436008 | O58: 1.3462263 | P58: 0.54461617 | Q58: 0.35873549 | R58: 0.89627446 | S58: 0.60646059 | T58: 0.9756187 | U58: 1.1513885 | V58: 0.271109 | W58: 0.18279894 | X58: 1.0019704 | Y58: 0.85712932 | Z58: 0.32247301 | AA58: 0.67657577 | AB58: 0.93185386 | AC58: 0.81543612 | AD58: 1.1972806 | AE58: 0.85750491 | AF58: 0.47599742 | AG58: 0.33521818 | AH58: 0.13562765 | AI58: 0.93664156 | AJ58: 0.39396309 | AK58: 0.17081849 | AL58: 0.39557779 | AM58: 0.94290528 | AN58: 0.11398133 | AO58: 4.1367282 | AP58: 0.19706322 | AQ58: 0.96985592 | AR58: 0.87181648 | AS58: 0.99875264 | AT58: 0.81384599 | AU58: 0.8289944 | AV58: 0.17750949 | AW58: 0.21175423 | AX58: 0.053498565 | AY58: 1.5335039 | AZ58: 0.46729885 | BA58: 1.0589683 | BB58: 0.60745936 | BC58: 0.56394148
A59: temp | B59: 1.2967737 | C59: 0.72556711 | D59: 0.29194344 | E59: 0.20578618 | F59: 0.23701952 | G59: 0.077114289 | H59: 0.13394051 | I59: 2.1527747 | J59: 4.2309472 | K59: 0.1235249 | L59: 0.89113696 | M59: 0.44341787 | N59: 0.23477313 | O59: 1.3462263 | P59: 0.53035004 | Q59: 0.34112658 | R59: 0.89627446 | S59: 0.59037184 | T59: 0.9756187 | U59: 1.1513885 | V59: 0.26543499 | W59: 0.17672239 | X59: 1.0019704 | Y59: 0.83538502 | Z59: 0.31307018 | AA59: 0.65901401 | AB59: 0.90156769 | AC59: 0.81543612 | AD59: 1.1972806 | AE59: 0.85750491 | AF59: 0.46033247 | AG59: 0.32967987 | AH59: 0.1345479 | AI59: 0.93664156 | AJ59: 0.38084899 | AK59: 0.17042262 | AL59: 0.39334823 | AM59: 0.94290528 | AN59: 0.10896388 | AO59: 4.2756836 | AP59: 0.19003791 | AQ59: 0.96985592 | AR59: 0.8753378 | AS59: 0.99758989 | AT59: 0.81384599 | AU59: 0.8289944 | AV59: 0.17597863 | AW59: 0.20723028 | AX59: 0.0492854 | AY59: 1.5382232 | AZ59: 0.43597866 | BA59: 1.0589683 | BB59: 0.61225434 | BC59: 0.56350256
A60: wind | B60: 1.2967737 | C60: 0.71002689 | D60: 0.28332457 | E60: 0.20296455 | F60: 0.23148251 | G60: 0.07648483 | H60: 0.13391363 | I60: 2.1165239 | J60: 4.2309472 | K60: 0.12095018 | L60: 0.89113696 | M60: 0.44531417 | N60: 0.21733842 | O60: 1.3462263 | P60: 0.51815351 | Q60: 0.33432574 | R60: 0.89627446 | S60: 0.59592877 | T60: 0.9756187 | U60: 1.1513885 | V60: 0.26356772 | W60: 0.17177133 | X60: 1.0019704 | Y60: 0.8392749 | Z60: 0.3147938 | AA60: 0.65338032 | AB60: 0.89526134 | AC60: 0.81543612 | AD60: 1.1972806 | AE60: 0.85750491 | AF60: 0.4548862 | AG60: 0.32080455 | AH60: 0.13223659 | AI60: 0.93664156 | AJ60: 0.3769923 | AK60: 0.1697703 | AL60: 0.38829406 | AM60: 0.94290528 | AN60: 0.1055554 | AO60: 4.2783274 | AP60: 0.18933399 | AQ60: 0.96985592 | AR60: 0.86266995 | AS60: 0.99709162 | AT60: 0.81384599 | AU60: 0.8289944 | AV60: 0.17265004 | AW60: 0.20009248 | AX60: 0.045798921 | AY60: 1.5342111 | AZ60: 0.42840009 | BA60: 1.0589683 | BB60: 0.6073786 | BC60: 0.54709702
A61: relative | B61: 1.2967737 | C61: 0.71002689 | D61: 0.28332457 | E61: 0.20296455 | F61: 0.23148251 | G61: 0.07648483 | H61: 0.13391363 | I61: 2.1165239 | J61: 4.2309472 | K61: 0.12095018 | L61: 0.89113696 | M61: 0.44531417 | N61: 0.21733842 | O61: 1.3462263 | P61: 0.51815351 | Q61: 0.33432574 | R61: 0.89627446 | S61: 0.59592877 | T61: 0.9756187 | U61: 1.1513885 | V61: 0.26356772 | W61: 0.17177133 | X61: 1.0019704 | Y61: 0.8392749 | Z61: 0.3147938 | AA61: 0.65338032 | AB61: 0.89526134 | AC61: 0.81543612 | AD61: 1.1972806 | AE61: 0.85750491 | AF61: 0.4548862 | AG61: 0.32080455 | AH61: 0.13223659 | AI61: 0.93664156 | AJ61: 0.3769923 | AK61: 0.1697703 | AL61: 0.38829406 | AM61: 0.94290528 | AN61: 0.1055554 | AO61: 4.2783274 | AP61: 0.18933399 | AQ61: 0.96985592 | AR61: 0.86266995 | AS61: 0.99709162 | AT61: 0.81384599 | AU61: 0.8289944 | AV61: 0.17265004 | AW61: 0.20009248 | AX61: 0.045798921 | AY61: 1.5342111 | AZ61: 0.42840009 | BA61: 1.0589683 | BB61: 0.6073786 | BC61: 0.54709702
A62: crop k | B62: 1.2967737 | C62: 0.88186005 | D62: 0.37040087 | E62: 0.24836168 | F62: 0.45633065 | G62: 0.084751586 | H62: 0.14109489 | I62: 2.09699 | J62: 4.2309472 | K62: 0.18107143 | L62: 0.89113696 | M62: 0.45578918 | N62: 0.57465296 | O62: 1.3462263 | P62: 0.81108543 | Q62: 0.55422123 | R62: 0.89613153 | S62: 0.60738473 | T62: 0.97014432 | U62: 1.1513885 | V62: 0.33245131 | W62: 0.29307318 | X62: 1.0019704 | Y62: 0.86998875 | Z62: 0.37588788 | AA62: 0.77993059 | AB62: 1.0415133 | AC62: 0.81543612 | AD62: 1.1787842 | AE62: 0.85750491 | AF62: 0.57641512 | AG62: 0.41620895 | AH62: 0.19273403 | AI62: 0.90695293 | AJ62: 0.46724769 | AK62: 0.19262089 | AL62: 0.46993213 | AM62: 0.94290528 | AN62: 0.17619752 | AO62: 4.1555674 | AP62: 0.24127621 | AQ62: 0.96985592 | AR62: 0.86971314 | AS62: 1.0006608 | AT62: 0.81258062 | AU62: 0.82863634 | AV62: 0.21768901 | AW62: 0.42292939 | AX62: 0.092485261 | AY62: 1.4887912 | AZ62: 0.49951108 | BA62: 1.0589683 | BB62: 0.65169319 | BC62: 0.77262713
A63: precip | B63: 1.2967737 | C63: 0.93818253 | D63: 0.37262428 | E63: 0.24265789 | F63: 0.32048375 | G63: 0.078446523 | H63: 0.14724387 | I63: 2.298344 | J63: 4.2309472 | K63: 0.17154452 | L63: 0.89113696 | M63: 0.45307245 | N63: 0.40282674 | O63: 1.3462263 | P63: 0.7675899 | Q63: 0.58554247 | R63: 0.88757535 | S63: 0.63910676 | T63: 0.96790099 | U63: 1.147999 | V63: 0.3196281 | W63: 0.25366417 | X63: 1.0019704 | Y63: 0.87578456 | Z63: 0.3559472 | AA63: 0.7575262 | AB63: 1.0143701 | AC63: 0.81543612 | AD63: 1.1787842 | AE63: 0.85750491 | AF63: 0.56417718 | AG63: 0.42269049 | AH63: 0.17239378 | AI63: 0.92573709 | AJ63: 0.47211479 | AK63: 0.18193814 | AL63: 0.47389733 | AM63: 0.94290528 | AN63: 0.15942316 | AO63: 4.2570336 | AP63: 0.25746292 | AQ63: 0.96985592 | AR63: 0.87023944 | AS63: 1.0711534 | AT63: 0.81245899 | AU63: 0.8289944 | AV63: 0.20427577 | AW63: 0.27680267 | AX63: 0.11027922 | AY63: 1.541894 | AZ63: 0.47707897 | BA63: 1.0589683 | BB63: 0.65293546 | BC63: 0.77394473
A64: application | B64: 0.84065956 | C64: 0.70179067 | D64: 0.28332457 | E64: 0.20296455 | F64: 0.23148251 | G64: 0.07648483 | H64: 0.13391363 | I64: 0.75655572 | J64: 0.77994872 | K64: 0.12095018 | L64: 0.78542732 | M64: 0.44531417 | N64: 0.21733842 | O64: 0.84072477 | P64: 0.51815351 | Q64: 0.33432574 | R64: 0.79724869 | S64: 0.59592877 | T64: 0.84153799 | U64: 0.84185282 | V64: 0.26356772 | W64: 0.17177133 | X64: 0.82075487 | Y64: 0.76280476 | Z64: 0.3147938 | AA64: 0.64676248 | AB64: 0.8214032 | AC64: 0.84163838 | AD64: 0.83884974 | AE64: 0.84138983 | AF64: 0.4548862 | AG64: 0.32080455 | AH64: 0.13223659 | AI64: 0.77555439 | AJ64: 0.3769923 | AK64: 0.1697703 | AL64: 0.38829406 | AM64: 0.7979327 | AN64: 0.1055554 | AO64: 0.83146875 | AP64: 0.18933399 | AQ64: 0.84200458 | AR64: 0.77813764 | AS64: 0.77413849 | AT64: 0.84170855 | AU64: 0.84214454 | AV64: 0.17265004 | AW64: 0.20009248 | AX64: 0.045798921 | AY64: 0.76760246 | AZ64: 0.42840009 | BA64: 0.83936963 | BB64: 0.6073786 | BC64: 0.54709702
A65: all | B65: 0.83956948 | C65: 0.72139352 | D65: 0.29993229 | E65: 0.19051655 | F65: 0.3419715 | G65: 0.057787877 | H65: 0.1029326 | I65: 0.74747632 | J65: 0.77994872 | K65: 0.14056475 | L65: 0.77085127 | M65: 0.32730182 | N65: 0.44197708 | O65: 0.83897284 | P65: 0.64198773 | Q65: 0.46250728 | R65: 0.73621249 | S65: 0.45901278 | T65: 0.82634912 | U65: 0.83913086 | V65: 0.25266816 | W65: 0.21169038 | X65: 0.81768602 | Y65: 0.71798513 | Z65: 0.28217554 | AA65: 0.57831968 | AB65: 0.82856605 | AC65: 0.84080504 | AD65: 0.82444261 | AE65: 0.84007039 | AF65: 0.42947261 | AG65: 0.33820754 | AH65: 0.1539652 | AI65: 0.75944051 | AJ65: 0.37643894 | AK65: 0.14242873 | AL65: 0.36656007 | AM65: 0.79593862 | AN65: 0.13671942 | AO65: 0.82085405 | AP65: 0.18505299 | AQ65: 0.84200458 | AR65: 0.69398799 | AS65: 0.69128831 | AT65: 0.82677598 | AU65: 0.83890814 | AV65: 0.1680812 | AW65: 0.31372994 | AX65: 0.082359405 | AY65: 0.73395145 | AZ65: 0.38805905 | BA65: 0.82385407 | BB65: 0.46356896 | BC65: 0.63759397
A67: 2.75
A68: ground | B68: 0.57580398 | C68: 0.39618073 | D68: 0.23186776 | E68: 0.14578395 | F68: 0.16004416 | G68: 0.028928841 | H68: 0.029536794 | I68: 0.28040928 | J68: 0.34714825 | K68: 0.074864112 | L68: 0.57564797 | M68: 0.21725769 | N68: 0.16041531 | O68: 0.59314568 | P68: 0.36777852 | Q68: 0.19605167 | R68: 0.62403929 | S68: 0.28804112 | T68: 0.67001445 | U68: 0.59470911 | V68: 0.17605438 | W68: 0.11183735 | X68: 0.6385635 | Y68: 0.5628272 | Z68: 0.22917099 | AA68: 0.41701226 | AB68: 0.5122438 | AC68: 0.78450391 | AD68: 0.49427001 | AE68: 0.75094984 | AF68: 0.24272188 | AG68: 0.23834304 | AH68: 0.10065915 | AI68: 0.55125923 | AJ68: 0.30526357 | AK68: 0.080499032 | AL68: 0.26375547 | AM68: 0.52472681 | AN68: 0.080146238 | AO68: 0.33257244 | AP68: 0.1374645 | AQ68: 0.67998293 | AR68: 0.59850387 | AS68: 0.12278896 | AT68: 0.78653309 | AU68: 0.77307667 | AV68: 0.13554398 | AW68: 0.16447185 | AX68: 0.02276088 | AY68: 0.36217351 | AZ68: 0.2736515 | BA68: 0.25675565 | BB68: 0.24865515 | BC68: 0.33455479
A69: net rad | B69: 0.57580398 | C69: 0.38575994 | D69: 0.22507375 | E69: 0.14317346 | F69: 0.15507507 | G69: 0.029243096 | H69: 0.030256758 | I69: 0.2799955 | J69: 0.34714825 | K69: 0.072888496 | L69: 0.57564797 | M69: 0.21362916 | N69: 0.15408686 | O69: 0.59314568 | P69: 0.3620856 | Q69: 0.18973001 | R69: 0.6221096 | S69: 0.28752642 | T69: 0.66900607 | U69: 0.59470911 | V69: 0.17268454 | W69: 0.10614729 | X69: 0.6385635 | Y69: 0.55234379 | Z69: 0.22738822 | AA69: 0.41176566 | AB69: 0.49991525 | AC69: 0.78450391 | AD69: 0.49427001 | AE69: 0.75094984 | AF69: 0.23777973 | AG69: 0.23320499 | AH69: 0.098259211 | AI69: 0.55705821 | AJ69: 0.29551932 | AK69: 0.079299979 | AL69: 0.25731351 | AM69: 0.52472681 | AN69: 0.077875924 | AO69: 0.33268562 | AP69: 0.13483679 | AQ69: 0.67998293 | AR69: 0.58606163 | AS69: 0.12300025 | AT69: 0.78598632 | AU69: 0.77307667 | AV69: 0.13277534 | AW69: 0.15759983 | AX69: 0.021830895 | AY69: 0.35501643 | AZ69: 0.26026235 | BA69: 0.25675565 | BB69: 0.24687575 | BC69: 0.33022812
A70: temp | B70: 0.57580398 | C70: 0.40259199 | D70: 0.23048606 | E70: 0.14528996 | F70: 0.1623336 | G70: 0.029235112 | H70: 0.030030674 | I70: 0.28283986 | J70: 0.34714825 | K70: 0.075738107 | L70: 0.57564797 | M70: 0.21810822 | N70: 0.16819881 | O70: 0.59314568 | P70: 0.3704512 | Q70: 0.19921238 | R70: 0.62403929 | S70: 0.28730253 | T70: 0.67001445 | U70: 0.59470911 | V70: 0.17507843 | W70: 0.10991761 | X70: 0.6385635 | Y70: 0.55543229 | Z70: 0.22987203 | AA70: 0.41964155 | AB70: 0.53077607 | AC70: 0.78450391 | AD70: 0.49427001 | AE70: 0.75094984 | AF70: 0.2400005 | AG70: 0.23696094 | AH70: 0.09974968 | AI70: 0.55823544 | AJ70: 0.30791653 | AK70: 0.079789564 | AL70: 0.26167071 | AM70: 0.52472681 | AN70: 0.079635855 | AO70: 0.33325663 | AP70: 0.13655082 | AQ70: 0.67998293 | AR70: 0.60243926 | AS70: 0.12074862 | AT70: 0.78658041 | AU70: 0.77307667 | AV70: 0.13522574 | AW70: 0.16355968 | AX70: 0.025045709 | AY70: 0.36215796 | AZ70: 0.27853622 | BA70: 0.25675565 | BB70: 0.24829853 | BC70: 0.33420572
A71: wind | B71: 0.57580398 | C71: 0.41591694 | D71: 0.23921855 | E71: 0.14831787 | F71: 0.16788689 | G71: 0.029747752 | H71: 0.030026433 | I71: 0.28697323 | J71: 0.34714825 | K71: 0.076417688 | L71: 0.57564797 | M71: 0.22004358 | N71: 0.18019133 | O71: 0.59314568 | P71: 0.38462509 | Q71: 0.20933721 | R71: 0.62403929 | S71: 0.28830263 | T71: 0.67001445 | U71: 0.59470911 | V71: 0.17753887 | W71: 0.11462373 | X71: 0.6385635 | Y71: 0.56282784 | Z71: 0.23076189 | AA71: 0.41780693 | AB71: 0.53896896 | AC71: 0.78450391 | AD71: 0.49427001 | AE71: 0.75094984 | AF71: 0.24402678 | AG71: 0.24138958 | AH71: 0.10168181 | AI71: 0.56079844 | AJ71: 0.31638573 | AK71: 0.080362256 | AL71: 0.2661481 | AM71: 0.52472681 | AN71: 0.084104837 | AO71: 0.33277768 | AP71: 0.13959608 | AQ71: 0.67998293 | AR71: 0.60488807 | AS71: 0.12252983 | AT71: 0.78658041 | AU71: 0.77307667 | AV71: 0.13580834 | AW71: 0.17077717 | AX71: 0.028986056 | AY71: 0.36424667 | AZ71: 0.28056652 | BA71: 0.25675565 | BB71: 0.24859485 | BC71: 0.34738906
A72: relative | B72: 0.57580398 | C72: 0.41591694 | D72: 0.23921855 | E72: 0.14831787 | F72: 0.16788689 | G72: 0.029747752 | H72: 0.030026433 | I72: 0.28697323 | J72: 0.34714825 | K72: 0.076417688 | L72: 0.57564797 | M72: 0.22004358 | N72: 0.18019133 | O72: 0.59314568 | P72: 0.38462509 | Q72: 0.20933721 | R72: 0.62403929 | S72: 0.28830263 | T72: 0.67001445 | U72: 0.59470911 | V72: 0.17753887 | W72: 0.11462373 | X72: 0.6385635 | Y72: 0.56282784 | Z72: 0.23076189 | AA72: 0.41780693 | AB72: 0.53896896 | AC72: 0.78450391 | AD72: 0.49427001 | AE72: 0.75094984 | AF72: 0.24402678 | AG72: 0.24138958 | AH72: 0.10168181 | AI72: 0.56079844 | AJ72: 0.31638573 | AK72: 0.080362256 | AL72: 0.2661481 | AM72: 0.52472681 | AN72: 0.084104837 | AO72: 0.33277768 | AP72: 0.13959608 | AQ72: 0.67998293 | AR72: 0.60488807 | AS72: 0.12252983 | AT72: 0.78658041 | AU72: 0.77307667 | AV72: 0.13580834 | AW72: 0.17077717 | AX72: 0.028986056 | AY72: 0.36424667 | AZ72: 0.28056652 | BA72: 0.25675565 | BB72: 0.24859485 | BC72: 0.34738906
A73: crop k | B73: 0.57580398 | C73: 0.194479 | D73: 0.18188615 | E73: 0.10761124 | F73: 0.095234754 | G73: 0.024665358 | H73: 0.028792545 | I73: 0.24984794 | J73: 0.34714825 | K73: 0.062525378 | L73: 0.57564797 | M73: 0.18671635 | N73: 0.059435615 | O73: 0.59314568 | P73: 0.26366643 | Q73: 0.13355669 | R73: 0.59992359 | S73: 0.26466043 | T73: 0.56744709 | U73: 0.59470911 | V73: 0.12625349 | W73: 0.073941843 | X73: 0.6385635 | Y73: 0.47927939 | Z73: 0.21228334 | AA73: 0.31460252 | AB73: 0.37572134 | AC73: 0.78450391 | AD73: 0.49427001 | AE73: 0.75094984 | AF73: 0.13825298 | AG73: 0.19111874 | AH73: 0.087105699 | AI73: 0.36052334 | AJ73: 0.24095039 | AK73: 0.063620664 | AL73: 0.19401512 | AM73: 0.52472681 | AN73: 0.070906432 | AO73: 0.32737353 | AP73: 0.11283948 | AQ73: 0.67998293 | AR73: 0.54038065 | AS73: 0.11217609 | AT73: 0.59717621 | AU73: 0.6255607 | AV73: 0.11411063 | AW73: 0.079373268 | AX73: 0.00097327323 | AY73: 0.34477556 | AZ73: 0.21134537 | BA73: 0.25675565 | BB73: 0.23686758 | BC73: 0.24737145
A74: precip | B74: 0.57580398 | C74: 0.19664167 | D74: 0.15406746 | E74: 0.11189306 | F74: 0.10514889 | G74: 0.026239149 | H74: 0.028914923 | I74: 0.23806957 | J74: 0.34714825 | K74: 0.045615923 | L74: 0.57237436 | M74: 0.19940755 | N74: 0.059541901 | O74: 0.59314568 | P74: 0.23105937 | Q74: 0.071163328 | R74: 0.60326733 | S74: 0.26792868 | T74: 0.52951347 | U74: 0.59307967 | V74: 0.13232704 | W74: 0.071654302 | X74: 0.6385635 | Y74: 0.43952982 | Z74: 0.19952253 | AA74: 0.33051285 | AB74: 0.27322949 | AC74: 0.78450391 | AD74: 0.44412153 | AE74: 0.74945766 | AF74: 0.19423256 | AG74: 0.16916541 | AH74: 0.070978669 | AI74: 0.33670233 | AJ74: 0.21595293 | AK74: 0.064403885 | AL74: 0.20134764 | AM74: 0.52472681 | AN74: 0.053332523 | AO74: 0.32361627 | AP74: 0.091941345 | AQ74: 0.67998293 | AR74: 0.55682015 | AS74: 0.11745987 | AT74: 0.512177 | AU74: 0.55433569 | AV74: 0.11655565 | AW74: 0.10856029 | AX74: 0.00039011955 | AY74: 0.32924706 | AZ74: 0.24658655 | BA74: 0.25675565 | BB74: 0.24057013 | BC74: 0.1766429
A75: application | B75: 0.68166708 | C75: 0.41591694 | D75: 0.23921855 | E75: 0.14831787 | F75: 0.16788689 | G75: 0.029747752 | H75: 0.030026433 | I75: 0.28697323 | J75: 0.54891356 | K75: 0.076417688 | L75: 0.60143233 | M75: 0.22004358 | N75: 0.18019133 | O75: 0.67921027 | P75: 0.38462509 | Q75: 0.20933721 | R75: 0.64612181 | S75: 0.28830263 | T75: 0.67908198 | U75: 0.67806921 | V75: 0.17753887 | W75: 0.11462373 | X75: 0.67373479 | Y75: 0.56282784 | Z75: 0.23076189 | AA75: 0.41780693 | AB75: 0.53896896 | AC75: 0.68217297 | AD75: 0.63582412 | AE75: 0.67621626 | AF75: 0.24402678 | AG75: 0.24138958 | AH75: 0.10168181 | AI75: 0.53953357 | AJ75: 0.31638573 | AK75: 0.080362256 | AL75: 0.2661481 | AM75: 0.6445764 | AN75: 0.084104837 | AO75: 0.33277768 | AP75: 0.13959608 | AQ75: 0.6824209 | AR75: 0.60488807 | AS75: 0.12252983 | AT75: 0.67462377 | AU75: 0.67756972 | AV75: 0.13580834 | AW75: 0.17077717 | AX75: 0.028986056 | AY75: 0.36424667 | AZ75: 0.28056652 | BA75: 0.36060847 | BB75: 0.24859485 | BC75: 0.34738906
A76: all | B76: 0.31236962 | C76: 0 | D76: 0.052146236 | E76: 0.039873141 | F76: 0.010680043 | G76: 0.0093107621 | H76: 0.012655663 | I76: 0.069149127 | J76: 0.53318309 | K76: 0.0022570682 | L76: 0.37291093 | M76: 0.093784046 | N76: 0 | O76: 0.46246937 | P76: 0.011704054 | Q76: 0 | R76: 0.35830428 | S76: 0.13065721 | T76: 0.093366514 | U76: 0.11550297 | V76: 0.036204967 | W76: 0 | X76: 0.51815926 | Y76: 0.12818049 | Z76: 0.1011689 | AA76: 0.10898982 | AB76: 0.0027008609 | AC76: 0.24854648 | AD76: 0.072656097 | AE76: 0.29341396 | AF76: 0.017905704 | AG76: 0.048284003 | AH76: 0.026001449 | AI76: 0 | AJ76: 0.061087337 | AK76: 0.02195108 | AL76: 0.05226764 | AM76: 0.54231337 | AN76: 0.011161521 | AO76: 0.19844774 | AP76: 0.021062525 | AQ76: 0.6824209 | AR76: 0.31609003 | AS76: 0.065877287 | AT76: 0.095870494 | AU76: 0 | AV76: 0.050976416 | AW76: 0.013708212 | AX76: 0 | AY76: 0.19103819 | AZ76: 0.11044082 | BA76: 0.23255169 | BB76: 0.13534469 | BC76: 0
A78: median
A79: ground | B79: 0.79851037 | C79: 0.52759252 | D79: 0.25935167 | E79: 0.17088887 | F79: 0.19491332 | G79: 0.043243361 | H79: 0.056378527 | I79: 0.51458563 | J79: 0.71097107 | K79: 0.096232372 | L79: 0.71684054 | M79: 0.2937528 | N79: 0.19693037 | O79: 0.82933846 | P79: 0.44505095 | Q79: 0.2606502 | R79: 0.7521262 | S79: 0.40137628 | T79: 0.80205361 | U79: 0.79419603 | V79: 0.21438474 | W79: 0.13845595 | X79: 0.78625256 | Y79: 0.67754731 | Z79: 0.26755067 | AA79: 0.52076416 | AB79: 0.67882679 | AC79: 0.80069484 | AD79: 0.75642582 | AE79: 0.79837823 | AF79: 0.34668344 | AG79: 0.28028645 | AH79: 0.11543411 | AI79: 0.70557153 | AJ79: 0.34260194 | AK79: 0.10825455 | AL79: 0.3221512 | AM79: 0.68218877 | AN79: 0.093966947 | AO79: 0.67541191 | AP79: 0.1614437 | AQ79: 0.79816919 | AR79: 0.71668851 | AS79: 0.25166942 | AT79: 0.79974576 | AU79: 0.80050773 | AV79: 0.15368203 | AW79: 0.18422337 | AX79: 0.036033906 | AY79: 0.61562482 | AZ79: 0.3376109 | BA79: 0.53654483 | BB79: 0.36982103 | BC79: 0.43018591
A80: net rad | B80: 0.79851037 | C80: 0.52549587 | D80: 0.2599225 | E80: 0.17189772 | F80: 0.19560776 | G80: 0.043410722 | H80: 0.056999599 | I80: 0.51048358 | J80: 0.71097107 | K80: 0.096040661 | L80: 0.71684054 | M80: 0.29358345 | N80: 0.19648988 | O80: 0.82933846 | P80: 0.44569153 | Q80: 0.26196838 | R80: 0.75120712 | S80: 0.39928779 | T80: 0.80058357 | U80: 0.79419603 | V80: 0.21427023 | W80: 0.13917044 | X80: 0.78625256 | Y80: 0.67917703 | Z80: 0.26813504 | AA80: 0.52110628 | AB80: 0.67507757 | AC80: 0.80069484 | AD80: 0.75642582 | AE80: 0.79837823 | AF80: 0.34590312 | AG80: 0.27952332 | AH80: 0.11575124 | AI80: 0.70371993 | AJ80: 0.3431771 | AK80: 0.10834334 | AL80: 0.32181756 | AM80: 0.68218877 | AN80: 0.094477332 | AO80: 0.68179381 | AP80: 0.16100243 | AQ80: 0.79816919 | AR80: 0.71024904 | AS80: 0.25275708 | AT80: 0.79960168 | AU80: 0.80050773 | AV80: 0.15314349 | AW80: 0.18384241 | AX80: 0.035594248 | AY80: 0.61312992 | AZ80: 0.34303379 | BA80: 0.53654483 | BB80: 0.37290647 | BC80: 0.42974702
A81: temp | B81: 0.79851037 | C81: 0.52372075 | D81: 0.26056819 | E81: 0.17198113 | F81: 0.19613557 | G81: 0.043423731 | H81: 0.056596147 | I81: 0.51723 | J81: 0.71097107 | K81: 0.095954212 | L81: 0.71684054 | M81: 0.29298586 | N81: 0.19786695 | O81: 0.82933846 | P81: 0.44279024 | Q81: 0.25827199 | R81: 0.7521262 | S81: 0.40137632 | T81: 0.80205361 | U81: 0.79419603 | V81: 0.21456114 | W81: 0.1391451 | X81: 0.78625256 | Y81: 0.67565953 | Z81: 0.2667249 | AA81: 0.51751877 | AB81: 0.68127931 | AC81: 0.80069484 | AD81: 0.75642582 | AE81: 0.79837823 | AF81: 0.3457969 | AG81: 0.27823428 | AH81: 0.11546149 | AI81: 0.70593533 | AJ81: 0.34209015 | AK81: 0.1080364 | AL81: 0.32196159 | AM81: 0.68218877 | AN81: 0.094105617 | AO81: 0.67036084 | AP81: 0.16096334 | AQ81: 0.79816919 | AR81: 0.71531209 | AS81: 0.25107982 | AT81: 0.79974576 | AU81: 0.80050773 | AV81: 0.1537445 | AW81: 0.1841853 | AX81: 0.035536483 | AY81: 0.61844111 | AZ81: 0.33731023 | BA81: 0.53654483 | BB81: 0.36883891 | BC81: 0.43010063
A82: wind | B82: 0.79851037 | C82: 0.5251602 | D82: 0.25974553 | E82: 0.17125195 | F82: 0.19542566 | G82: 0.043217811 | H82: 0.057017692 | I82: 0.51526641 | J82: 0.71097107 | K82: 0.096181229 | L82: 0.71684054 | M82: 0.29377182 | N82: 0.19731166 | O82: 0.82933846 | P82: 0.44573507 | Q82: 0.2610483 | R82: 0.7521262 | S82: 0.40066239 | T82: 0.80205361 | U82: 0.79419603 | V82: 0.21488067 | W82: 0.13971353 | X82: 0.78625256 | Y82: 0.67735939 | Z82: 0.2680567 | AA82: 0.51898542 | AB82: 0.6803368 | AC82: 0.80069484 | AD82: 0.75642582 | AE82: 0.79837823 | AF82: 0.3455714 | AG82: 0.27953154 | AH82: 0.11545231 | AI82: 0.70723744 | AJ82: 0.34195767 | AK82: 0.10878307 | AL82: 0.32344355 | AM82: 0.68218877 | AN82: 0.093647035 | AO82: 0.67505989 | AP82: 0.16125356 | AQ82: 0.79816919 | AR82: 0.71700675 | AS82: 0.25003938 | AT82: 0.79974576 | AU82: 0.80050773 | AV82: 0.1533974 | AW82: 0.18387456 | AX82: 0.035489138 | AY82: 0.61882299 | AZ82: 0.33755156 | BA82: 0.53654483 | BB82: 0.36986257 | BC82: 0.43024103
A83: relative | B83: 0.79851037 | C83: 0.5251602 | D83: 0.25974553 | E83: 0.17125195 | F83: 0.19542566 | G83: 0.043217811 | H83: 0.057017692 | I83: 0.51526641 | J83: 0.71097107 | K83: 0.096181229 | L83: 0.71684054 | M83: 0.29377182 | N83: 0.19731166 | O83: 0.82933846 | P83: 0.44573507 | Q83: 0.2610483 | R83: 0.7521262 | S83: 0.40066239 | T83: 0.80205361 | U83: 0.79419603 | V83: 0.21488067 | W83: 0.13971353 | X83: 0.78625256 | Y83: 0.67735939 | Z83: 0.2680567 | AA83: 0.51898542 | AB83: 0.6803368 | AC83: 0.80069484 | AD83: 0.75642582 | AE83: 0.79837823 | AF83: 0.3455714 | AG83: 0.27953154 | AH83: 0.11545231 | AI83: 0.70723744 | AJ83: 0.34195767 | AK83: 0.10878307 | AL83: 0.32344355 | AM83: 0.68218877 | AN83: 0.093647035 | AO83: 0.67505989 | AP83: 0.16125356 | AQ83: 0.79816919 | AR83: 0.71700675 | AS83: 0.25003938 | AT83: 0.79974576 | AU83: 0.80050773 | AV83: 0.1533974 | AW83: 0.18387456 | AX83: 0.035489138 | AY83: 0.61882299 | AZ83: 0.33755156 | BA83: 0.53654483 | BB83: 0.36986257 | BC83: 0.43024103
A84: crop k | B84: 0.79851037 | C84: 0.43871394 | D84: 0.2587171 | E84: 0.16206243 | F84: 0.19939776 | G84: 0.044432038 | H84: 0.05519592 | I84: 0.52905303 | J84: 0.71097107 | K84: 0.10090309 | L84: 0.71684054 | M84: 0.28694785 | N84: 0.2449477 | O84: 0.82933846 | P84: 0.45632376 | Q84: 0.28110173 | R84: 0.74628797 | S84: 0.39727313 | T84: 0.76954414 | U84: 0.79419603 | V84: 0.21330192 | W84: 0.13592844 | X84: 0.78625256 | Y84: 0.66297304 | Z84: 0.267325 | AA84: 0.49202946 | AB84: 0.73317863 | AC84: 0.80069484 | AD84: 0.75448672 | AE84: 0.79837823 | AF84: 0.28636022 | AG84: 0.28720856 | AH84: 0.12250584 | AI84: 0.65657084 | AJ84: 0.34315798 | AK84: 0.11109189 | AL84: 0.30105363 | AM84: 0.68218877 | AN84: 0.10489875 | AO84: 0.65112726 | AP84: 0.1608163 | AQ84: 0.79816919 | AR84: 0.69373509 | AS84: 0.24215336 | AT84: 0.79668273 | AU84: 0.79782786 | AV84: 0.14983018 | AW84: 0.2118568 | AX84: 0.034784944 | AY84: 0.60355789 | AZ84: 0.35036103 | BA84: 0.53654483 | BB84: 0.37364469 | BC84: 0.43710388
A85: precip | B85: 0.79840324 | C85: 0.58254356 | D85: 0.25985118 | E85: 0.17231564 | F85: 0.20430942 | G85: 0.044993762 | H85: 0.057756397 | I85: 0.53684207 | J85: 0.71097107 | K85: 0.099955645 | L85: 0.71623252 | M85: 0.28875617 | N85: 0.22419859 | O85: 0.82933846 | P85: 0.46724518 | Q85: 0.28444862 | R85: 0.74273467 | S85: 0.40324415 | T85: 0.78054239 | U85: 0.79401273 | V85: 0.21819604 | W85: 0.15116798 | X85: 0.78625256 | Y85: 0.67776901 | Z85: 0.27096035 | AA85: 0.52362004 | AB85: 0.69344107 | AC85: 0.80069484 | AD85: 0.74349859 | AE85: 0.7982991 | AF85: 0.34734477 | AG85: 0.28236609 | AH85: 0.1168228 | AI85: 0.67819459 | AJ85: 0.34310338 | AK85: 0.10826149 | AL85: 0.32013101 | AM85: 0.68218877 | AN85: 0.09885925 | AO85: 0.68433906 | AP85: 0.16119693 | AQ85: 0.79816919 | AR85: 0.70042172 | AS85: 0.25137755 | AT85: 0.79704325 | AU85: 0.79887374 | AV85: 0.15790642 | AW85: 0.18529483 | AX85: 0.041007797 | AY85: 0.60752667 | AZ85: 0.34186746 | BA85: 0.53654483 | BB85: 0.37462498 | BC85: 0.45180904
A86: application | B86: 0.78688419 | C86: 0.5251602 | D86: 0.25974553 | E86: 0.17125195 | F86: 0.19542566 | G86: 0.043217811 | H86: 0.057017692 | I86: 0.51475478 | J86: 0.69967554 | K86: 0.096181229 | L86: 0.71985183 | M86: 0.29377182 | N86: 0.19731166 | O86: 0.78687201 | P86: 0.44573507 | Q86: 0.2610483 | R86: 0.72999893 | S86: 0.40066239 | T86: 0.78432169 | U86: 0.78386949 | V86: 0.21488067 | W86: 0.13971353 | X86: 0.77198251 | Y86: 0.66689632 | Z86: 0.2680567 | AA86: 0.51898542 | AB86: 0.67962807 | AC86: 0.78746909 | AD86: 0.77484847 | AE86: 0.78745681 | AF86: 0.3455714 | AG86: 0.27953154 | AH86: 0.11545231 | AI86: 0.68371313 | AJ86: 0.34195767 | AK86: 0.10878307 | AL86: 0.32344355 | AM86: 0.73755529 | AN86: 0.093647035 | AO86: 0.67073432 | AP86: 0.16125356 | AQ86: 0.78845879 | AR86: 0.69902397 | AS86: 0.25003938 | AT86: 0.78627639 | AU86: 0.78848884 | AV86: 0.1533974 | AW86: 0.18387456 | AX86: 0.035489138 | AY86: 0.59228508 | AZ86: 0.33755156 | BA86: 0.71279739 | BB86: 0.36986257 | BC86: 0.43024103
A87: all | B87: 0.76776368 | C87: 0.2202767 | D87: 0.15295501 | E87: 0.10190672 | F87: 0.12213529 | G87: 0.027995069 | H87: 0.034663398 | I87: 0.3347517 | J87: 0.69737742 | K87: 0.058861288 | L87: 0.62600054 | M87: 0.18183547 | N87: 0.1422427 | O87: 0.75467227 | P87: 0.2708915 | Q87: 0.14263192 | R87: 0.54182201 | S87: 0.25692682 | T87: 0.51882493 | U87: 0.73258932 | V87: 0.12606189 | W87: 0.082141548 | X87: 0.74924433 | Y87: 0.40622934 | Z87: 0.17990423 | AA87: 0.29537388 | AB87: 0.47385545 | AC87: 0.77736306 | AD87: 0.54209628 | AE87: 0.76047916 | AF87: 0.16769239 | AG87: 0.16526148 | AH87: 0.076298438 | AI87: 0.44977235 | AJ87: 0.20473652 | AK87: 0.068375873 | AL87: 0.17792413 | AM87: 0.73012076 | AN87: 0.059066904 | AO87: 0.45041707 | AP87: 0.089202953 | AQ87: 0.78845879 | AR87: 0.4843501 | AS87: 0.16319819 | AT87: 0.53031293 | AU87: 0.665377 | AV87: 0.098028932 | AW87: 0.1239151 | AX87: 0.01435882 | AY87: 0.40077098 | AZ87: 0.24263038 | BA87: 0.51280871 | BB87: 0.25068171 | BC87: 0.233644
A89: standard deviation
A90: ground | B90: 0.17905811 | C90: 0.08535401 | D90: 0.015530268 | E90: 0.015026631 | F90: 0.020162673 | G90: 0.013336456 | H90: 0.026753415 | I90: 1.8416581 | J90: 3.1885229 | K90: 0.012910625 | L90: 0.08291393 | M90: 0.06052003 | N90: 0.019176897 | O90: 0.19610594 | P90: 0.042539108 | Q90: 0.03975096 | R90: 0.071613954 | S90: 0.077740972 | T90: 0.079818331 | U90: 0.14474647 | V90: 0.022936126 | W90: 0.016977441 | X90: 0.092016591 | Y90: 0.0728663 | Z90: 0.021678097 | AA90: 0.063719264 | AB90: 0.10599689 | AC90: 0.0078743743 | AD90: 0.1794874 | AE90: 0.026673175 | AF90: 0.057815816 | AG90: 0.023022407 | AH90: 0.0089857935 | AI90: 0.097314857 | AJ90: 0.018854192 | AK90: 0.120666 | AL90: 0.032746286 | AM90: 0.10120648 | AN90: 0.0075231222 | AO90: 21.549571 | AP90: 0.014656911 | AQ90: 0.073933109 | AR90: 0.068121305 | AS90: 0.2301285 | AT90: 0.0066408908 | AU90: 0.014066617 | AV90: 0.010230363 | AW90: 0.011089165 | AX90: 0.0075607907 | AY90: 1.5781783 | AZ90: 0.040600083 | BA90: 0.21391483 | BB90: 0.098897047 | BC90: 0.058527485
A91: net rad | B91: 0.17905811 | C91: 0.096983171 | D91: 0.018842125 | E91: 0.016161925 | F91: 0.022592516 | G91: 0.013232607 | H91: 0.027007448 | I91: 1.7786293 | J91: 3.1885229 | K91: 0.014646088 | L91: 0.08291393 | M91: 0.061793568 | N91: 0.023236599 | O91: 0.19610594 | P91: 0.046669842 | Q91: 0.043372418 | R91: 0.071637566 | S91: 0.07990608 | T91: 0.080042092 | U91: 0.14474647 | V91: 0.025621419 | W91: 0.019641536 | X91: 0.092016591 | Y91: 0.078804591 | Z91: 0.024156199 | AA91: 0.068342506 | AB91: 0.10992087 | AC91: 0.0078743743 | AD91: 0.1794874 | AE91: 0.026673175 | AF91: 0.062220123 | AG91: 0.026213135 | AH91: 0.010140967 | AI91: 0.09821825 | AJ91: 0.024730419 | AK91: 0.11981756 | AL91: 0.035821265 | AM91: 0.10120648 | AN91: 0.0092268294 | AO91: 21.828768 | AP91: 0.016446796 | AQ91: 0.073933109 | AR91: 0.073556598 | AS91: 0.22792981 | AT91: 0.0069743299 | AU91: 0.014066617 | AV91: 0.011849291 | AW91: 0.013856976 | AX91: 0.0080300144 | AY91: 1.4832151 | AZ91: 0.054077341 | BA91: 0.21391483 | BB91: 0.10043958 | BC91: 0.062979647
A92: temp | B92: 0.17905811 | C92: 0.08236951 | D92: 0.015075648 | E92: 0.015149959 | F92: 0.019077384 | G92: 0.013210709 | H92: 0.026674253 | I92: 1.8313037 | J92: 3.1885229 | K92: 0.013092012 | L92: 0.08291393 | M92: 0.060551005 | N92: 0.016558625 | O92: 0.19610594 | P92: 0.040763514 | Q92: 0.03744593 | R92: 0.071626347 | S92: 0.078158393 | T92: 0.079750167 | U92: 0.14474647 | V92: 0.022650116 | W92: 0.016703987 | X92: 0.092016591 | Y92: 0.073420524 | Z92: 0.022071215 | AA92: 0.063637141 | AB92: 0.096873214 | AC92: 0.0078743743 | AD92: 0.1794874 | AE92: 0.026673175 | AF92: 0.057415796 | AG92: 0.023335252 | AH92: 0.0088005874 | AI92: 0.09769038 | AJ92: 0.018684748 | AK92: 0.11906083 | AL92: 0.032551927 | AM92: 0.10120648 | AN92: 0.0072862956 | AO92: 21.828405 | AP92: 0.01448825 | AQ92: 0.073933109 | AR92: 0.068793627 | AS92: 0.22946659 | AT92: 0.0066177352 | AU92: 0.014066617 | AV92: 0.010476214 | AW92: 0.010948252 | AX92: 0.0062096807 | AY92: 1.4974941 | AZ92: 0.040544367 | BA92: 0.21391483 | BB92: 0.09941366 | BC92: 0.057070008
A93: wind | B93: 0.17905811 | C93: 0.077040638 | D93: 0.011356139 | E93: 0.013919488 | F93: 0.016283143 | G93: 0.013240654 | H93: 0.02668257 | I93: 1.8143348 | J93: 3.1885229 | K93: 0.011650777 | L93: 0.08291393 | M93: 0.060384016 | N93: 0.0090994418 | O93: 0.19610594 | P93: 0.034185132 | Q93: 0.032730915 | R93: 0.071616154 | S93: 0.078073547 | T93: 0.079704103 | U93: 0.14474647 | V93: 0.021350162 | W93: 0.015010359 | X93: 0.092016591 | Y93: 0.070395393 | Z93: 0.021291953 | AA93: 0.061076558 | AB93: 0.092816729 | AC93: 0.0078743743 | AD93: 0.1794874 | AE93: 0.026673175 | AF93: 0.056209542 | AG93: 0.020185392 | AH93: 0.0076416606 | AI93: 0.097521964 | AJ93: 0.014653231 | AK93: 0.11639015 | AL93: 0.031151003 | AM93: 0.10120648 | AN93: 0.0053639932 | AO93: 22.043665 | AP93: 0.012633303 | AQ93: 0.073933109 | AR93: 0.066689487 | AS93: 0.22926856 | AT93: 0.0066238399 | AU93: 0.014066617 | AV93: 0.0097480226 | AW93: 0.0074518553 | AX93: 0.0043104895 | AY93: 1.5322083 | AZ93: 0.03852569 | BA93: 0.21391483 | BB93: 0.098915767 | BC93: 0.050744472
A94: relative | B94: 0.17905811 | C94: 0.077040638 | D94: 0.011356139 | E94: 0.013919488 | F94: 0.016283143 | G94: 0.013240654 | H94: 0.02668257 | I94: 1.8143348 | J94: 3.1885229 | K94: 0.011650777 | L94: 0.08291393 | M94: 0.060384016 | N94: 0.0090994418 | O94: 0.19610594 | P94: 0.034185132 | Q94: 0.032730915 | R94: 0.071616154 | S94: 0.078073547 | T94: 0.079704103 | U94: 0.14474647 | V94: 0.021350162 | W94: 0.015010359 | X94: 0.092016591 | Y94: 0.070395393 | Z94: 0.021291953 | AA94: 0.061076558 | AB94: 0.092816729 | AC94: 0.0078743743 | AD94: 0.1794874 | AE94: 0.026673175 | AF94: 0.056209542 | AG94: 0.020185392 | AH94: 0.0076416606 | AI94: 0.097521964 | AJ94: 0.014653231 | AK94: 0.11639015 | AL94: 0.031151003 | AM94: 0.10120648 | AN94: 0.0053639932 | AO94: 22.043665 | AP94: 0.012633303 | AQ94: 0.073933109 | AR94: 0.066689487 | AS94: 0.22926856 | AT94: 0.0066238399 | AU94: 0.014066617 | AV94: 0.0097480226 | AW94: 0.0074518553 | AX94: 0.0043104895 | AY94: 1.5322083 | AZ94: 0.03852569 | BA94: 0.21391483 | BB94: 0.098915767 | BC94: 0.050744472
A95: crop k | B95: 0.17905811 | C95: 0.17923946 | D95: 0.051142616 | E95: 0.040962533 | F95: 0.096475709 | G95: 0.017238916 | H95: 0.029145353 | I95: 1.8116137 | J95: 3.1885229 | K95: 0.031140412 | L95: 0.082906825 | M95: 0.066672383 | N95: 0.13770126 | O95: 0.19610594 | P95: 0.15484304 | Q95: 0.10988416 | R95: 0.075154415 | S95: 0.092132577 | T95: 0.097993061 | U95: 0.14474647 | V95: 0.055479415 | W95: 0.056659666 | X95: 0.092016591 | Y95: 0.10416967 | Z95: 0.04093256 | AA95: 0.12300739 | AB95: 0.16836286 | AC95: 0.0078743743 | AD95: 0.17971667 | AE95: 0.026673175 | AF95: 0.11969894 | AG95: 0.061284118 | AH95: 0.031796328 | AI95: 0.13669483 | AJ95: 0.061086515 | AK95: 0.11602665 | AL95: 0.076855705 | AM95: 0.10120648 | AN95: 0.028878361 | AO95: 23.5347 | AP95: 0.034123174 | AQ95: 0.073933109 | AR95: 0.084239507 | AS95: 0.22500957 | AT95: 0.059987221 | AU95: 0.046146047 | AV95: 0.027933488 | AW95: 0.093462386 | AX95: 0.025813618 | AY95: 1.6102226 | AZ95: 0.070058345 | BA95: 0.21391483 | BB95: 0.11269339 | BC95: 0.13291979
A96: precip | B96: 0.17904359 | C96: 0.19839175 | D96: 0.0545013 | E96: 0.033167732 | F96: 0.056831614 | G96: 0.01483194 | H96: 0.030040497 | I96: 2.1613429 | J96: 3.1885229 | K96: 0.032564736 | L96: 0.082925363 | M96: 0.070903958 | N96: 0.088989991 | O96: 0.19610594 | P96: 0.13415933 | Q96: 0.13343767 | R96: 0.073593761 | S96: 0.093119364 | T96: 0.1051604 | U96: 0.14474671 | V96: 0.047564376 | W96: 0.045563622 | X96: 0.092016591 | Y96: 0.11174396 | Z96: 0.038474248 | AA96: 0.11225067 | AB96: 0.18867307 | AC96: 0.0078743743 | AD96: 0.18727402 | AE96: 0.028306525 | AF96: 0.097450499 | AG96: 0.064731484 | AH96: 0.02572405 | AI96: 0.13578568 | AJ96: 0.066383899 | AK96: 0.10645662 | AL96: 0.069760513 | AM96: 0.10120648 | AN96: 0.02761466 | AO96: 22.325882 | AP96: 0.042849585 | AQ96: 0.073933109 | AR96: 0.080471775 | AS96: 0.24009694 | AT96: 0.079572138 | AU96: 0.071596902 | AV96: 0.023303107 | AW96: 0.042507205 | AX96: 0.027238097 | AY96: 1.6016127 | AZ96: 0.05670261 | BA96: 0.21391483 | BB96: 0.11045981 | BC96: 0.15372404
A97: application | B97: 0.04587366 | C97: 0.070739966 | D97: 0.011356139 | E97: 0.013919488 | F97: 0.016283143 | G97: 0.013240654 | H97: 0.02668257 | I97: 0.13218317 | J97: 0.066805307 | K97: 0.011650777 | L97: 0.052787131 | M97: 0.059306138 | N97: 0.0090994418 | O97: 0.046125278 | P97: 0.034185132 | Q97: 0.032730915 | R97: 0.03908799 | S97: 0.07796864 | T97: 0.045439451 | U97: 0.046460814 | V97: 0.021350162 | W97: 0.015010359 | X97: 0.040157221 | Y97: 0.051067258 | Z97: 0.021291953 | AA97: 0.058796226 | AB97: 0.073570054 | AC97: 0.044956639 | AD97: 0.056344137 | AE97: 0.045714218 | AF97: 0.056209542 | AG97: 0.020185392 | AH97: 0.0076416606 | AI97: 0.065362432 | AJ97: 0.014653231 | AK97: 0.029341131 | AL97: 0.031151003 | AM97: 0.040354084 | AN97: 0.0053639932 | AO97: 0.15077855 | AP97: 0.012633303 | AQ97: 0.046158199 | AR97: 0.045183269 | AS97: 0.16359442 | AT97: 0.048130069 | AU97: 0.04637456 | AV97: 0.0097480226 | AW97: 0.0074518553 | AX97: 0.0043104895 | AY97: 0.10910705 | AZ97: 0.03852569 | BA97: 0.13156113 | BB97: 0.092357823 | BC97: 0.050744472
A98: all | B98: 0.13072345 | C98: 0.20129871 | D98: 0.064186791 | E98: 0.040234136 | F98: 0.084014168 | G98: 0.013232571 | H98: 0.022699928 | I98: 0.18459624 | J98: 0.073629175 | K98: 0.034582809 | L98: 0.10753138 | M98: 0.06096812 | N98: 0.12173813 | O98: 0.094491934 | P98: 0.1596073 | Q98: 0.12830858 | R98: 0.097964458 | S98: 0.085744827 | T98: 0.21128047 | U98: 0.19822553 | V98: 0.055675691 | W98: 0.054356881 | X98: 0.078619165 | Y98: 0.14776977 | Z98: 0.045924215 | AA98: 0.1223394 | AB98: 0.24227799 | AC98: 0.13170117 | AD98: 0.22334031 | AE98: 0.1506295 | AF98: 0.10722898 | AG98: 0.074413591 | AH98: 0.03242524 | AI98: 0.22368948 | AJ98: 0.081187824 | AK98: 0.037366677 | AL98: 0.0829977 | AM98: 0.062350517 | AN98: 0.031285732 | AO98: 0.19259138 | AP98: 0.042461262 | AQ98: 0.046158199 | AR98: 0.097091726 | AS98: 0.13934178 | AT98: 0.20181597 | AU98: 0.27141785 | AV98: 0.030111176 | AW98: 0.078518508 | AX98: 0.023910232 | AY98: 0.14627018 | AZ98: 0.071773069 | BA98: 0.17264204 | BB98: 0.086949661 | BC98: 0.16746778
A101: ground | B101: 0 | C101: 0 | D101: 0 | E101: 0 | F101: 1 | G101: 1 | H101: 1 | I101: 1 | J101: 1 | K101: 1 | L101: 1 | M101: 0 | N101: 0 | O101: 0 | P101: 1 | Q101: 1 | R101: 1 | S101: 1 | T101: 0 | U101: 0 | V101: 1 | W101: 0 | X101: 0 | Y101: 0 | Z101: 1 | AA101: 0 | AB101: 0 | AC101: 0 | AD101: 0 | AE101: 0 | AF101: 0 | AG101: 0 | AH101: 0 | AI101: 0 | AJ101: 0 | AK101: 0 | AL101: 0 | AM101: 1 | AN101: 1 | AO101: 0 | AP101: 1 | AQ101: 0 | AR101: 1 | AS101: 1 | AT101: 0 | AU101: 0 | AV101: 0 | AW101: 1 | AX101: 0 | AY101: 1 | AZ101: 0 | BA101: 0 | BB101: 1 | BC101: 0
A102: net rad | B102: 0 | C102: 0 | D102: 0 | E102: 0 | F102: 1 | G102: 1 | H102: 1 | I102: 1 | J102: 1 | K102: 1 | L102: 1 | M102: 0 | N102: 0 | O102: 0 | P102: 1 | Q102: 1 | R102: 1 | S102: 1 | T102: 0 | U102: 0 | V102: 1 | W102: 0 | X102: 0 | Y102: 0 | Z102: 1 | AA102: 0 | AB102: 0 | AC102: 0 | AD102: 0 | AE102: 0 | AF102: 0 | AG102: 0 | AH102: 0 | AI102: 0 | AJ102: 0 | AK102: 0 | AL102: 0 | AM102: 1 | AN102: 1 | AO102: 0 | AP102: 1 | AQ102: 0 | AR102: 0 | AS102: 1 | AT102: 0 | AU102: 0 | AV102: 0 | AW102: 1 | AX102: 0 | AY102: 1 | AZ102: 0 | BA102: 0 | BB102: 1 | BC102: 0
A103: temp | B103: 0 | C103: 0 | D103: 0 | E103: 0 | F103: 1 | G103: 1 | H103: 1 | I103: 0 | J103: 1 | K103: 1 | L103: 1 | M103: 0 | N103: 0 | O103: 0 | P103: 1 | Q103: 1 | R103: 1 | S103: 1 | T103: 0 | U103: 0 | V103: 1 | W103: 0 | X103: 0 | Y103: 0 | Z103: 1 | AA103: 0 | AB103: 0 | AC103: 0 | AD103: 0 | AE103: 0 | AF103: 0 | AG103: 0 | AH103: 0 | AI103: 0 | AJ103: 0 | AK103: 0 | AL103: 0 | AM103: 1 | AN103: 1 | AO103: 0 | AP103: 1 | AQ103: 0 | AR103: 1 | AS103: 1 | AT103: 0 | AU103: 0 | AV103: 0 | AW103: 1 | AX103: 0 | AY103: 1 | AZ103: 0 | BA103: 0 | BB103: 1 | BC103: 0
... A109: all | B109: 0 | C109: 0 | D109: 0 | E109: 0 | F109: 1 | G109: 1 | H109: 1 | I109: 1 | J109: 1 | K109: 1 | L109: 1 | M109: 0 | N109: 0 | O109: 0 | P109: 1 | Q109: 1 | R109: 0 | S109: 1 | T109: 0 | U109: 0 | V109: 1 | W109: 0 | X109: 0 | Y109: 0 | Z109: 1 | AA109: 0 | AB109: 0 | AC109: 0 | AD109: 0 | AE109: 0 | AF109: 0 | AG109: 0 | AH109: 0 | AI109: 0 | AJ109: 0 | AK109: 0 | AL109: 0 | AM109: 1 | AN109: 1 | AO109: 0 | AP109: 1 | AQ109: 0 | AR109: 1 | AS109: 1 | AT109: 0 | AU109: 0 | AV109: 0 | AW109: 1 | AX109: 0 | AY109: 1 | AZ109: 0 | BA109: 1 | BB109: 1 | BC109: 0

Sheet surface sensitivity
A1: FAO56
A2: sens + | B2: 'ALcotton' | C2: 'ALpeanuts' | D2: 'ARcotton' | E2: 'ARrice' | F2: 'ARsoybeans' | G2: 'AZcotton' | H2: 'CAcotton' | I2: 'CArice' | J2: 'CAwheat spring' | K2: 'COcorn' | L2: 'COwheat spring' | M2: 'COwinter wheat' | N2: 'FLpeanuts' | O2: 'GAcorn' | P2: 'GAcotton' | Q2: 'GApeanuts' | R2: 'IDwheat spring' | S2: 'IDwinter wheat' | T2: 'ILcorn' | U2: 'ILsoybeans' | V2: 'KScorn' | W2: 'KSsoybeans' | X2: 'KSwheat spring' | Y2: 'LAcotton' | Z2: 'LArice' | AA2: 'LAsoybeans' | AB2: 'MIcorn' | AC2: 'MIsoybeans' | AD2: 'MNcorn' | AE2: 'MNsoybeans' | AF2: 'MOcorn' | AG2: 'MOcotton' | AH2: 'MOrice' | AI2: 'MOsoybeans' | AJ2: 'MScotton' | AK2: 'MSrice' | AL2: 'MSsoybeans' | AM2: 'MTwinter wheat' | AN2: 'NEcorn' | AO2: 'NEoats' | AP2: 'NEsoybeans' | AQ2: 'NEwheat spring' | AR2: 'ORwheat spring' | AS2: 'ORwinter wheat' | AT2: 'SCcotton' | AU2: 'SDcorn' | AV2: 'TXcorn' | AW2: 'TXcotton' | AX2: 'TXpeanuts' | AY2: 'TXrice' | AZ2: 'TXwheat spring' | BA2: 'WAwheat spring' | BB2: 'WAwinter wheat' | BC2: 'WIcorn' | BE2: Max | BF2: Min | BG2: Average | BI2: FAO56 | BJ2: max | BK2: min | BL2: difference | BO2: FAO56 | BP2: PT
A3: ground | B3: =('FAO surface averages'!B80-'FAO surface averages'!B$55) -> 0.53750347 | C3: =('FAO surface averages'!C80-'FAO surface averages'!C$55) -> 0.57903585 | D3: =('FAO surface averages'!D80-'FAO surface averages'!D$55) -> 0.14981766 | E3: =('FAO surface averages'!E80-'FAO surface averages'!E$55) -> 0.11069354 | F3: =('FAO surface averages'!F80-'FAO surface averages'!F$55) -> 0.14464698 | G3: =('FAO surface averages'!G80-'FAO surface averages'!G$55) -> 0.052006263 | H3: =('FAO surface averages'!H80-'FAO surface averages'!H$55) -> 0.11006204 | I3: =('FAO surface averages'!I80-'FAO surface averages'!I$55) -> 2.251343 | ... BC3: =('FAO surface averages'!BC80-'FAO surface averages'!BC$55) -> 0.41529108 | BE3: =MAX(B3:BC3) -> 3.9269811 | BF3: =MIN(B3:BC3) -> 0.044781821 | BG3: =AVERAGE(B3:BC3) -> 0.43745828 | BI3: ground | BJ3: 0.43745828 | BK3: -0.0073184055 | BL3: =BJ3-BK3 -> 0.44477669 | BN3: ground | BO3: 0.4179942 | BP3: 0.39115909
A4: net rad | B4: =('FAO surface averages'!B81-'FAO surface averages'!B$55) -> 0.53750347 | C4: =('FAO surface averages'!C81-'FAO surface averages'!C$55) -> 0.59596969 | D4: =('FAO surface averages'!D81-'FAO surface averages'!D$55) -> 0.15292655 | E4: =('FAO surface averages'!E81-'FAO surface averages'!E$55) -> 0.11183966 | F4: =('FAO surface averages'!F81-'FAO surface averages'!F$55) -> 0.14716817 | G4: =('FAO surface averages'!G81-'FAO surface averages'!G$55) -> 0.052054723 | H4: =('FAO surface averages'!H81-'FAO surface averages'!H$55) -> 0.10768433 | I4: =('FAO surface averages'!I81-'FAO surface averages'!I$55) -> 2.3265564 | ... BC4: =('FAO surface averages'!BC81-'FAO surface averages'!BC$55) -> 0.40085378 | BE4: =MAX(B4:BC4) -> 3.8444501 | BF4: =MIN(B4:BC4) -> 0.044781821 | BG4: =AVERAGE(B4:BC4) -> 0.43871074 | BI4: net rad | BJ4: 0.43871074 | BK4: -0.0081088422 | BL4: =BJ4-BK4 -> 0.44681958 | BN4: net rad | BO4: 0.41652685 | BP4: 0.39435848
A5: temp | B5: =('FAO surface averages'!B82-'FAO surface averages'!B$55) -> 0.53750347 | C5: =('FAO surface averages'!C82-'FAO surface averages'!C$55) -> 0.61082713 | D5: =('FAO surface averages'!D82-'FAO surface averages'!D$55) -> 0.16509847 | E5: =('FAO surface averages'!E82-'FAO surface averages'!E$55) -> 0.1146106 | F5: =('FAO surface averages'!F82-'FAO surface averages'!F$55) -> 0.1525463 | G5: =('FAO surface averages'!G82-'FAO surface averages'!G$55) -> 0.053472427 | H5: =('FAO surface averages'!H82-'FAO surface averages'!H$55) -> 0.10964179 | I5: =('FAO surface averages'!I82-'FAO surface averages'!I$55) -> 2.3271004 | ... BC5: =('FAO surface averages'!BC82-'FAO surface averages'!BC$55) -> 0.44281161 | BE5: =MAX(B5:BC5) -> 3.9591934 | BF5: =MIN(B5:BC5) -> 0.044781821 | BG5: =AVERAGE(B5:BC5) -> 0.44426784 | BI5: temp | BJ5: 0.44426784 | BK5: -0.011059893 | BL5: =BJ5-BK5 -> 0.45532773 | BN5: temp | BO5: 0.42547333 | BP5: 0.39020548
A6: wind | B6: =('FAO surface averages'!B83-'FAO surface averages'!B$55) -> 0.53750347 | C6: =('FAO surface averages'!C83-'FAO surface averages'!C$55) -> 0.5735907 | D6: =('FAO surface averages'!D83-'FAO surface averages'!D$55) -> 0.15250595 | E6: =('FAO surface averages'!E83-'FAO surface averages'!E$55) -> 0.10936203 | F6: =('FAO surface averages'!F83-'FAO surface averages'!F$55) -> 0.1435242 | G6: =('FAO surface averages'!G83-'FAO surface averages'!G$55) -> 0.05391697 | H6: =('FAO surface averages'!H83-'FAO surface averages'!H$55) -> 0.1104818 | I6: =('FAO surface averages'!I83-'FAO surface averages'!I$55) -> 2.2153066 | ... BC6: =('FAO surface averages'!BC83-'FAO surface averages'!BC$55) -> 0.41444521 | BE6: =MAX(B6:BC6) -> 3.9931021 | BF6: =MIN(B6:BC6) -> 0.044781821 | BG6: =AVERAGE(B6:BC6) -> 0.43804297 | BI6: wind | BJ6: 0.43804297 | BK6: -0.007752248 | BL6: =BJ6-BK6 -> 0.44579522 | BN6: wind | BO6: 0.41988487 | BP6: 0.38444196
A7: relative | B7: =('FAO surface averages'!B84-'FAO surface averages'!B$55) -> 0.53750347 | C7: =('FAO surface averages'!C84-'FAO surface averages'!C$55) -> 0.59079124 | D7: =('FAO surface averages'!D84-'FAO surface averages'!D$55) -> 0.16172806 | E7: =('FAO surface averages'!E84-'FAO surface averages'!E$55) -> 0.11525411 | F7: =('FAO surface averages'!F84-'FAO surface averages'!F$55) -> 0.14944727 | G7: =('FAO surface averages'!G84-'FAO surface averages'!G$55) -> 0.053157254 | H7: =('FAO surface averages'!H84-'FAO surface averages'!H$55) -> 0.11114885 | I7: =('FAO surface averages'!I84-'FAO surface averages'!I$55) -> 2.2671378 | ... BC7: =('FAO surface averages'!BC84-'FAO surface averages'!BC$55) -> 0.43785013 | BE7: =MAX(B7:BC7) -> 3.9521898 | BF7: =MIN(B7:BC7) -> 0.044781821 | BG7: =AVERAGE(B7:BC7) -> 0.44178875 | BI7: relative | BJ7: 0.44178875 | BK7: -0.010161016 | BL7: =BJ7-BK7 -> 0.45194977 | BN7: relative | BO7: 0.42070954 | BP7: 0.38444196
A8: crop k | B8: =('FAO surface averages'!B85-'FAO surface averages'!B$55) -> 0.53750347 | C8: =('FAO surface averages'!C85-'FAO surface averages'!C$55) -> 0.59335103 | D8: =('FAO surface averages'!D85-'FAO surface averages'!D$55) -> 0.22800994 | E8: =('FAO surface averages'!E85-'FAO surface averages'!E$55) -> 0.15160842 | F8: =('FAO surface averages'!F85-'FAO surface averages'!F$55) -> 0.35664914 | G8: =('FAO surface averages'!G85-'FAO surface averages'!G$55) -> 0.059964817 | H8: =('FAO surface averages'!H85-'FAO surface averages'!H$55) -> 0.1187223 | I8: =('FAO surface averages'!I85-'FAO surface averages'!I$55) -> 2.1883423 | ... BC8: =('FAO surface averages'!BC85-'FAO surface averages'!BC$55) -> 0.51567577 | BE8: =MAX(B8:BC8) -> 3.8312467 | BF8: =MIN(B8:BC8) -> 0.044781821 | BG8: =AVERAGE(B8:BC8) -> 0.4786008 | BI8: crop k | BJ8: 0.4786008 | BK8: -0.036304957 | BL8: =BJ8-BK8 -> 0.51490575 | BN8: crop k | BO8: 0.48632343 | BP8: 0.49097253
A9: precip | B9: =('FAO surface averages'!B86-'FAO surface averages'!B$55) -> 0.53750347 | C9: =('FAO surface averages'!C86-'FAO surface averages'!C$55) -> 0.6500011 | D9: =('FAO surface averages'!D86-'FAO surface averages'!D$55) -> 0.24218001 | E9: =('FAO surface averages'!E86-'FAO surface averages'!E$55) -> 0.14859686 | F9: =('FAO surface averages'!F86-'FAO surface averages'!F$55) -> 0.23637867 | G9: =('FAO surface averages'!G86-'FAO surface averages'!G$55) -> 0.056179888 | H9: =('FAO surface averages'!H86-'FAO surface averages'!H$55) -> 0.12648482 | I9: =('FAO surface averages'!I86-'FAO surface averages'!I$55) -> 2.3364043 | ... BC9: =('FAO surface averages'!BC86-'FAO surface averages'!BC$55) -> 0.55333672 | BE9: =MAX(B9:BC9) -> 3.9387475 | BF9: =MIN(B9:BC9) -> 0.044781821 | BG9: =AVERAGE(B9:BC9) -> 0.48005581 | BI9: precip | BJ9: 0.48005581 | BK9: -0.043994193 | BL9: =BJ9-BK9 -> 0.52405 | BN9: precip | BO9: 0.4926878 | BP9: 0.49481479
A10: application | B10: =('FAO surface averages'!B87-'FAO surface averages'!B$55) -> 0.08138937 | C10: =('FAO surface averages'!C87-'FAO surface averages'!C$55) -> 0.44100652 | D10: =('FAO surface averages'!D87-'FAO surface averages'!D$55) -> 0.14753359 | E10: =('FAO surface averages'!E87-'FAO surface averages'!E$55) -> 0.11016202 | F10: =('FAO surface averages'!F87-'FAO surface averages'!F$55) -> 0.14221458 | G10: =('FAO surface averages'!G87-'FAO surface averages'!G$55) -> 0.052354094 | H10: =('FAO surface averages'!H87-'FAO surface averages'!H$55) -> 0.10794806 | I10: =('FAO surface averages'!I87-'FAO surface averages'!I$55) -> 0.30976929 | ... BC10: =('FAO surface averages'!BC87-'FAO surface averages'!BC$55) -> 0.38606272 | BE10: =MAX(B10:BC10) -> 0.56339397 | BF10: =MIN(B10:BC10) -> 0.050066099 | BG10: =AVERAGE(B10:BC10) -> 0.18430435 | BI10: application | BJ10: 0.18430435 | BK10: 0.0077929405 | BL10: =BJ10-BK10 -> 0.1765114 | BN10: application | BO10: 0.17778959 | BP10: 0.17443844
A11: all | B11: =('FAO surface averages'!B88-'FAO surface averages'!B$55) -> 0.081002779 | C11: =('FAO surface averages'!C88-'FAO surface averages'!C$55) -> 0.40859984 | D11: =('FAO surface averages'!D88-'FAO surface averages'!D$55) -> 0.1497242 | E11: =('FAO surface averages'!E88-'FAO surface averages'!E$55) -> 0.089239282 | F11: =('FAO surface averages'!F88-'FAO surface averages'!F$55) -> 0.20877398 | G11: =('FAO surface averages'!G88-'FAO surface averages'!G$55) -> 0.031639198 | H11: =('FAO surface averages'!H88-'FAO surface averages'!H$55) -> 0.067608487 | I11: =('FAO surface averages'!I88-'FAO surface averages'!I$55) -> 0.30091481 | ... BC11: =('FAO surface averages'!BC88-'FAO surface averages'!BC$55) -> 0.39337377 | BE11: =MAX(B11:BC11) -> 0.49168768 | BF11: =MIN(B11:BC11) -> 0.031639198 | BG11: =AVERAGE(B11:BC11) -> 0.17323633 | BI11: all | BJ11: 0.17323633 | BK11: -0.19853238 | BL11: =BJ11-BK11 -> 0.3717687 | BN11: all | BO11: 0.3726743 | BP11: 0.40246835
A13: sens - | BI13: PT | BJ13: max | BK13: min
A14: ground | B14: =('FAO surface averages'!B$55-'FAO surface averages'!B91) -> 0.18346621 | C14: =('FAO surface averages'!C$55-'FAO surface averages'!C91) -> -0.175912 | D14: =('FAO surface averages'!D$55-'FAO surface averages'!D91) -> -0.088673342 | E14: =('FAO surface averages'!E$55-'FAO surface averages'!E91) -> -0.044546834 | F14: =('FAO surface averages'!F$55-'FAO surface averages'!F91) -> -0.048254066 | G14: =('FAO surface averages'!G$55-'FAO surface averages'!G91) -> 0.0011960469 | H14: =('FAO surface averages'!H$55-'FAO surface averages'!H91) -> 0.01397848 | I14: =('FAO surface averages'!I$55-'FAO surface averages'!I91) -> 0.092655613 | ... BC14: =('FAO surface averages'!BC$55-'FAO surface averages'!BC91) -> -0.11608372 | BE14: =-1*MAX(B14:BC14) -> -0.37113549 | BF14: =-1*MIN(B14:BC14) -> 0.175912 | BG14: =-1*AVERAGE(B14:BC14) -> -0.0073184055 | BI14: ground | BJ14: 0.42803397 | BK14: 0.012316888 | BL14: =BJ14-BK14 -> 0.41571708
A15: net rad | B15: =('FAO surface averages'!B$55-'FAO surface averages'!B92) -> 0.18346621 | C15: =('FAO surface averages'!C$55-'FAO surface averages'!C92) -> -0.17106619 | D15: =('FAO surface averages'!D$55-'FAO surface averages'!D92) -> -0.086551884 | E15: =('FAO surface averages'!E$55-'FAO surface averages'!E92) -> -0.043752619 | F15: =('FAO surface averages'!F$55-'FAO surface averages'!F92) -> -0.047111127 | G15: =('FAO surface averages'!G$55-'FAO surface averages'!G92) -> 0.0011827247 | H15: =('FAO surface averages'!H$55-'FAO surface averages'!H92) -> 0.013466032 | I15: =('FAO surface averages'!I$55-'FAO surface averages'!I92) -> 0.089978413 | ... BC15: =('FAO surface averages'!BC$55-'FAO surface averages'!BC92) -> -0.11097515 | BE15: =-1*MAX(B15:BC15) -> -0.37113549 | BF15: =-1*MIN(B15:BC15) -> 0.17106619 | BG15: =-1*AVERAGE(B15:BC15) -> -0.0081088422 | BI15: net rad | BJ15: 0.43165833 | BK15: 0.0091812022 | BL15: =BJ15-BK15 -> 0.42247713
A16: temp | B16: =('FAO surface averages'!B$55-'FAO surface averages'!B93) -> 0.18346621 | C16: =('FAO surface averages'!C$55-'FAO surface averages'!C93) -> -0.16535033 | D16: =('FAO surface averages'!D$55-'FAO surface averages'!D93) -> -0.075894103 | E16: =('FAO surface averages'!E$55-'FAO surface averages'!E93) -> -0.039461062 | F16: =('FAO surface averages'!F$55-'FAO surface averages'!F93) -> -0.040747329 | G16: =('FAO surface averages'!G$55-'FAO surface averages'!G93) -> 0.0015274709 | H16: =('FAO surface averages'!H$55-'FAO surface averages'!H93) -> 0.01329567 | I16: =('FAO surface averages'!I$55-'FAO surface averages'!I93) -> 0.093123103 | ... BC16: =('FAO surface averages'!BC$55-'FAO surface averages'!BC93) -> -0.094321982 | BE16: =-1*MAX(B16:BC16) -> -0.37113549 | BF16: =-1*MIN(B16:BC16) -> 0.16535033 | BG16: =-1*AVERAGE(B16:BC16) -> -0.011059893 | BI16: temp | BJ16: 0.42894566 | BK16: 0.013140462 | BL16: =BJ16-BK16 -> 0.4158052
A17: wind | B17: =('FAO surface averages'!B$55-'FAO surface averages'!B94) -> 0.18346621 | C17: =('FAO surface averages'!C$55-'FAO surface averages'!C94) -> -0.17406735 | D17: =('FAO surface averages'!D$55-'FAO surface averages'!D94) -> -0.087206895 | E17: =('FAO surface averages'!E$55-'FAO surface averages'!E94) -> -0.043946653 | F17: =('FAO surface averages'!F$55-'FAO surface averages'!F94) -> -0.047969263 | G17: =('FAO surface averages'!G$55-'FAO surface averages'!G94) -> 0.00091276078 | H17: =('FAO surface averages'!H$55-'FAO surface averages'!H94) -> 0.013331272 | I17: =('FAO surface averages'!I$55-'FAO surface averages'!I94) -> 0.089359071 | ... BC17: =('FAO surface averages'!BC$55-'FAO surface averages'!BC94) -> -0.11809658 | BE17: =-1*MAX(B17:BC17) -> -0.37113549 | BF17: =-1*MIN(B17:BC17) -> 0.17406735 | BG17: =-1*AVERAGE(B17:BC17) -> -0.007752248 | BI17: wind | BJ17: 0.42520902 | BK17: 0.016178807 | BL17: =BJ17-BK17 -> 0.40903021
A18: relative | B18: =('FAO surface averages'!B$55-'FAO surface averages'!B95) -> 0.18346621 | C18: =('FAO surface averages'!C$55-'FAO surface averages'!C95) -> -0.16336898 | D18: =('FAO surface averages'!D$55-'FAO surface averages'!D95) -> -0.081740071 | E18: =('FAO surface averages'!E$55-'FAO surface averages'!E95) -> -0.040574336 | F18: =('FAO surface averages'!F$55-'FAO surface averages'!F95) -> -0.0438503 | G18: =('FAO surface averages'!G$55-'FAO surface averages'!G95) -> 0.0014766248 | H18: =('FAO surface averages'!H$55-'FAO surface averages'!H95) -> 0.013958183 | I18: =('FAO surface averages'!I$55-'FAO surface averages'!I95) -> 0.094956263 | ... BC18: =('FAO surface averages'!BC$55-'FAO surface averages'!BC95) -> -0.096545124 | BE18: =-1*MAX(B18:BC18) -> -0.37113549 | BF18: =-1*MIN(B18:BC18) -> 0.16336898 | BG18: =-1*AVERAGE(B18:BC18) -> -0.010161016 | BI18: relative | BJ18: 0.42520902 | BK18: 0.016178807 | BL18: =BJ18-BK18 -> 0.40903021
A19: crop k | B19: =('FAO surface averages'!B$55-'FAO surface averages'!B96) -> 0.18346621 | C19: =('FAO surface averages'!C$55-'FAO surface averages'!C96) -> 0.0067669229 | D19: =('FAO surface averages'!D$55-'FAO surface averages'!D96) -> -0.044893687 | E19: =('FAO surface averages'!E$55-'FAO surface averages'!E96) -> -0.0060341015 | F19: =('FAO surface averages'!F$55-'FAO surface averages'!F96) -> 0.018464726 | G19: =('FAO surface averages'!G$55-'FAO surface averages'!G96) -> 0.0050448527 | H19: =('FAO surface averages'!H$55-'FAO surface averages'!H96) -> 0.014397162 | I19: =('FAO surface averages'!I$55-'FAO surface averages'!I96) -> 0.11617549 | ... BC19: =('FAO surface averages'!BC$55-'FAO surface averages'!BC96) -> -0.022511743 | BE19: =-1*MAX(B19:BC19) -> -0.37113549 | BF19: =-1*MIN(B19:BC19) -> 0.1391155 | BG19: =-1*AVERAGE(B19:BC19) -> -0.036304957 | BI19: crop k | BJ19: 0.48204869 | BK19: -0.034653683 | BL19: =BJ19-BK19 -> 0.51670237
A20: precip | B20: =('FAO surface averages'!B$55-'FAO surface averages'!B97) -> 0.18346621 | C20: =('FAO surface averages'!C$55-'FAO surface averages'!C97) -> 0.010593596 | D20: =('FAO surface averages'!D$55-'FAO surface averages'!D97) -> -0.011165616 | E20: =('FAO surface averages'!E$55-'FAO surface averages'!E97) -> -0.010554822 | F20: =('FAO surface averages'!F$55-'FAO surface averages'!F97) -> 0.016110166 | G20: =('FAO surface averages'!G$55-'FAO surface averages'!G97) -> 0.0040378094 | H20: =('FAO surface averages'!H$55-'FAO surface averages'!H97) -> 0.013347813 | I20: =('FAO surface averages'!I$55-'FAO surface averages'!I97) -> 0.13347291 | ... BC20: =('FAO surface averages'!BC$55-'FAO surface averages'!BC97) -> 0.035965667 | BE20: =-1*MAX(B20:BC20) -> -0.37113549 | BF20: =-1*MIN(B20:BC20) -> 0.12775784 | BG20: =-1*AVERAGE(B20:BC20) -> -0.043994193 | BI20: precip | BJ20: 0.47978967 | BK20: -0.045017092 | BL20: =BJ20-BK20 -> 0.52480676
A21: application | B21: =('FAO surface averages'!B$55-'FAO surface averages'!B98) -> 0.07760311 | C21: =('FAO surface averages'!C$55-'FAO surface averages'!C98) -> -0.18105991 | D21: =('FAO surface averages'!D$55-'FAO surface averages'!D98) -> -0.091771917 | E21: =('FAO surface averages'!E$55-'FAO surface averages'!E98) -> -0.045041708 | F21: =('FAO surface averages'!F$55-'FAO surface averages'!F98) -> -0.051110653 | G21: =('FAO surface averages'!G$55-'FAO surface averages'!G98) -> 0.00084427338 | H21: =('FAO surface averages'!H$55-'FAO surface averages'!H98) -> 0.013823172 | I21: =('FAO surface averages'!I$55-'FAO surface averages'!I98) -> 0.088737343 | ... BC21: =('FAO surface averages'!BC$55-'FAO surface averages'!BC98) -> -0.11751335 | BE21: =-1*MAX(B21:BC21) -> -0.17450936 | BF21: =-1*MIN(B21:BC21) -> 0.18105991 | BG21: =-1*AVERAGE(B21:BC21) -> 0.0077929405 | BI21: application | BJ21: 0.19837336 | BK21: 0.026013257 | BL21: =BJ21-BK21 -> 0.1723601
A22: all | B22: =('FAO surface averages'!B$55-'FAO surface averages'!B99) -> 0.2707175 | C22: =('FAO surface averages'!C$55-'FAO surface averages'!C99) -> 0.36520406 | D22: =('FAO surface averages'!D$55-'FAO surface averages'!D99) -> 0.12136633 | E22: =('FAO surface averages'!E$55-'FAO surface averages'!E99) -> 0.069735951 | F22: =('FAO surface averages'!F$55-'FAO surface averages'!F99) -> 0.13904066 | G22: =('FAO surface averages'!G$55-'FAO surface averages'!G99) -> 0.022117943 | H22: =('FAO surface averages'!H$55-'FAO surface averages'!H99) -> 0.031288534 | I22: =('FAO surface averages'!I$55-'FAO surface averages'!I99) -> 0.31945784 | ... BC22: =('FAO surface averages'!BC$55-'FAO surface averages'!BC99) -> 0.326911 | BE22: =-1*MAX(B22:BC22) -> -0.58840367 | BF22: =-1*MIN(B22:BC22) -> -0.022117943 | BG22: =-1*AVERAGE(B22:BC22) -> -0.19853238 | BI22: all | BJ22: 0.19598506 | BK22: -0.20558719 | BL22: =BJ22-BK22 -> 0.40157225
A24: PT
A25: sens +
A26: ground | B26: =('PT surface averages'!B57-'PT surface averages'!B$32) -> 0.56847233 | C26: =('PT surface averages'!C57-'PT surface averages'!C$32) -> 0.45942422 | D26: =('PT surface averages'!D57-'PT surface averages'!D$32) -> 0.13303318 | E26: =('PT surface averages'!E57-'PT surface averages'!E$32) -> 0.098117512 | F26: =('PT surface averages'!F57-'PT surface averages'!F$32) -> 0.10238276 | G26: =('PT surface averages'!G57-'PT surface averages'!G$32) -> 0.046591802 | H26: =('PT surface averages'!H57-'PT surface averages'!H$32) -> 0.098928449 | I26: =('PT surface averages'!I57-'PT surface averages'!I$32) -> 1.6818954 | ... BC26: =('PT surface averages'!BC57-'PT surface averages'!BC$32) -> 0.30384508 | BE26: =MAX(B26:BC26) -> 3.7808935 | BF26: =-1*MIN(B26:BC26) -> -0.031415099 | BG26: =AVERAGE(B26:BC26) -> 0.42803397
A27: net rad | B27: =('PT surface averages'!B58-'PT surface averages'!B$32) -> 0.56847233 | C27: =('PT surface averages'!C58-'PT surface averages'!C$32) -> 0.51074731 | D27: =('PT surface averages'!D58-'PT surface averages'!D$32) -> 0.1406548 | E27: =('PT surface averages'!E58-'PT surface averages'!E$32) -> 0.10143755 | F27: =('PT surface averages'!F58-'PT surface averages'!F$32) -> 0.10688509 | G27: =('PT surface averages'!G58-'PT surface averages'!G$32) -> 0.047940979 | H27: =('PT surface averages'!H58-'PT surface averages'!H$32) -> 0.093572943 | I27: =('PT surface averages'!I58-'PT surface averages'!I$32) -> 1.7812164 | ... BC27: =('PT surface averages'!BC58-'PT surface averages'!BC$32) -> 0.3068859 | BE27: =MAX(B27:BC27) -> 3.6469308 | BF27: =-1*MIN(B27:BC27) -> -0.032069488 | BG27: =AVERAGE(B27:BC27) -> 0.43165833
A28: temp | B28: =('PT surface averages'!B59-'PT surface averages'!B$32) -> 0.56847233 | C28: =('PT surface averages'!C59-'PT surface averages'!C$32) -> 0.47101206 | D28: =('PT surface averages'!D59-'PT surface averages'!D$32) -> 0.13292443 | E28: =('PT surface averages'!E59-'PT surface averages'!E$32) -> 0.099569732 | F28: =('PT surface averages'!F59-'PT surface averages'!F$32) -> 0.10203006 | G28: =('PT surface averages'!G59-'PT surface averages'!G$32) -> 0.047654265 | H28: =('PT surface averages'!H59-'PT surface averages'!H$32) -> 0.093966686 | I28: =('PT surface averages'!I59-'PT surface averages'!I$32) -> 1.7870858 | ... BC28: =('PT surface averages'!BC59-'PT surface averages'!BC$32) -> 0.30644698 | BE28: =MAX(B28:BC28) -> 3.7858863 | BF28: =-1*MIN(B28:BC28) -> -0.027856322 | BG28: =AVERAGE(B28:BC28) -> 0.42894566
A29: wind | B29: =('PT surface averages'!B60-'PT surface averages'!B$32) -> 0.56847233 | C29: =('PT surface averages'!C60-'PT surface averages'!C$32) -> 0.45547184 | D29: =('PT surface averages'!D60-'PT surface averages'!D$32) -> 0.12430556 | E29: =('PT surface averages'!E60-'PT surface averages'!E$32) -> 0.096748105 | F29: =('PT surface averages'!F60-'PT surface averages'!F$32) -> 0.096493045 | G29: =('PT surface averages'!G60-'PT surface averages'!G$32) -> 0.047024805 | H29: =('PT surface averages'!H60-'PT surface averages'!H$32) -> 0.093939807 | I29: =('PT surface averages'!I60-'PT surface averages'!I$32) -> 1.750835 | ... BC29: =('PT surface averages'!BC60-'PT surface averages'!BC$32) -> 0.29004144 | BE29: =MAX(B29:BC29) -> 3.7885301 | BF29: =-1*MIN(B29:BC29) -> -0.024369844 | BG29: =AVERAGE(B29:BC29) -> 0.42520902
A30: relative | B30: =('PT surface averages'!B61-'PT surface averages'!B$32) -> 0.56847233 | C30: =('PT surface averages'!C61-'PT surface averages'!C$32) -> 0.45547184 | D30: =('PT surface averages'!D61-'PT surface averages'!D$32) -> 0.12430556 | E30: =('PT surface averages'!E61-'PT surface averages'!E$32) -> 0.096748105 | F30: =('PT surface averages'!F61-'PT surface averages'!F$32) -> 0.096493045 | G30: =('PT surface averages'!G61-'PT surface averages'!G$32) -> 0.047024805 | H30: =('PT surface averages'!H61-'PT surface averages'!H$32) -> 0.093939807 | I30: =('PT surface averages'!I61-'PT surface averages'!I$32) -> 1.750835 | ... BC30: =('PT surface averages'!BC61-'PT surface averages'!BC$32) -> 0.29004144 | BE30: =MAX(B30:BC30) -> 3.7885301 | BF30: =-1*MIN(B30:BC30) -> -0.024369844 | BG30: =AVERAGE(B30:BC30) -> 0.42520902
A31: crop k | B31: =('PT surface averages'!B62-'PT surface averages'!B$32) -> 0.56847233 | C31: =('PT surface averages'!C62-'PT surface averages'!C$32) -> 0.62730499 | D31: =('PT surface averages'!D62-'PT surface averages'!D$32) -> 0.21138186 | E31: =('PT surface averages'!E62-'PT surface averages'!E$32) -> 0.14214523 | F31: =('PT surface averages'!F62-'PT surface averages'!F$32) -> 0.32134119 | G31: =('PT surface averages'!G62-'PT surface averages'!G$32) -> 0.055291561 | H31: =('PT surface averages'!H62-'PT surface averages'!H$32) -> 0.10112106 | I31: =('PT surface averages'!I62-'PT surface averages'!I$32) -> 1.7313011 | ... BC31: =('PT surface averages'!BC62-'PT surface averages'!BC$32) -> 0.51557154 | BE31: =MAX(B31:BC31) -> 3.6657701 | BF31: =-1*MIN(B31:BC31) -> -0.055291561 | BG31: =AVERAGE(B31:BC31) -> 0.48204869
A32: precip | B32: =('PT surface averages'!B63-'PT surface averages'!B$32) -> 0.56847233 | C32: =('PT surface averages'!C63-'PT surface averages'!C$32) -> 0.68362747 | D32: =('PT surface averages'!D63-'PT surface averages'!D$32) -> 0.21360527 | E32: =('PT surface averages'!E63-'PT surface averages'!E$32) -> 0.13644145 | F32: =('PT surface averages'!F63-'PT surface averages'!F$32) -> 0.18549428 | G32: =('PT surface averages'!G63-'PT surface averages'!G$32) -> 0.048986498 | H32: =('PT surface averages'!H63-'PT surface averages'!H$32) -> 0.10727005 | I32: =('PT surface averages'!I63-'PT surface averages'!I$32) -> 1.9326551 | ... BC32: =('PT surface averages'!BC63-'PT surface averages'!BC$32) -> 0.51688915 | BE32: =MAX(B32:BC32) -> 3.7672363 | BF32: =-1*MIN(B32:BC32) -> -0.048986498 | BG32: =AVERAGE(B32:BC32) -> 0.47978967
A33: application | B33: =('PT surface averages'!B64-'PT surface averages'!B$32) -> 0.11235823 | C33: =('PT surface averages'!C64-'PT surface averages'!C$32) -> 0.44723562 | D33: =('PT surface averages'!D64-'PT surface averages'!D$32) -> 0.12430556 | E33: =('PT surface averages'!E64-'PT surface averages'!E$32) -> 0.096748105 | F33: =('PT surface averages'!F64-'PT surface averages'!F$32) -> 0.096493045 | G33: =('PT surface averages'!G64-'PT surface averages'!G$32) -> 0.047024805 | H33: =('PT surface averages'!H64-'PT surface averages'!H$32) -> 0.093939807 | I33: =('PT surface averages'!I64-'PT surface averages'!I$32) -> 0.39086681 | ... BC33: =('PT surface averages'!BC64-'PT surface averages'!BC$32) -> 0.29004144 | BE33: =MAX(B33:BC33) -> 0.57115669 | BF33: =-1*MIN(B33:BC33) -> -0.024369844 | BG33: =AVERAGE(B33:BC33) -> 0.19837336
A34: all | B34: =('PT surface averages'!B65-'PT surface averages'!B$32) -> 0.11126815 | C34: =('PT surface averages'!C65-'PT surface averages'!C$32) -> 0.46683847 | D34: =('PT surface averages'!D65-'PT surface averages'!D$32) -> 0.14091329 | E34: =('PT surface averages'!E65-'PT surface averages'!E$32) -> 0.084300099 | F34: =('PT surface averages'!F65-'PT surface averages'!F$32) -> 0.20698204 | G34: =('PT surface averages'!G65-'PT surface averages'!G$32) -> 0.028327852 | H34: =('PT surface averages'!H65-'PT surface averages'!H$32) -> 0.06295877 | I34: =('PT surface averages'!I65-'PT surface averages'!I$32) -> 0.38178741 | ... BC34: =('PT surface averages'!BC65-'PT surface averages'!BC$32) -> 0.38053838 | BE34: =MAX(B34:BC34) -> 0.48830651 | BF34: =-1*MIN(B34:BC34) -> -0.028327852 | BG34: =AVERAGE(B34:BC34) -> 0.19598506
A36: sens -
A37: ground | B37: =('PT surface averages'!B$32-'PT surface averages'!B68) -> 0.15249735 | C37: =('PT surface averages'!C$32-'PT surface averages'!C68) -> -0.14162568 | D37: =('PT surface averages'!D$32-'PT surface averages'!D68) -> -0.072848749 | E37: =('PT surface averages'!E$32-'PT surface averages'!E68) -> -0.039567502 | F37: =('PT surface averages'!F$32-'PT surface averages'!F68) -> -0.025054693 | G37: =('PT surface averages'!G$32-'PT surface averages'!G68) -> 0.00053118363 | H37: =('PT surface averages'!H$32-'PT surface averages'!H68) -> 0.010437032 | I37: =('PT surface averages'!I$32-'PT surface averages'!I68) -> 0.085279627 | ... BC37: =('PT surface averages'!BC$32-'PT surface averages'!BC68) -> -0.077499209 | BE37: =-1*MAX(B37:BC37) -> -0.33844262 | BF37: =-1*MIN(B37:BC37) -> 0.26706399 | BG37: =-1*AVERAGE(B37:BC37) -> 0.012316888
A38: net rad | B38: =('PT surface averages'!B$32-'PT surface averages'!B69) -> 0.15249735 | C38: =('PT surface averages'!C$32-'PT surface averages'!C69) -> -0.13120489 | D38: =('PT surface averages'!D$32-'PT surface averages'!D69) -> -0.066054742 | E38: =('PT surface averages'!E$32-'PT surface averages'!E69) -> -0.036957013 | F38: =('PT surface averages'!F$32-'PT surface averages'!F69) -> -0.020085609 | G38: =('PT surface averages'!G$32-'PT surface averages'!G69) -> 0.00021692834 | H38: =('PT surface averages'!H$32-'PT surface averages'!H69) -> 0.0097170677 | I38: =('PT surface averages'!I$32-'PT surface averages'!I69) -> 0.085693408 | ... BC38: =('PT surface averages'!BC$32-'PT surface averages'!BC69) -> -0.073172537 | BE38: =-1*MAX(B38:BC38) -> -0.33844262 | BF38: =-1*MIN(B38:BC38) -> 0.26651722 | BG38: =-1*AVERAGE(B38:BC38) -> 0.0091812022
A39: temp | B39: =('PT surface averages'!B$32-'PT surface averages'!B70) -> 0.15249735 | C39: =('PT surface averages'!C$32-'PT surface averages'!C70) -> -0.14803694 | D39: =('PT surface averages'!D$32-'PT surface averages'!D70) -> -0.071467056 | E39: =('PT surface averages'!E$32-'PT surface averages'!E70) -> -0.039073516 | F39: =('PT surface averages'!F$32-'PT surface averages'!F70) -> -0.027344135 | G39: =('PT surface averages'!G$32-'PT surface averages'!G70) -> 0.00022491324 | H39: =('PT surface averages'!H$32-'PT surface averages'!H70) -> 0.0099431512 | I39: =('PT surface averages'!I$32-'PT surface averages'!I70) -> 0.082849046 | ... BC39: =('PT surface averages'!BC$32-'PT surface averages'!BC70) -> -0.077150131 | BE39: =-1*MAX(B39:BC39) -> -0.33844262 | BF39: =-1*MIN(B39:BC39) -> 0.2671113 | BG39: =-1*AVERAGE(B39:BC39) -> 0.013140462
A40: wind | B40: =('PT surface averages'!B$32-'PT surface averages'!B71) -> 0.15249735 | C40: =('PT surface averages'!C$32-'PT surface averages'!C71) -> -0.16136189 | D40: =('PT surface averages'!D$32-'PT surface averages'!D71) -> -0.080199541 | E40: =('PT surface averages'!E$32-'PT surface averages'!E71) -> -0.042101426 | F40: =('PT surface averages'!F$32-'PT surface averages'!F71) -> -0.032897426 | G40: =('PT surface averages'!G$32-'PT surface averages'!G71) -> -0.00028772714 | H40: =('PT surface averages'!H$32-'PT surface averages'!H71) -> 0.0099473925 | I40: =('PT surface averages'!I$32-'PT surface averages'!I71) -> 0.078715681 | ... BC40: =('PT surface averages'!BC$32-'PT surface averages'!BC71) -> -0.090333471 | BE40: =-1*MAX(B40:BC40) -> -0.33844262 | BF40: =-1*MIN(B40:BC40) -> 0.2671113 | BG40: =-1*AVERAGE(B40:BC40) -> 0.016178807
A41: relative | B41: =('PT surface averages'!B$32-'PT surface averages'!B72) -> 0.15249735 | C41: =('PT surface averages'!C$32-'PT surface averages'!C72) -> -0.16136189 | D41: =('PT surface averages'!D$32-'PT surface averages'!D72) -> -0.080199541 | E41: =('PT surface averages'!E$32-'PT surface averages'!E72) -> -0.042101426 | F41: =('PT surface averages'!F$32-'PT surface averages'!F72) -> -0.032897426 | G41: =('PT surface averages'!G$32-'PT surface averages'!G72) -> -0.00028772714 | H41: =('PT surface averages'!H$32-'PT surface averages'!H72) -> 0.0099473925 | I41: =('PT surface averages'!I$32-'PT surface averages'!I72) -> 0.078715681 | ... BC41: =('PT surface averages'!BC$32-'PT surface averages'!BC72) -> -0.090333471 | BE41: =-1*MAX(B41:BC41) -> -0.33844262 | BF41: =-1*MIN(B41:BC41) -> 0.2671113 | BG41: =-1*AVERAGE(B41:BC41) -> 0.016178807
A42: crop k | B42: =('PT surface averages'!B$32-'PT surface averages'!B73) -> 0.15249735 | C42: =('PT surface averages'!C$32-'PT surface averages'!C73) -> 0.060076052 | D42: =('PT surface averages'!D$32-'PT surface averages'!D73) -> -0.022867137 | E42: =('PT surface averages'!E$32-'PT surface averages'!E73) -> -0.0013947923 | F42: =('PT surface averages'!F$32-'PT surface averages'!F73) -> 0.039754708 | G42: =('PT surface averages'!G$32-'PT surface averages'!G73) -> 0.0047946669 | H42: =('PT surface averages'!H$32-'PT surface averages'!H73) -> 0.011181281 | I42: =('PT surface averages'!I$32-'PT surface averages'!I73) -> 0.11584097 | ... BC42: =('PT surface averages'!BC$32-'PT surface averages'!BC73) -> 0.0096841406 | BE42: =-1*MAX(B42:BC42) -> -0.33844262 | BF42: =-1*MIN(B42:BC42) -> 0.077707107 | BG42: =-1*AVERAGE(B42:BC42) -> -0.034653683
A43: precip | B43: =('PT surface averages'!B$32-'PT surface averages'!B74) -> 0.15249735 | C43: =('PT surface averages'!C$32-'PT surface averages'!C74) -> 0.057913379 | D43: =('PT surface averages'!D$32-'PT surface averages'!D74) -> 0.0049515515 | E43: =('PT surface averages'!E$32-'PT surface averages'!E74) -> -0.0056766151 | F43: =('PT surface averages'!F$32-'PT surface averages'!F74) -> 0.029840571 | G43: =('PT surface averages'!G$32-'PT surface averages'!G74) -> 0.0032208761 | H43: =('PT surface averages'!H$32-'PT surface averages'!H74) -> 0.011058903 | I43: =('PT surface averages'!I$32-'PT surface averages'!I74) -> 0.12761934 | ... BC43: =('PT surface averages'!BC$32-'PT surface averages'!BC74) -> 0.080412687 | BE43: =-1*MAX(B43:BC43) -> -0.33844262 | BF43: =-1*MIN(B43:BC43) -> 0.066562359 | BG43: =-1*AVERAGE(B43:BC43) -> -0.045017092
