Workbook

Sheet Jul-Sep 2012
A1: Unit | B1: Initial Circ | C1: Renewals | D1: Reserves | E1: In Library use | F1: Total This Quarter | G1: Change from. 11/12 | H1: Paging
A2: Suzzallo/Allen Units
A3: Circulation | B3: 32406 | C3: 145447 | D3: 0 | E3: 16378 | F3: =SUM(B3:E3) -> 194231 | G3: =F3/196932-1 -> -0.013715394 | H3: 14677
A4: Government Publications | B4: 723 | C4: 1496 | D4: 0 | E4: 1722 | F4: =SUM(B4:E4) -> 3941 | G4: =F4/4007-1 -> -0.016471175 | H4: 156
A5: Maps | B5: 187 | C5: 695 | D5: 0 | E5: 1375 | F5: =SUM(B5:E5) -> 2257 | G5: =F5/2120-1 -> 0.064622642 | H5: 14
A6: Microforms-Newspapers | B6: 360 | C6: 2 | D6: 1099 | E6: 4352 | F6: =SUM(B6:E6) -> 5813 | G6: =F6/6242-1 -> -0.068727972 | H6: 0
A7: Reference | B7: 956 | C7: 5 | D7: 0 | E7: 0 | F7: =SUM(B7:E7) -> 961 | G7: =F7/453-1 -> 1.1214128
A8: Special Collections | B8: 6 | C8: 4 | D8: 0 | E8: 6355 | F8: =SUM(B8:E8) -> 6365 | G8: =F8/8254-1 -> -0.22885874 | H8: 0
A9: SUZZALLO/ALLEN TOTAL | B9: =SUM(B3:B8) -> 34638 | C9: =SUM(C3:C8) -> 147649 | D9: =SUM(D3:D8) -> 1099 | E9: =SUM(E3:E8) -> 30182 | F9: =SUM(B9:E9) -> 213568 | G9: =F9/218721-1 -> -0.023559695 | H9: =SUM(H3:H8) -> 14847
A11: Branch Units
A12: Art | B12: 2313 | C12: 6219 | D12: 33 | E12: 1236 | F12: =SUM(B12:E12) -> 9801 | G12: =F12/9443-1 -> 0.037911681 | H12: 944
A13: Built Environments | B13: 1715 | C13: 4237 | D13: 53 | E13: 646 | F13: =SUM(B13:E13) -> 6651 | G13: =F13/6408-1 -> 0.037921348 | H13: 621
A14: Drama | B14: 1233 | C14: 2825 | D14: 4 | E14: 259 | F14: =SUM(B14:E14) -> 4321 | G14: =F14/4019-1 -> 0.07514307 | H14: 344
A15: Engineering | B15: 2805 | C15: 5802 | D15: 312 | E15: 1012 | F15: =SUM(B15:E15) -> 9931 | G15: =F15/9046-1 -> 0.097833296 | H15: 835
A16: Foster Business | B16: 1131 | C16: 1923 | D16: 664 | E16: 123 | F16: =SUM(B16:E16) -> 3841 | G16: =F16/3749-1 -> 0.024539877 | H16: 454
A17: Friday Harbor | B17: 359 | C17: 2 | D17: 0 | E17: 126 | F17: =SUM(B17:E17) -> 487 | G17: =F17/541-1 -> -0.099815157 | H17: 0
A18: Math. Research | B18: 1646 | C18: 4430 | D18: 148 | E18: 760 | F18: =SUM(B18:E18) -> 6984 | G18: =F18/7506-1 -> -0.069544365 | H18: 615
A19: Music | B19: 2388 | C19: 5422 | D19: 69 | E19: 495 | F19: =SUM(B19:E19) -> 8374 | G19: =F19/8490-1 -> -0.013663133 | H19: 475
A20: Music Listening Center | B20: 196 | C20: 126 | D20: 44 | E20: 2 | F20: =SUM(B20:E20) -> 368 | G20: =F20/598-1 -> -0.38461538 | H20: 11
A21: Physics-Astronomy | B21: 529 | C21: 2723 | D21: 167 | E21: 334 | F21: =SUM(B21:E21) -> 3753 | G21: =F21/3833-1 -> -0.02087138 | H21: 181
A22: BRANCH TOTAL | B22: =SUM(B12:B21) -> 14315 | C22: =SUM(C12:C21) -> 33709 | D22: =SUM(D12:D21) -> 1494 | E22: =SUM(E12:E21) -> 4993 | F22: =SUM(B22:E22) -> 54511 | G22: =F22/53633-1 -> 0.016370518 | H22: =SUM(H12:H21) -> 4480
A24: Other Units
A25: East Asia | B25: 3066 | C25: 16444 | D25: 51 | E25: 743 | F25: =SUM(B25:E25) -> 20304 | G25: =F25/26571-1 -> -0.23585864 | H25: 1081
A26: Health Sciences | B26: 1670 | C26: 5039 | D26: 92 | E26: 4837 | F26: =SUM(B26:E26) -> 11638 | G26: =F26/11380-1 -> 0.022671353 | H26: 967
A27: Media Center | B27: 8544 | C27: 25249 | D27: 251 | E27: 0 | F27: =SUM(B27:E27) -> 34044 | G27: =F27/35311-1 -> -0.03588117 | H27: 3771
A28: Odegaard Undergraduate | B28: 4667 | C28: 22644 | D28: 2837 | E28: 118 | F28: =SUM(B28:E28) -> 30266 | G28: =F28/40931-1 -> -0.26056046 | H28: 4155
A30: SEATTLE TOTAL | B30: =B9+B22+B26+B28+B27+B25 -> 66900 | C30: =C9+C22+C26+C28+C27+C25 -> 250734 | D30: =D9+D22+D26+D28+D27+D25 -> 5824 | E30: =E9+E22+E26+E28+E27+E25 -> 40873 | F30: =F9+F22+F26+F28+F27+F25 -> 364331 | G30: =F30/386547-1 -> -0.057472959 | H30: =H9+H22+H26+H28+H27+H25 -> 29301
A32: Seattle Electronic Reserves | D32: 24977 | F32: =SUM(B32:E32) -> 24977 | G32: =F32/25940-1 -> -0.037124133
A34: Bothell/CCC | B34: 6541 | C34: 19291 | D34: 652 | E34: 1364 | F34: =SUM(B34:E34) -> 27848 | G34: =F34/28732-1 -> -0.030767089 | H34: 4383
A35: Bothell Electronic Reserves | D35: 27916 | F35: =SUM(B35:E35) -> 27916 | G35: =F35/19639-1 -> 0.4214573
A37: Tacoma | B37: 4728 | C37: 17868 | D37: 335 | E37: 832 | F37: =SUM(B37:E37) -> 23763 | G37: =F37/22312-1 -> 0.06503227 | H37: 3836
A38: Tacoma Electronic Reserves | D38: 10697 | F38: =SUM(B38:E38) -> 10697 | G38: =F38/7455-1 -> 0.43487592
A40: Streaming Media | D40: 19193 | F40: =D40 -> 19193 | G40: =F40/16564-1 -> 0.1587177
A42: ILL and Summit | B42: 5981 | C42: 15 | F42: =SUM(B42:E42) -> 5996 | G42: =F42/6492-1 -> -0.076401725

Sheet Oct-Dec 2012
A1: Unit | B1: Initial Circ | C1: Renewals | D1: Reserves | E1: In Library use | F1: Total This Quarter | G1: Change from 11/12 | H1: Paging
A2: Suzzallo/Allen Units
A3: Circulation | B3: 43987 | C3: 155792 | D3: 0 | E3: 13912 | F3: =SUM(B3:E3) -> 213691 | G3: =F3/225431-1 -> -0.052078019 | H3: 21315
A4: Government Publications | B4: 954 | C4: 1673 | D4: 0 | E4: 3246 | F4: =SUM(B4:E4) -> 5873 | G4: =F4/5718-1 -> 0.02710738 | H4: 328
A5: Maps | B5: 137 | C5: 635 | D5: 0 | E5: 1426 | F5: =SUM(B5:E5) -> 2198 | G5: =F5/2211-1 -> -0.0058796924 | H5: 32
A6: Microforms-Newspapers | B6: 523 | C6: 0 | D6: 151 | E6: 3518 | F6: =SUM(B6:E6) -> 4192 | G6: =F6/6814-1 -> -0.38479601 | H6: 0
A7: Reference | B7: 4050 | C7: 3 | D7: 0 | E7: 4 | F7: =SUM(B7:E7) -> 4057 | G7: =F7/2679-1 -> 0.51437103 | H7: 0
A8: Special Collections | B8: 8 | C8: 56 | D8: 0 | E8: 6903 | F8: =SUM(B8:E8) -> 6967 | G8: =F8/5998-1 -> 0.16155385 | H8: 0
A9: SUZZALLO/ALLEN TOTAL | B9: =SUM(B3:B8) -> 49659 | C9: =SUM(C3:C8) -> 158159 | D9: =SUM(D3:D8) -> 151 | E9: =SUM(E3:E8) -> 29009 | F9: =SUM(B9:E9) -> 236978 | G9: =F9/249651-1 -> -0.050762865 | H9: =SUM(H3:H8) -> 21675
A11: Branch Units
A12: Art | B12: 3835 | C12: 8807 | D12: 394 | E12: 2298 | F12: =SUM(B12:E12) -> 15334 | G12: =F12/14589-1 -> 0.051065872 | H12: 1282
A13: Built Environments | B13: 3567 | C13: 5667 | D13: 392 | E13: 1171 | F13: =SUM(B13:E13) -> 10797 | G13: =F13/9182-1 -> 0.17588761 | H13: 987
A14: Drama | B14: 2249 | C14: 2920 | D14: 70 | E14: 388 | F14: =SUM(B14:E14) -> 5627 | G14: =F14/6116-1 -> -0.079954218 | H14: 534
A15: Engineering | B15: 3362 | C15: 6382 | D15: 634 | E15: 1088 | F15: =SUM(B15:E15) -> 11466 | G15: =F15/11302-1 -> 0.014510706 | H15: 931
A16: Foster Business | B16: 5059 | C16: 2188 | D16: 2415 | E16: 190 | F16: =SUM(B16:E16) -> 9852 | G16: =F16/10658-1 -> -0.075623944 | H16: 599
A17: Friday Harbor | B17: 104 | C17: 3 | D17: 0 | E17: 0 | F17: =SUM(B17:E17) -> 107 | G17: =F17/156-1 -> -0.31410256 | H17: 0
A18: Math. Research | B18: 1769 | C18: 4555 | D18: 240 | E18: 767 | F18: =SUM(B18:E18) -> 7331 | G18: =F18/8181-1 -> -0.10389928 | H18: 573
A19: Music | B19: 3674 | C19: 6131 | D19: 372 | E19: 730 | F19: =SUM(B19:E19) -> 10907 | G19: =F19/10969-1 -> -0.0056522928 | H19: 685
A20: Music Listening Center | B20: 540 | C20: 242 | D20: 206 | E20: 3 | F20: =SUM(B20:E20) -> 991 | G20: =F20/1224-1 -> -0.19035948 | H20: 14
A21: Physics-Astronomy | B21: 583 | C21: 2499 | D21: 453 | E21: 206 | F21: =SUM(B21:E21) -> 3741 | G21: =F21/4206-1 -> -0.11055635 | H21: 211
A22: BRANCH TOTAL | B22: =SUM(B12:B21) -> 24742 | C22: =SUM(C12:C21) -> 39394 | D22: =SUM(D12:D21) -> 5176 | E22: =SUM(E12:E21) -> 6841 | F22: =SUM(B22:E22) -> 76153 | G22: =F22/76583-1 -> -0.0056148231 | H22: =SUM(H12:H21) -> 5816
A24: Other Units
A25: East Asia | B25: 4170 | C25: 18427 | D25: 263 | E25: 842 | F25: =SUM(B25:E25) -> 23702 | G25: =F25/25138-1 -> -0.057124672 | H25: 1802
A26: Health Sciences | B26: 1715 | C26: 5024 | D26: 196 | E26: 5592 | F26: =SUM(B26:E26) -> 12527 | G26: =F26/12749-1 -> -0.01741313 | H26: 988
A27: Media Center | B27: 11135 | C27: 26986 | D27: 1173 | E27: 0 | F27: =SUM(B27:E27) -> 39294 | G27: =F27/43606-1 -> -0.098885474 | H27: 4330
A28: Odegaard Undergraduate | B28: 16431 | C28: 30968 | D28: 10119 | E28: 1221 | F28: =SUM(B28:E28) -> 58739 | G28: =F28/66972-1 -> -0.12293197 | H28: 4800
A30: SEATTLE TOTAL | B30: =B9+B22+B26+B28+B27+B25 -> 107852 | C30: =C9+C22+C26+C28+C27+C25 -> 278958 | D30: =D9+D22+D26+D28+D27+D25 -> 17078 | E30: =E9+E22+E26+E28+E27+E25 -> 43505 | F30: =F9+F22+F26+F28+F27+F25 -> 447393 | G30: =F30/474699-1 -> -0.057522767 | H30: =H9+H22+H26+H28+H27+H25 -> 39411
A32: Seattle Electronic Reserves | D32: 98463 | F32: =D32 -> 98463 | G32: =F32/142317-1 -> -0.30814309
A34: Bothell/CCC | B34: 10730 | C34: 21089 | D34: 2182 | E34: 2079 | F34: =SUM(B34:E34) -> 36080 | G34: =F34/36909-1 -> -0.022460646 | H34: 5627
A35: Bothell Electronic Reserves | D35: 65777 | F35: =D35 -> 65777 | G35: =F35/75954-1 -> -0.13398899
A37: Tacoma | B37: 7406 | C37: 19786 | D37: 677 | E37: 1293 | F37: =SUM(B37:E37) -> 29162 | G37: =F37/29845-1 -> -0.022884905 | H37: 5161
A38: Tacoma Electronic Reserves | D38: 20213 | F38: =D38 -> 20213 | G38: =F38/20114-1 -> 0.0049219449
A40: Streaming Media | D40: 44339 | F40: =D40 -> 44339 | G40: =F40/41649-1 -> 0.064587385
A42: ILL and Summit | B42: 9154 | C42: 14 | D42: 0 | E42: 4 | F42: =SUM(B42:E42) -> 9172 | G42: =F42/9428-1 -> -0.027153161 | H42: 0

Sheet Jan-Mar 2013
A1: Unit | B1: Initial Circ | C1: Renewals | D1: Reserves | E1: In Library use | F1: Total This Quarter | G1: Change from 11/12 | H1: Paging
A2: Suzzallo/Allen Units
A3: Circulation | B3: 46300 | C3: 159572 | D3: 0 | E3: 15255 | F3: =SUM(B3:E3) -> 221127 | G3: =F3/247656-1 -> -0.10712036 | H3: 23555
A4: Government Publications | B4: 935 | C4: 1752 | D4: 0 | E4: 3254 | F4: =SUM(B4:E4) -> 5941 | G4: =F4/5784-1 -> 0.027143845 | H4: 357
A5: Maps | B5: 135 | C5: 803 | D5: 0 | E5: 7397 | F5: =SUM(B5:E5) -> 8335 | G5: =F5/1877-1 -> 3.4405967 | H5: 21
A6: Microforms-Newspapers | B6: 292 | C6: 0 | D6: 99 | E6: 3823 | F6: =SUM(B6:E6) -> 4214 | G6: =F6/5892-1 -> -0.28479294 | H6: 0
A7: Reference | B7: 4194 | C7: 1 | D7: 0 | E7: 0 | F7: =SUM(B7:E7) -> 4195 | G7: =F7/2614-1 -> 0.6048202 | H7: 0
A8: Special Collections | B8: 57 | C8: 4 | D8: 0 | E8: 5661 | F8: =SUM(B8:E8) -> 5722 | G8: =F8/4977-1 -> 0.14968857 | H8: 0
A9: SUZZALLO/ALLEN TOTAL | B9: =SUM(B3:B8) -> 51913 | C9: =SUM(C3:C8) -> 162132 | D9: =SUM(D3:D8) -> 99 | E9: =SUM(E3:E8) -> 35390 | F9: =SUM(F3:F8) -> 249534 | G9: =F9/269685-1 -> -0.074720507 | H9: =SUM(H3:H8) -> 23933
A11: Branch Units
A12: Art | B12: 3729 | C12: 9103 | D12: 531 | E12: 2006 | F12: =SUM(B12:E12) -> 15369 | G12: =F12/15317-1 -> 0.0033949207 | H12: 1391
A13: Built Environments | B13: 3685 | C13: 4521 | D13: 527 | E13: 984 | F13: =SUM(B13:E13) -> 9717 | G13: =F13/10756-1 -> -0.096597248 | H13: 1167
A14: Drama | B14: 2339 | C14: 3040 | D14: 86 | E14: 343 | F14: =SUM(B14:E14) -> 5808 | G14: =F14/6177-1 -> -0.059737737 | H14: 718
A15: Engineering | B15: 3648 | C15: 5906 | D15: 625 | E15: 967 | F15: =SUM(B15:E15) -> 11146 | G15: =F15/12177-1 -> -0.084667816 | H15: 992
A16: Foster Business | B16: 5246 | C16: 2219 | D16: 2901 | E16: 246 | F16: =SUM(B16:E16) -> 10612 | G16: =F16/9969-1 -> 0.06449995 | H16: 630
A17: Friday Harbor | B17: 110 | C17: 0 | D17: 0 | E17: 50 | F17: =SUM(B17:E17) -> 160 | G17: =F17/191-1 -> -0.16230366 | H17: 0
A18: Math. Research | B18: 1809 | C18: 4529 | D18: 339 | E18: 1218 | F18: =SUM(B18:E18) -> 7895 | G18: =F18/8027-1 -> -0.0164445 | H18: 690
A19: Music | B19: 3911 | C19: 6579 | D19: 219 | E19: 753 | F19: =SUM(B19:E19) -> 11462 | G19: =F19/11867-1 -> -0.034128255 | H19: 754
A20: Music Listening Center | B20: 375 | C20: 338 | D20: 204 | E20: 0 | F20: =SUM(B20:E20) -> 917 | G20: =F20/1355-1 -> -0.32324723 | H20: 16
A21: Physics-Astronomy | B21: 547 | C21: 2590 | D21: 524 | E21: 125 | F21: =SUM(B21:E21) -> 3786 | G21: =F21/4545-1 -> -0.1669967 | H21: 199
A22: BRANCH TOTAL | B22: =SUM(B12:B21) -> 25399 | C22: =SUM(C12:C21) -> 38825 | D22: =SUM(D12:D21) -> 5956 | E22: =SUM(E12:E21) -> 6692 | F22: =SUM(F12:F21) -> 76872 | G22: =F22/80381-1 -> -0.043654595 | H22: =SUM(H12:H21) -> 6557
A24: Other Units
A25: East Asia | B25: 4370 | C25: 17054 | D25: 222 | E25: 817 | F25: =SUM(B25:E25) -> 22463 | G25: =F25/26357-1 -> -0.14774064 | H25: 1925
A26: Health Sciences | B26: 1692 | C26: 4806 | D26: 233 | E26: 5412 | F26: =SUM(B26:E26) -> 12143 | G26: =F26/12023-1 -> 0.00998087 | H26: 1015
A27: Media Center | B27: 11048 | C27: 25631 | D27: 1353 | E27: 0 | F27: =SUM(B27:E27) -> 38032 | G27: =F27/45345-1 -> -0.16127467 | H27: 4759
A28: Odegaard Undergraduate | B28: 11431 | C28: 24084 | D28: 12846 | E28: 1777 | F28: =SUM(B28:E28) -> 50138 | G28: =F28/70154-1 -> -0.28531516 | H28: 5402
A30: SEATTLE TOTAL | B30: =B9+B22+B25+B26+B27+B28 -> 105853 | C30: =C9+C22+C25+C26+C27+C28 -> 272532 | D30: =D9+D22+D25+D26+D27+D28 -> 20709 | E30: =E9+E22+E25+E26+E27+E28 -> 50088 | F30: =F9+F22+F25+F26+F27+F28 -> 449182 | G30: =F30/506945-1 -> -0.11394333 | H30: =H9+H22+H25+H26+H27+H28 -> 43591
A32: Seattle Electronic Reserves | D32: 108677 | F32: =D32 -> 108677 | G32: =F32/144876-1 -> -0.24986195
A34: Bothell/CCC | B34: 11163 | C34: 22586 | D34: 2526 | E34: 2284 | F34: =SUM(B34:E34) -> 38559 | G34: =F34/40885-1 -> -0.05689128 | H34: 6358
A35: Bothell Electronic Reserves | D35: 64227 | F35: =D35 -> 64227 | G35: =F35/77331-1 -> -0.16945339
A37: Tacoma | B37: 7835 | C37: 19606 | D37: 526 | E37: 1592 | F37: =SUM(B37:E37) -> 29559 | G37: =F37/31892-1 -> -0.073153142 | H37: 5735
A38: Tacoma Electronic Reserves | D38: 20927 | F38: =D38 -> 20927 | G38: =F38/12026-1 -> 0.74014635
A40: Streaming Media | D40: 53761 | F40: =D40 -> 53761 | G40: =F40/134593-1 -> -0.60056615
A42: ILL and Summit | B42: 10375 | C42: 33 | D42: 0 | E42: 0 | F42: =B42+C42 -> 10408 | G42: =F42/11019-1 -> -0.055449678 | H42: 0

Sheet Apr-Jun 2013
A1: Unit | B1: Initial Circ | C1: Renewals | D1: Reserves | E1: In Library use | F1: Total This Quarter | G1: Change from. 11/12 | H1: Paging
A2: Suzzallo/Allen Units
A3: Circulation | B3: 39755 | C3: 153032 | D3: 0 | E3: 13372 | F3: =SUM(B3:E3) -> 206159 | G3: =F3/228839-1 -> -0.099108981 | H3: 18375
A4: Government Publications | B4: 967 | C4: 1728 | D4: 0 | E4: 2572 | F4: =SUM(B4:E4) -> 5267 | G4: =F4/5733-1 -> -0.081283796 | H4: 343
A5: Maps | B5: 79 | C5: 591 | D5: 0 | E5: 1254 | F5: =SUM(B5:E5) -> 1924 | G5: =F5/2110-1 -> -0.088151659 | H5: 13
A6: Microforms-Newspapers | B6: 410 | C6: 0 | D6: 72 | E6: 3627 | F6: =SUM(B6:E6) -> 4109 | G6: =F6/4598-1 -> -0.10635059 | H6: 0
A7: Reference | B7: 3824 | C7: 7 | D7: 0 | E7: 0 | F7: =SUM(B7:E7) -> 3831 | G7: =F7/2283-1 -> 0.67805519 | H7: 0
A8: Special Collections | B8: 60 | C8: 3 | D8: 0 | E8: 6361 | F8: =SUM(B8:E8) -> 6424 | G8: =F8/6899-1 -> -0.068850558 | H8: 0
A9: SUZZALLO/ALLEN TOTAL | B9: =SUM(B3:B8) -> 45095 | C9: =SUM(C3:C8) -> 155361 | D9: =SUM(D3:D8) -> 72 | E9: =SUM(E3:E8) -> 27186 | F9: =SUM(B9:E9) -> 227714 | G9: =F9/251198-1 -> -0.093488005 | H9: =SUM(H3:H8) -> 18731
A11: Branch Units
A12: Art | B12: 3117 | C12: 9018 | D12: 322 | E12: 219 | F12: =SUM(B12:E12) -> 12676 | G12: =F12/14136-1 -> -0.1032824 | H12: 1035
A13: Built Environments | B13: 3478 | C13: 4188 | D13: 245 | E13: 1152 | F13: =SUM(B13:E13) -> 9063 | G13: =F13/9950-1 -> -0.089145729 | H13: 988
A14: Drama | B14: 1563 | C14: 2755 | D14: 46 | E14: 178 | F14: =SUM(B14:E14) -> 4542 | G14: =F14/5487-1 -> -0.17222526 | H14: 529
A15: Engineering | B15: 3145 | C15: 5704 | D15: 603 | E15: 768 | F15: =SUM(B15:E15) -> 10220 | G15: =F15/11961-1 -> -0.14555639 | H15: 730
A16: Foster Business | B16: 4652 | C16: 2264 | D16: 2873 | E16: 107 | F16: =SUM(B16:E16) -> 9896 | G16: =F16/9065-1 -> 0.091671263 | H16: 462
A17: Friday Harbor | B17: 250 | C17: 0 | D17: 0 | E17: 61 | F17: =SUM(B17:E17) -> 311 | G17: =F17/249-1 -> 0.24899598 | H17: 0
A18: Math. Research | B18: 1680 | C18: 4123 | D18: 1989 | E18: 717 | F18: =SUM(B18:E18) -> 8509 | G18: =F18/8084-1 -> 0.052572984 | H18: 495
A19: Music | B19: 3053 | C19: 5398 | D19: 219 | E19: 694 | F19: =SUM(B19:E19) -> 9364 | G19: =F19/11646-1 -> -0.19594711 | H19: 563
A20: Music Listening Center | B20: 396 | C20: 263 | D20: 0 | E20: 15 | F20: =SUM(B20:E20) -> 674 | G20: =F20/1255-1 -> -0.46294821 | H20: 0
A21: Physics-Astronomy | B21: 536 | C21: 2306 | D21: 426 | E21: 252 | F21: =SUM(B21:E21) -> 3520 | G21: =F21/3874-1 -> -0.09137842 | H21: 150
A22: BRANCH TOTAL | B22: =SUM(B12:B21) -> 21870 | C22: =SUM(C12:C21) -> 36019 | D22: =SUM(D12:D21) -> 6723 | E22: =SUM(E12:E21) -> 4163 | F22: =SUM(B22:E22) -> 68775 | G22: =F22/75707-1 -> -0.091563528 | H22: =SUM(H12:H21) -> 4952
A24: Other Units
A25: East Asia | B25: 4049 | C25: 17448 | D25: 1303 | E25: 753 | F25: =SUM(B25:E25) -> 23553 | G25: =F25/25568-1 -> -0.078809449 | H25: 1500
A26: Health Sciences | B26: 1753 | C26: 5042 | D26: 87 | E26: 4676 | F26: =SUM(B26:E26) -> 11558 | G26: =F26/11339-1 -> 0.019313872 | H26: 859
A27: Media Center | B27: 9148 | C27: 22416 | D27: 946 | E27: 3 | F27: =SUM(B27:E27) -> 32513 | G27: =F27/40568-1 -> -0.19855551 | H27: 3353
A28: Odegaard Undergraduate | B28: 10696 | C28: 22922 | D28: 11813 | E28: 1106 | F28: =SUM(B28:E28) -> 46537 | G28: =F28/65125-1 -> -0.28542035 | H28: 4325
A30: SEATTLE TOTAL | B30: =B9+B22+B25+B26+B27+B28 -> 92611 | C30: =C9+C22+C25+C26+C27+C28 -> 259208 | D30: =D9+D22+D25+D26+D27+D28 -> 20944 | E30: =E9+E22+E25+E26+E27+E28 -> 37887 | F30: =SUM(B30:E30) -> 410650 | G30: =F30/459505-1 -> -0.10632093 | H30: =H9+H22+H25+H26+H27+H28 -> 33720
A32: Seattle Electronic Reserves | D32: 80643 | F32: =SUM(B32:E32) -> 80643 | G32: =F32/120246-1 -> -0.32934983
A34: Bothell/CCC | B34: 10156 | C34: 22752 | D34: 2551 | E34: 2003 | F34: =SUM(B34:E34) -> 37462 | G34: =F34/37805-1 -> -0.009072874 | H34: 4882
A35: Bothell Electronic Reserves | D35: 66440 | F35: =SUM(B35:E35) -> 66440 | G35: =F35/58953-1 -> 0.12699947
A37: Tacoma | B37: 4189 | C37: 13373 | D37: 407 | E37: 1245 | F37: =SUM(B37:E37) -> 19214 | G37: =F37/30864-1 -> -0.37746242 | H37: 4244
A38: Tacoma Electronic Reserves | D38: 16511 | F38: =SUM(B38:E38) -> 16511 | G38: =F38/16498-1 -> 0.0007879743
A40: Streaming Media | D40: 69761 | F40: =D40 -> 69761 | G40: =F40/60146-1 -> 0.159861
A42: ILL and Summit | B42: 8968 | C42: 37 | D42: 0 | E42: 0 | F42: =SUM(B42:E42) -> 9005 | G42: =F42/10223-1 -> -0.11914311 | H42: 0

Sheet Annual 2013
A1: Unit | B1: Initial Circ | C1: Renewals | D1: Reserves | E1: In Library use | F1: Total This Year | G1: Change from. 11/12 | H1: Paging
A2: Suzzallo/Allen Units
A3: Circulation | B3: ='Jul-Sep 2012'!B3+'Oct-Dec 2012'!B3+'Jan-Mar 2013'!B3+'Apr-Jun 2013'!B3 -> 162448 | C3: ='Jul-Sep 2012'!C3+'Oct-Dec 2012'!C3+'Jan-Mar 2013'!C3+'Apr-Jun 2013'!C3 -> 613843 | D3: ='Jul-Sep 2012'!D3+'Oct-Dec 2012'!D3+'Jan-Mar 2013'!D3+'Apr-Jun 2013'!D3 -> 0 | E3: ='Jul-Sep 2012'!E3+'Oct-Dec 2012'!E3+'Jan-Mar 2013'!E3+'Apr-Jun 2013'!E3 -> 58917 | F3: ='Jul-Sep 2012'!F3+'Oct-Dec 2012'!F3+'Jan-Mar 2013'!F3+'Apr-Jun 2013'!F3 -> 835208 | G3: =F3/898858-1 -> -0.070812075 | H3: ='Jul-Sep 2012'!H3+'Oct-Dec 2012'!H3+'Jan-Mar 2013'!H3+'Apr-Jun 2013'!H3 -> 77922
A4: Government Publications | B4: ='Jul-Sep 2012'!B4+'Oct-Dec 2012'!B4+'Jan-Mar 2013'!B4+'Apr-Jun 2013'!B4 -> 3579 | C4: ='Jul-Sep 2012'!C4+'Oct-Dec 2012'!C4+'Jan-Mar 2013'!C4+'Apr-Jun 2013'!C4 -> 6649 | D4: ='Jul-Sep 2012'!D4+'Oct-Dec 2012'!D4+'Jan-Mar 2013'!D4+'Apr-Jun 2013'!D4 -> 0 | E4: ='Jul-Sep 2012'!E4+'Oct-Dec 2012'!E4+'Jan-Mar 2013'!E4+'Apr-Jun 2013'!E4 -> 10794 | F4: ='Jul-Sep 2012'!F4+'Oct-Dec 2012'!F4+'Jan-Mar 2013'!F4+'Apr-Jun 2013'!F4 -> 21022 | G4: =F4/21242-1 -> -0.01035684 | H4: ='Jul-Sep 2012'!H4+'Oct-Dec 2012'!H4+'Jan-Mar 2013'!H4+'Apr-Jun 2013'!H4 -> 1184
A5: Maps | B5: ='Jul-Sep 2012'!B5+'Oct-Dec 2012'!B5+'Jan-Mar 2013'!B5+'Apr-Jun 2013'!B5 -> 538 | C5: ='Jul-Sep 2012'!C5+'Oct-Dec 2012'!C5+'Jan-Mar 2013'!C5+'Apr-Jun 2013'!C5 -> 2724 | D5: ='Jul-Sep 2012'!D5+'Oct-Dec 2012'!D5+'Jan-Mar 2013'!D5+'Apr-Jun 2013'!D5 -> 0 | E5: ='Jul-Sep 2012'!E5+'Oct-Dec 2012'!E5+'Jan-Mar 2013'!E5+'Apr-Jun 2013'!E5 -> 11452 | F5: ='Jul-Sep 2012'!F5+'Oct-Dec 2012'!F5+'Jan-Mar 2013'!F5+'Apr-Jun 2013'!F5 -> 14714 | G5: =F5/8318-1 -> 0.76893484 | H5: ='Jul-Sep 2012'!H5+'Oct-Dec 2012'!H5+'Jan-Mar 2013'!H5+'Apr-Jun 2013'!H5 -> 80
A6: Microforms-Newspapers | B6: ='Jul-Sep 2012'!B6+'Oct-Dec 2012'!B6+'Jan-Mar 2013'!B6+'Apr-Jun 2013'!B6 -> 1585 | C6: ='Jul-Sep 2012'!C6+'Oct-Dec 2012'!C6+'Jan-Mar 2013'!C6+'Apr-Jun 2013'!C6 -> 2 | D6: ='Jul-Sep 2012'!D6+'Oct-Dec 2012'!D6+'Jan-Mar 2013'!D6+'Apr-Jun 2013'!D6 -> 1421 | E6: ='Jul-Sep 2012'!E6+'Oct-Dec 2012'!E6+'Jan-Mar 2013'!E6+'Apr-Jun 2013'!E6 -> 15320 | F6: ='Jul-Sep 2012'!F6+'Oct-Dec 2012'!F6+'Jan-Mar 2013'!F6+'Apr-Jun 2013'!F6 -> 18328 | G6: =F6/23546-1 -> -0.22160877 | H6: ='Jul-Sep 2012'!H6+'Oct-Dec 2012'!H6+'Jan-Mar 2013'!H6+'Apr-Jun 2013'!H6 -> 0
A7: Reference | B7: ='Jul-Sep 2012'!B7+'Oct-Dec 2012'!B7+'Jan-Mar 2013'!B7+'Apr-Jun 2013'!B7 -> 13024 | C7: ='Jul-Sep 2012'!C7+'Oct-Dec 2012'!C7+'Jan-Mar 2013'!C7+'Apr-Jun 2013'!C7 -> 16 | D7: ='Jul-Sep 2012'!D7+'Oct-Dec 2012'!D7+'Jan-Mar 2013'!D7+'Apr-Jun 2013'!D7 -> 0 | E7: ='Jul-Sep 2012'!E7+'Oct-Dec 2012'!E7+'Jan-Mar 2013'!E7+'Apr-Jun 2013'!E7 -> 4 | F7: ='Jul-Sep 2012'!F7+'Oct-Dec 2012'!F7+'Jan-Mar 2013'!F7+'Apr-Jun 2013'!F7 -> 13044 | G7: =F7/8029-1 -> 0.62461079 | H7: ='Jul-Sep 2012'!H7+'Oct-Dec 2012'!H7+'Jan-Mar 2013'!H7+'Apr-Jun 2013'!H7 -> 0
A8: Special Collections | B8: ='Jul-Sep 2012'!B8+'Oct-Dec 2012'!B8+'Jan-Mar 2013'!B8+'Apr-Jun 2013'!B8 -> 131 | C8: ='Jul-Sep 2012'!C8+'Oct-Dec 2012'!C8+'Jan-Mar 2013'!C8+'Apr-Jun 2013'!C8 -> 67 | D8: ='Jul-Sep 2012'!D8+'Oct-Dec 2012'!D8+'Jan-Mar 2013'!D8+'Apr-Jun 2013'!D8 -> 0 | E8: ='Jul-Sep 2012'!E8+'Oct-Dec 2012'!E8+'Jan-Mar 2013'!E8+'Apr-Jun 2013'!E8 -> 25280 | F8: ='Jul-Sep 2012'!F8+'Oct-Dec 2012'!F8+'Jan-Mar 2013'!F8+'Apr-Jun 2013'!F8 -> 25478 | G8: =F8/26128-1 -> -0.024877526 | H8: ='Jul-Sep 2012'!H8+'Oct-Dec 2012'!H8+'Jan-Mar 2013'!H8+'Apr-Jun 2013'!H8 -> 0
A9: SUZZALLO/ALLEN TOTAL | B9: ='Jul-Sep 2012'!B9+'Oct-Dec 2012'!B9+'Jan-Mar 2013'!B9+'Apr-Jun 2013'!B9 -> 181305 | C9: ='Jul-Sep 2012'!C9+'Oct-Dec 2012'!C9+'Jan-Mar 2013'!C9+'Apr-Jun 2013'!C9 -> 623301 | D9: ='Jul-Sep 2012'!D9+'Oct-Dec 2012'!D9+'Jan-Mar 2013'!D9+'Apr-Jun 2013'!D9 -> 1421 | E9: ='Jul-Sep 2012'!E9+'Oct-Dec 2012'!E9+'Jan-Mar 2013'!E9+'Apr-Jun 2013'!E9 -> 121767 | F9: ='Jul-Sep 2012'!F9+'Oct-Dec 2012'!F9+'Jan-Mar 2013'!F9+'Apr-Jun 2013'!F9 -> 927794 | G9: =F9/989255-1 -> -0.062128572 | H9: ='Jul-Sep 2012'!H9+'Oct-Dec 2012'!H9+'Jan-Mar 2013'!H9+'Apr-Jun 2013'!H9 -> 79186
A11: Branch Units
A12: Art | B12: ='Jul-Sep 2012'!B12+'Oct-Dec 2012'!B12+'Jan-Mar 2013'!B12+'Apr-Jun 2013'!B12 -> 12994 | C12: ='Jul-Sep 2012'!C12+'Oct-Dec 2012'!C12+'Jan-Mar 2013'!C12+'Apr-Jun 2013'!C12 -> 33147 | D12: ='Jul-Sep 2012'!D12+'Oct-Dec 2012'!D12+'Jan-Mar 2013'!D12+'Apr-Jun 2013'!D12 -> 1280 | E12: ='Jul-Sep 2012'!E12+'Oct-Dec 2012'!E12+'Jan-Mar 2013'!E12+'Apr-Jun 2013'!E12 -> 5759 | F12: ='Jul-Sep 2012'!F12+'Oct-Dec 2012'!F12+'Jan-Mar 2013'!F12+'Apr-Jun 2013'!F12 -> 53180 | G12: =F12/53485-1 -> -0.0057025334 | H12: ='Jul-Sep 2012'!H12+'Oct-Dec 2012'!H12+'Jan-Mar 2013'!H12+'Apr-Jun 2013'!H12 -> 4652
A13: Built Environments | B13: ='Jul-Sep 2012'!B13+'Oct-Dec 2012'!B13+'Jan-Mar 2013'!B13+'Apr-Jun 2013'!B13 -> 12445 | C13: ='Jul-Sep 2012'!C13+'Oct-Dec 2012'!C13+'Jan-Mar 2013'!C13+'Apr-Jun 2013'!C13 -> 18613 | D13: ='Jul-Sep 2012'!D13+'Oct-Dec 2012'!D13+'Jan-Mar 2013'!D13+'Apr-Jun 2013'!D13 -> 1217 | E13: ='Jul-Sep 2012'!E13+'Oct-Dec 2012'!E13+'Jan-Mar 2013'!E13+'Apr-Jun 2013'!E13 -> 3953 | F13: ='Jul-Sep 2012'!F13+'Oct-Dec 2012'!F13+'Jan-Mar 2013'!F13+'Apr-Jun 2013'!F13 -> 36228 | G13: =F13/36296-1 -> -0.0018734847 | H13: ='Jul-Sep 2012'!H13+'Oct-Dec 2012'!H13+'Jan-Mar 2013'!H13+'Apr-Jun 2013'!H13 -> 3763
A14: Drama | B14: ='Jul-Sep 2012'!B14+'Oct-Dec 2012'!B14+'Jan-Mar 2013'!B14+'Apr-Jun 2013'!B14 -> 7384 | C14: ='Jul-Sep 2012'!C14+'Oct-Dec 2012'!C14+'Jan-Mar 2013'!C14+'Apr-Jun 2013'!C14 -> 11540 | D14: ='Jul-Sep 2012'!D14+'Oct-Dec 2012'!D14+'Jan-Mar 2013'!D14+'Apr-Jun 2013'!D14 -> 206 | E14: ='Jul-Sep 2012'!E14+'Oct-Dec 2012'!E14+'Jan-Mar 2013'!E14+'Apr-Jun 2013'!E14 -> 1168 | F14: ='Jul-Sep 2012'!F14+'Oct-Dec 2012'!F14+'Jan-Mar 2013'!F14+'Apr-Jun 2013'!F14 -> 20298 | G14: =F14/21799-1 -> -0.06885637 | H14: ='Jul-Sep 2012'!H14+'Oct-Dec 2012'!H14+'Jan-Mar 2013'!H14+'Apr-Jun 2013'!H14 -> 2125
A15: Engineering | B15: ='Jul-Sep 2012'!B15+'Oct-Dec 2012'!B15+'Jan-Mar 2013'!B15+'Apr-Jun 2013'!B15 -> 12960 | C15: ='Jul-Sep 2012'!C15+'Oct-Dec 2012'!C15+'Jan-Mar 2013'!C15+'Apr-Jun 2013'!C15 -> 23794 | D15: ='Jul-Sep 2012'!D15+'Oct-Dec 2012'!D15+'Jan-Mar 2013'!D15+'Apr-Jun 2013'!D15 -> 2174 | E15: ='Jul-Sep 2012'!E15+'Oct-Dec 2012'!E15+'Jan-Mar 2013'!E15+'Apr-Jun 2013'!E15 -> 3835 | F15: ='Jul-Sep 2012'!F15+'Oct-Dec 2012'!F15+'Jan-Mar 2013'!F15+'Apr-Jun 2013'!F15 -> 42763 | G15: =F15/44486-1 -> -0.038731286 | H15: ='Jul-Sep 2012'!H15+'Oct-Dec 2012'!H15+'Jan-Mar 2013'!H15+'Apr-Jun 2013'!H15 -> 3488
A16: Foster Business | B16: ='Jul-Sep 2012'!B16+'Oct-Dec 2012'!B16+'Jan-Mar 2013'!B16+'Apr-Jun 2013'!B16 -> 16088 | C16: ='Jul-Sep 2012'!C16+'Oct-Dec 2012'!C16+'Jan-Mar 2013'!C16+'Apr-Jun 2013'!C16 -> 8594 | D16: ='Jul-Sep 2012'!D16+'Oct-Dec 2012'!D16+'Jan-Mar 2013'!D16+'Apr-Jun 2013'!D16 -> 8853 | E16: ='Jul-Sep 2012'!E16+'Oct-Dec 2012'!E16+'Jan-Mar 2013'!E16+'Apr-Jun 2013'!E16 -> 666 | F16: ='Jul-Sep 2012'!F16+'Oct-Dec 2012'!F16+'Jan-Mar 2013'!F16+'Apr-Jun 2013'!F16 -> 34201 | G16: =F16/33441-1 -> 0.022726593 | H16: ='Jul-Sep 2012'!H16+'Oct-Dec 2012'!H16+'Jan-Mar 2013'!H16+'Apr-Jun 2013'!H16 -> 2145
A17: Friday Harbor | B17: ='Jul-Sep 2012'!B17+'Oct-Dec 2012'!B17+'Jan-Mar 2013'!B17+'Apr-Jun 2013'!B17 -> 823 | C17: ='Jul-Sep 2012'!C17+'Oct-Dec 2012'!C17+'Jan-Mar 2013'!C17+'Apr-Jun 2013'!C17 -> 5 | D17: ='Jul-Sep 2012'!D17+'Oct-Dec 2012'!D17+'Jan-Mar 2013'!D17+'Apr-Jun 2013'!D17 -> 0 | E17: ='Jul-Sep 2012'!E17+'Oct-Dec 2012'!E17+'Jan-Mar 2013'!E17+'Apr-Jun 2013'!E17 -> 237 | F17: ='Jul-Sep 2012'!F17+'Oct-Dec 2012'!F17+'Jan-Mar 2013'!F17+'Apr-Jun 2013'!F17 -> 1065 | G17: =F17/1137-1 -> -0.063324538 | H17: ='Jul-Sep 2012'!H17+'Oct-Dec 2012'!H17+'Jan-Mar 2013'!H17+'Apr-Jun 2013'!H17 -> 0
A18: Math. Research | B18: ='Jul-Sep 2012'!B18+'Oct-Dec 2012'!B18+'Jan-Mar 2013'!B18+'Apr-Jun 2013'!B18 -> 6904 | C18: ='Jul-Sep 2012'!C18+'Oct-Dec 2012'!C18+'Jan-Mar 2013'!C18+'Apr-Jun 2013'!C18 -> 17637 | D18: ='Jul-Sep 2012'!D18+'Oct-Dec 2012'!D18+'Jan-Mar 2013'!D18+'Apr-Jun 2013'!D18 -> 2716 | E18: ='Jul-Sep 2012'!E18+'Oct-Dec 2012'!E18+'Jan-Mar 2013'!E18+'Apr-Jun 2013'!E18 -> 3462 | F18: ='Jul-Sep 2012'!F18+'Oct-Dec 2012'!F18+'Jan-Mar 2013'!F18+'Apr-Jun 2013'!F18 -> 30719 | G18: =F18/31798-1 -> -0.033932952 | H18: ='Jul-Sep 2012'!H18+'Oct-Dec 2012'!H18+'Jan-Mar 2013'!H18+'Apr-Jun 2013'!H18 -> 2373
A19: Music | B19: ='Jul-Sep 2012'!B19+'Oct-Dec 2012'!B19+'Jan-Mar 2013'!B19+'Apr-Jun 2013'!B19 -> 13026 | C19: ='Jul-Sep 2012'!C19+'Oct-Dec 2012'!C19+'Jan-Mar 2013'!C19+'Apr-Jun 2013'!C19 -> 23530 | D19: ='Jul-Sep 2012'!D19+'Oct-Dec 2012'!D19+'Jan-Mar 2013'!D19+'Apr-Jun 2013'!D19 -> 879 | E19: ='Jul-Sep 2012'!E19+'Oct-Dec 2012'!E19+'Jan-Mar 2013'!E19+'Apr-Jun 2013'!E19 -> 2672 | F19: ='Jul-Sep 2012'!F19+'Oct-Dec 2012'!F19+'Jan-Mar 2013'!F19+'Apr-Jun 2013'!F19 -> 40107 | G19: =F19/42972-1 -> -0.066671321 | H19: ='Jul-Sep 2012'!H19+'Oct-Dec 2012'!H19+'Jan-Mar 2013'!H19+'Apr-Jun 2013'!H19 -> 2477
A20: Music Listening Center | B20: ='Jul-Sep 2012'!B20+'Oct-Dec 2012'!B20+'Jan-Mar 2013'!B20+'Apr-Jun 2013'!B20 -> 1507 | C20: ='Jul-Sep 2012'!C20+'Oct-Dec 2012'!C20+'Jan-Mar 2013'!C20+'Apr-Jun 2013'!C20 -> 969 | D20: ='Jul-Sep 2012'!D20+'Oct-Dec 2012'!D20+'Jan-Mar 2013'!D20+'Apr-Jun 2013'!D20 -> 454 | E20: ='Jul-Sep 2012'!E20+'Oct-Dec 2012'!E20+'Jan-Mar 2013'!E20+'Apr-Jun 2013'!E20 -> 20 | F20: ='Jul-Sep 2012'!F20+'Oct-Dec 2012'!F20+'Jan-Mar 2013'!F20+'Apr-Jun 2013'!F20 -> 2950 | G20: =F20/4432-1 -> -0.33438628 | H20: ='Jul-Sep 2012'!H20+'Oct-Dec 2012'!H20+'Jan-Mar 2013'!H20+'Apr-Jun 2013'!H20 -> 41
A21: Physics-Astronomy | B21: ='Jul-Sep 2012'!B21+'Oct-Dec 2012'!B21+'Jan-Mar 2013'!B21+'Apr-Jun 2013'!B21 -> 2195 | C21: ='Jul-Sep 2012'!C21+'Oct-Dec 2012'!C21+'Jan-Mar 2013'!C21+'Apr-Jun 2013'!C21 -> 10118 | D21: ='Jul-Sep 2012'!D21+'Oct-Dec 2012'!D21+'Jan-Mar 2013'!D21+'Apr-Jun 2013'!D21 -> 1570 | E21: ='Jul-Sep 2012'!E21+'Oct-Dec 2012'!E21+'Jan-Mar 2013'!E21+'Apr-Jun 2013'!E21 -> 917 | F21: ='Jul-Sep 2012'!F21+'Oct-Dec 2012'!F21+'Jan-Mar 2013'!F21+'Apr-Jun 2013'!F21 -> 14800 | G21: =F21/16458-1 -> -0.10074128 | H21: ='Jul-Sep 2012'!H21+'Oct-Dec 2012'!H21+'Jan-Mar 2013'!H21+'Apr-Jun 2013'!H21 -> 741
A22: BRANCH TOTAL | B22: ='Jul-Sep 2012'!B22+'Oct-Dec 2012'!B22+'Jan-Mar 2013'!B22+'Apr-Jun 2013'!B22 -> 86326 | C22: ='Jul-Sep 2012'!C22+'Oct-Dec 2012'!C22+'Jan-Mar 2013'!C22+'Apr-Jun 2013'!C22 -> 147947 | D22: ='Jul-Sep 2012'!D22+'Oct-Dec 2012'!D22+'Jan-Mar 2013'!D22+'Apr-Jun 2013'!D22 -> 19349 | E22: ='Jul-Sep 2012'!E22+'Oct-Dec 2012'!E22+'Jan-Mar 2013'!E22+'Apr-Jun 2013'!E22 -> 22689 | F22: ='Jul-Sep 2012'!F22+'Oct-Dec 2012'!F22+'Jan-Mar 2013'!F22+'Apr-Jun 2013'!F22 -> 276311 | G22: =F22/286304-1 -> -0.034903459 | H22: ='Jul-Sep 2012'!H22+'Oct-Dec 2012'!H22+'Jan-Mar 2013'!H22+'Apr-Jun 2013'!H22 -> 21805
A24: Other Units
A25: East Asia | B25: ='Jul-Sep 2012'!B25+'Oct-Dec 2012'!B25+'Jan-Mar 2013'!B25+'Apr-Jun 2013'!B25 -> 15655 | C25: ='Jul-Sep 2012'!C25+'Oct-Dec 2012'!C25+'Jan-Mar 2013'!C25+'Apr-Jun 2013'!C25 -> 69373 | D25: ='Jul-Sep 2012'!D25+'Oct-Dec 2012'!D25+'Jan-Mar 2013'!D25+'Apr-Jun 2013'!D25 -> 1839 | E25: ='Jul-Sep 2012'!E25+'Oct-Dec 2012'!E25+'Jan-Mar 2013'!E25+'Apr-Jun 2013'!E25 -> 3155 | F25: ='Jul-Sep 2012'!F25+'Oct-Dec 2012'!F25+'Jan-Mar 2013'!F25+'Apr-Jun 2013'!F25 -> 90022 | G25: =F25/106634-1 -> -0.15578521 | H25: ='Jul-Sep 2012'!H25+'Oct-Dec 2012'!H25+'Jan-Mar 2013'!H25+'Apr-Jun 2013'!H25 -> 6308
A26: Health Sciences | B26: ='Jul-Sep 2012'!B26+'Oct-Dec 2012'!B26+'Jan-Mar 2013'!B26+'Apr-Jun 2013'!B26 -> 6830 | C26: ='Jul-Sep 2012'!C26+'Oct-Dec 2012'!C26+'Jan-Mar 2013'!C26+'Apr-Jun 2013'!C26 -> 19911 | D26: ='Jul-Sep 2012'!D26+'Oct-Dec 2012'!D26+'Jan-Mar 2013'!D26+'Apr-Jun 2013'!D26 -> 608 | E26: ='Jul-Sep 2012'!E26+'Oct-Dec 2012'!E26+'Jan-Mar 2013'!E26+'Apr-Jun 2013'!E26 -> 20517 | F26: ='Jul-Sep 2012'!F26+'Oct-Dec 2012'!F26+'Jan-Mar 2013'!F26+'Apr-Jun 2013'!F26 -> 47866 | G26: =F26/47491-1 -> 0.007896233 | H26: ='Jul-Sep 2012'!H26+'Oct-Dec 2012'!H26+'Jan-Mar 2013'!H26+'Apr-Jun 2013'!H26 -> 3829
A27: Media Center | B27: ='Jul-Sep 2012'!B27+'Oct-Dec 2012'!B27+'Jan-Mar 2013'!B27+'Apr-Jun 2013'!B27 -> 39875 | C27: ='Jul-Sep 2012'!C27+'Oct-Dec 2012'!C27+'Jan-Mar 2013'!C27+'Apr-Jun 2013'!C27 -> 100282 | D27: ='Jul-Sep 2012'!D27+'Oct-Dec 2012'!D27+'Jan-Mar 2013'!D27+'Apr-Jun 2013'!D27 -> 3723 | E27: ='Jul-Sep 2012'!E27+'Oct-Dec 2012'!E27+'Jan-Mar 2013'!E27+'Apr-Jun 2013'!E27 -> 3 | F27: ='Jul-Sep 2012'!F27+'Oct-Dec 2012'!F27+'Jan-Mar 2013'!F27+'Apr-Jun 2013'!F27 -> 143883 | G27: =F27/164830-1 -> -0.12708245 | H27: ='Jul-Sep 2012'!H27+'Oct-Dec 2012'!H27+'Jan-Mar 2013'!H27+'Apr-Jun 2013'!H27 -> 16213
A28: Odegaard Undergraduate | B28: ='Jul-Sep 2012'!B28+'Oct-Dec 2012'!B28+'Jan-Mar 2013'!B28+'Apr-Jun 2013'!B28 -> 43225 | C28: ='Jul-Sep 2012'!C28+'Oct-Dec 2012'!C28+'Jan-Mar 2013'!C28+'Apr-Jun 2013'!C28 -> 100618 | D28: ='Jul-Sep 2012'!D28+'Oct-Dec 2012'!D28+'Jan-Mar 2013'!D28+'Apr-Jun 2013'!D28 -> 37615 | E28: ='Jul-Sep 2012'!E28+'Oct-Dec 2012'!E28+'Jan-Mar 2013'!E28+'Apr-Jun 2013'!E28 -> 4222 | F28: ='Jul-Sep 2012'!F28+'Oct-Dec 2012'!F28+'Jan-Mar 2013'!F28+'Apr-Jun 2013'!F28 -> 185680 | G28: =F28/243182-1 -> -0.23645665 | H28: ='Jul-Sep 2012'!H28+'Oct-Dec 2012'!H28+'Jan-Mar 2013'!H28+'Apr-Jun 2013'!H28 -> 18682
A30: SEATTLE TOTAL | B30: ='Jul-Sep 2012'!B30+'Oct-Dec 2012'!B30+'Jan-Mar 2013'!B30+'Apr-Jun 2013'!B30 -> 373216 | C30: ='Jul-Sep 2012'!C30+'Oct-Dec 2012'!C30+'Jan-Mar 2013'!C30+'Apr-Jun 2013'!C30 -> 1061432 | D30: ='Jul-Sep 2012'!D30+'Oct-Dec 2012'!D30+'Jan-Mar 2013'!D30+'Apr-Jun 2013'!D30 -> 64555 | E30: ='Jul-Sep 2012'!E30+'Oct-Dec 2012'!E30+'Jan-Mar 2013'!E30+'Apr-Jun 2013'!E30 -> 172353 | F30: ='Jul-Sep 2012'!F30+'Oct-Dec 2012'!F30+'Jan-Mar 2013'!F30+'Apr-Jun 2013'!F30 -> 1671556 | G30: =F30/1837696-1 -> -0.090406683 | H30: ='Jul-Sep 2012'!H30+'Oct-Dec 2012'!H30+'Jan-Mar 2013'!H30+'Apr-Jun 2013'!H30 -> 146023
A32: Seattle Electronic Reserves | D32: ='Jul-Sep 2012'!D32+'Oct-Dec 2012'!D32+'Jan-Mar 2013'!D32+'Apr-Jun 2013'!D32 -> 312760 | F32: ='Jul-Sep 2012'!F32+'Oct-Dec 2012'!F32+'Jan-Mar 2013'!F32+'Apr-Jun 2013'!F32 -> 312760 | G32: =F32/433379-1 -> -0.27832221 | H32: ='Jul-Sep 2012'!H32+'Oct-Dec 2012'!H32+'Jan-Mar 2013'!H32+'Apr-Jun 2013'!H32 -> 0
A34: Bothell/CCC | B34: ='Jul-Sep 2012'!B34+'Oct-Dec 2012'!B34+'Jan-Mar 2013'!B34+'Apr-Jun 2013'!B34 -> 38590 | C34: ='Jul-Sep 2012'!C34+'Oct-Dec 2012'!C34+'Jan-Mar 2013'!C34+'Apr-Jun 2013'!C34 -> 85718 | D34: ='Jul-Sep 2012'!D34+'Oct-Dec 2012'!D34+'Jan-Mar 2013'!D34+'Apr-Jun 2013'!D34 -> 7911 | E34: ='Jul-Sep 2012'!E34+'Oct-Dec 2012'!E34+'Jan-Mar 2013'!E34+'Apr-Jun 2013'!E34 -> 7730 | F34: ='Jul-Sep 2012'!F34+'Oct-Dec 2012'!F34+'Jan-Mar 2013'!F34+'Apr-Jun 2013'!F34 -> 139949 | G34: =F34/144331-1 -> -0.030360768 | H34: ='Jul-Sep 2012'!H34+'Oct-Dec 2012'!H34+'Jan-Mar 2013'!H34+'Apr-Jun 2013'!H34 -> 21250
A35: Bothell Electronic Reserves | D35: ='Jul-Sep 2012'!D35+'Oct-Dec 2012'!D35+'Jan-Mar 2013'!D35+'Apr-Jun 2013'!D35 -> 224360 | F35: ='Jul-Sep 2012'!F35+'Oct-Dec 2012'!F35+'Jan-Mar 2013'!F35+'Apr-Jun 2013'!F35 -> 224360 | G35: =F35/231877-1 -> -0.032418049 | H35: ='Jul-Sep 2012'!H35+'Oct-Dec 2012'!H35+'Jan-Mar 2013'!H35+'Apr-Jun 2013'!H35 -> 0
A37: Tacoma | B37: ='Jul-Sep 2012'!B37+'Oct-Dec 2012'!B37+'Jan-Mar 2013'!B37+'Apr-Jun 2013'!B37 -> 24158 | C37: ='Jul-Sep 2012'!C37+'Oct-Dec 2012'!C37+'Jan-Mar 2013'!C37+'Apr-Jun 2013'!C37 -> 70633 | D37: ='Jul-Sep 2012'!D37+'Oct-Dec 2012'!D37+'Jan-Mar 2013'!D37+'Apr-Jun 2013'!D37 -> 1945 | E37: ='Jul-Sep 2012'!E37+'Oct-Dec 2012'!E37+'Jan-Mar 2013'!E37+'Apr-Jun 2013'!E37 -> 4962 | F37: ='Jul-Sep 2012'!F37+'Oct-Dec 2012'!F37+'Jan-Mar 2013'!F37+'Apr-Jun 2013'!F37 -> 101698 | G37: =F37/114913-1 -> -0.11500004 | H37: ='Jul-Sep 2012'!H41+'Oct-Dec 2012'!H37+'Jan-Mar 2013'!H37+'Apr-Jun 2013'!H37 -> 15140
A38: Tacoma Electronic Reserves | D38: ='Jul-Sep 2012'!D38+'Oct-Dec 2012'!D38+'Jan-Mar 2013'!D38+'Apr-Jun 2013'!D38 -> 68348 | F38: ='Jul-Sep 2012'!F38+'Oct-Dec 2012'!F38+'Jan-Mar 2013'!F38+'Apr-Jun 2013'!F38 -> 68348 | G38: =F38/56093-1 -> 0.21847646 | H38: 0
A40: Streaming Media | D40: ='Jul-Sep 2012'!D40+'Oct-Dec 2012'!D40+'Jan-Mar 2013'!D40+'Apr-Jun 2013'!D40 -> 187054 | F40: ='Jul-Sep 2012'!F40+'Oct-Dec 2012'!F40+'Jan-Mar 2013'!F40+'Apr-Jun 2013'!F40 -> 187054 | G40: =F40/253306-1 -> -0.26154927
A42: ILL and Summit | B42: ='Jul-Sep 2012'!B42+'Oct-Dec 2012'!B42+'Jan-Mar 2013'!B42+'Apr-Jun 2013'!B42 -> 34478 | C42: ='Jul-Sep 2012'!C42+'Oct-Dec 2012'!C42+'Jan-Mar 2013'!C42+'Apr-Jun 2013'!C42 -> 99 | D42: 0 | E42: 0 | F42: ='Jul-Sep 2012'!F42+'Oct-Dec 2012'!F42+'Jan-Mar 2013'!F42+'Apr-Jun 2013'!F42 -> 34581 | G42: =F42/37162-1 -> -0.069452667 | H42: 0
